Workbook

Sheet Datos
T2: normal horario | X2: ELS | AD2: ELS_horario | AJ2: ELS_SMA3 | AO2: ELS_SMA3_horario | AR2: ELS_EMA200 | AW2: EMA200 | BA2: SAR | BE2: EMA200_horario | BI2: ELS_EMA200_Horario
D3: TP | E3: 200 | J3: SL | K3: 50 | L3: Spread | M3: 4 | Q3: H.inicio | R3: 5 | T3: media | U3: =Q6/A6 -> 6.259481 | Z3: ELS | AA3: TP | AB3: SL | AV3: =AU6/AV6 -> 0.53448276
N4: PIP | Q4: H.fin | R4: 18 | Z4: 30 | AA4: 160 | AB4: 100 | AC4: =AC6/X6 -> 0.50461538 | AH4: =AH6/AG6 -> 0.548 | AK4: =AK6/AL6 -> 0.52329749 | AQ4: =AQ6/AP6 -> 0.57674419 | AZ4: =AY6/AZ6 -> 0.34241245 | BD4: =BD6/BC6 -> 0.39516129 | BH4: =BH6/BG6 -> 0.38341969 | BL4: =BL6/BK6 -> 0.56934307
B5: DIA | C5: HORA | D5: CRUCE | E5: Buy(0) Sell(1) | F5: MAX | G5: MAX_Prev | H5: SL | I5: Max_Prev_A | J5: SAR | K5: MIN | L5: ORDEN(Max(0),Min(1)) | M5: CIERRE | N5: MAX | O5: SL | P5: SAR | R5: Aciertos | S5: =S6/A6 -> 0.32335329 | W5: =W6/V6 -> 0.36118598 | BA5: SAR
A6: =SUM(A7:A1001) -> 501 | N6: =SUM(N7:N1001) -> 172708 | O6: =SUM(O7:O1001) -> 47336 | P6: =SUM(P7:P1001) -> 17195 | Q6: =SUM(Q7:Q1001) -> 3136 | S6: =SUM(S7:S1001) -> 162 | T6: =SUM(T7:T1001) -> 4543 | V6: =SUM(V7:V1001) -> 371 | W6: =SUM(W7:W1001) -> 134 | X6: =SUM(X7:X1001) -> 325 | Y6: MxV | Z6: =SUM(Z7:Z1001) -> 7947 | AA6: =SUM(AA7:AA1001) -> 6834 | AC6: =SUM(AC7:AC1001) -> 164 | AD6: =SUM(AD7:AD1001) -> 371 | AE6: =SUM(AE7:AE1001) -> 8344 | AG6: =SUM(AG7:AG1001) -> 250 | AH6: =SUM(AH7:AH1001) -> 137 | AI6: =SUM(AI7:AI1000) -> 429 | AJ6: =SUM(AJ7:AJ1000) -> 6839 | AK6: =SUM(AK7:AK1000) -> 146 | AL6: =SUM(AL7:AL1000) -> 279 | AN6: =SUM(AN7:AN1000) -> 8337 | AP6: =SUM(AP7:AP1000) -> 215 | AQ6: =SUM(AQ7:AQ1000) -> 124 | AR6: EMA200 | AS6: =SUM(AS7:AS1000) -> 4799 | AU6: =SUM(AU7:AU1000) -> 93 | AV6: =SUM(AV7:AV1000) -> 174 | AW6: =SUM(AW7:AW1000) -> 2474 | AY6: =SUM(AY7:AY1000) -> 88 | AZ6: =SUM(AZ7:AZ1000) -> 257 | BA6: =SUM(BA7:BA1000) -> 305 | BB6: =SUM(BB7:BB1000) -> 1909 | BC6: =SUM(BC7:BC1000) -> 124 | BD6: =SUM(BD7:BD1000) -> 49 | BE6: =SUM(BE7:BE1000) -> 3045 | BG6: =SUM(BG7:BG1000) -> 193 | BH6: =SUM(BH7:BH1000) -> 74 | BI6: =SUM(BI7:BI1000) -> 5099 | BK6: =SUM(BK7:BK1000) -> 137 | BL6: =SUM(BL7:BL1000) -> 78
A7: 1 | B7: 39506 | C7: 12 | D7: 99.97 | E7: 0 | F7: 103.07 | G7: 103.07 | H7: 99.73 | I7: 110.93 | J7: 98.89 | K7: 99.94 | L7: 0 | M7: 101.56 | N7: =ABS((G7-D7)*100) -> 310 | O7: =ABS((D7-H7)*100) -> 24 | P7: =((D7-J7)*100) -> 108 | Q7: =IF($E$3<N7,$E$3-$M$3,-O7-$M$3) -> 196 | R7: =Q7 -> 196 | S7: =IF(Q7>0,1,0) -> 1 | T7: =IF(C7>$R$3,IF(C7<$R$4,Q7,0),0) -> 196 | U7: =T7 -> 196 | V7: =IF(T7<>0,1,0) -> 1 | W7: =IF(T7>0,1,0) -> 1 | X7: =IF(N7>$Z$4,1,0) -> 1 | Y7: =IF(E7=0,(F7-D7)*100,(D8-K8)*100) -> 310 | Z7: =IF(N7>=($Z$4+$AA$4),$AA$4-$M$3,IF(N7>=$Z$4,-$Z$4-O7,0)) -> 156 | AA7: =X7*Z7 -> 156 | AB7: =AA7 -> 156 | AC7: =IF(AA7>0,1,0) -> 1 | AD7: =IF(C7>$R$3,IF(C7<$R$4,1,0),0) -> 1 | AE7: =AA7*AD7 -> 156 | AF7: =AE7 -> 156 | AG7: =X7*AD7 -> 1 | AH7: =IF(AE7>0,1,0) -> 1 | AI7: 1 | AJ7: =AA7*AI7 -> 156 | AK7: =IF(AJ7>0,1,0) -> 1 | AL7: =AI7*X7 -> 1 | AM7: =AJ7 -> 156 | AN7: =Z7*X7*AD7*AI7 -> 156 | AO7: =AN7 -> 156 | AP7: =X7*AD7*AI7 -> 1 | AQ7: =IF(AN7>0,1,0) -> 1 | AR7: 1 | AS7: =AA7*AR7 -> 156 | AT7: =AS7 -> 156 | AU7: =IF(AS7>0,1,0) -> 1 | AV7: =IF(AS7<>0,1,0) -> 1 | AW7: =AR7*Q7 -> 196 | AX7: =AW7 -> 196 | AY7: =IF(AW7>0,1,0) -> 1 | AZ7: =IF(AW7<>0,1,0) -> 1 | BA7: 1 | BB7: =BA7*AW7 -> 196 | BC7: =IF(BB7<>0,1,0) -> 1 | BD7: =IF(BB7>0,1,0) -> 1 | BE7: =AW7*AD7 -> 196 | BF7: =BE7 -> 196 | BG7: =IF(BE7<>0,1,0) -> 1 | BH7: =IF(BE7>0,1,0) -> 1 | BI7: =AS7*AD7 -> 156 | BJ7: =BI7 -> 156 | BK7: =IF(BI7<>0,1,0) -> 1 | BL7: =IF(BI7>0,1,0) -> 1
A8: 1 | B8: 39510 | C8: 10 | D8: 101.17 | E8: 1 | F8: 102.56 | G8: 100.76 | H8: 101.71 | I8: 100.76 | J8: 102.55 | K8: 100.76 | L8: 1 | M8: 102.29 | N8: =ABS((G8-D8)*100) -> 41 | O8: =ABS((D8-H8)*100) -> 54 | P8: =((D8-J8)*100) -> -138 | Q8: =IF($E$3<N8,$E$3-$M$3,-O8-$M$3) -> -58 | R8: =R7+Q8 -> 138 | S8: =IF(Q8>0,1,0) -> 0 | T8: =IF(C8>$R$3,IF(C8<$R$4,Q8,0),0) -> -58 | U8: =U7+T8 -> 138 | V8: =IF(T8<>0,1,0) -> 1 | W8: =IF(T8>0,1,0) -> 0 | X8: =IF(N8>$Z$4,1,0) -> 1 | Y8: =IF(E8=0,(F8-D8)*100,(D9-K9)*100) -> 76 | Z8: =IF(N8>=($Z$4+$AA$4),$AA$4-$M$3,IF(N8>=$Z$4,-$Z$4-O8,0)) -> -84 | AA8: =X8*Z8 -> -84 | AB8: =AB7+AA8 -> 72 | AC8: =IF(AA8>0,1,0) -> 0 | AD8: =IF(C8>$R$3,IF(C8<$R$4,1,0),0) -> 1 | AE8: =AA8*AD8 -> -84 | AF8: =AF7+AE8 -> 72 | AG8: =X8*AD8 -> 1 | AH8: =IF(AE8>0,1,0) -> 0 | AI8: 1 | AJ8: =AA8*AI8 -> -84 | AK8: =IF(AJ8>0,1,0) -> 0 | AL8: =AI8*X8 -> 1 | AM8: =AM7+AJ8 -> 72 | AN8: =Z8*X8*AD8*AI8 -> -84 | AO8: =AO7+AN8 -> 72 | AP8: =X8*AD8*AI8 -> 1 | AQ8: =IF(AN8>0,1,0) -> 0 | AR8: 0 | AS8: =AA8*AR8 -> 0 | AT8: =AT7+AS8 -> 156 | AU8: =IF(AS8>0,1,0) -> 0 | AV8: =IF(AS8<>0,1,0) -> 0 | AW8: =AR8*Q8 -> 0 | AX8: =AX7+AW8 -> 196 | AY8: =IF(AW8>0,1,0) -> 0 | AZ8: =IF(AW8<>0,1,0) -> 0 | BA8: 1 | BB8: =BA8*AW8 -> 0 | BC8: =IF(BB8<>0,1,0) -> 0 | BD8: =IF(BB8>0,1,0) -> 0 | BE8: =AW8*AD8 -> 0 | BF8: =BF7+BE8 -> 196 | BG8: =IF(BE8<>0,1,0) -> 0 | BH8: =IF(BE8>0,1,0) -> 0 | BI8: =AS8*AD8 -> 0 | BJ8: =BJ7+BI8 -> 156 | BK8: =IF(BI8<>0,1,0) -> 0 | BL8: =IF(BI8>0,1,0) -> 0
A9: 1 | B9: 39510 | C9: 13 | D9: 102.29 | E9: 0 | F9: 103.91 | G9: 103.91 | H9: 101.18 | I9: 103.91 | J9: 100.76 | K9: 101.53 | L9: 0 | M9: 102.05 | N9: =ABS((G9-D9)*100) -> 162 | O9: =ABS((D9-H9)*100) -> 111 | P9: =((D9-J9)*100) -> 153 | Q9: =IF($E$3<N9,$E$3-$M$3,-O9-$M$3) -> -115 | R9: =R8+Q9 -> 23 | S9: =IF(Q9>0,1,0) -> 0 | T9: =IF(C9>$R$3,IF(C9<$R$4,Q9,0),0) -> -115 | U9: =U8+T9 -> 23 | V9: =IF(T9<>0,1,0) -> 1 | W9: =IF(T9>0,1,0) -> 0 | X9: =IF(N9>$Z$4,1,0) -> 1 | Y9: =IF(E9=0,(F9-D9)*100,(D10-K10)*100) -> 162 | Z9: =IF(N9>=($Z$4+$AA$4),$AA$4-$M$3,IF(N9>=$Z$4,-$Z$4-O9,0)) -> -141 | AA9: =X9*Z9 -> -141 | AB9: =AB8+AA9 -> -69 | AC9: =IF(AA9>0,1,0) -> 0 | AD9: =IF(C9>$R$3,IF(C9<$R$4,1,0),0) -> 1 | AE9: =AA9*AD9 -> -141 | AF9: =AF8+AE9 -> -69 | AG9: =X9*AD9 -> 1 | AH9: =IF(AE9>0,1,0) -> 0 | AI9: 1 | AJ9: =AA9*AI9 -> -141 | AK9: =IF(AJ9>0,1,0) -> 0 | AL9: =AI9*X9 -> 1 | AM9: =AM8+AJ9 -> -69 | AN9: =Z9*X9*AD9*AI9 -> -141 | AO9: =AO8+AN9 -> -69 | AP9: =X9*AD9*AI9 -> 1 | AQ9: =IF(AN9>0,1,0) -> 0 | AR9: 1 | AS9: =AA9*AR9 -> -141 | AT9: =AT8+AS9 -> 15 | AU9: =IF(AS9>0,1,0) -> 0 | AV9: =IF(AS9<>0,1,0) -> 1 | AW9: =AR9*Q9 -> -115 | AX9: =AX8+AW9 -> 81 | AY9: =IF(AW9>0,1,0) -> 0 | AZ9: =IF(AW9<>0,1,0) -> 1 | BA9: 1 | BB9: =BA9*AW9 -> -115 | BC9: =IF(BB9<>0,1,0) -> 1 | BD9: =IF(BB9>0,1,0) -> 0 | BE9: =AW9*AD9 -> -115 | BF9: =BF8+BE9 -> 81 | BG9: =IF(BE9<>0,1,0) -> 1 | BH9: =IF(BE9>0,1,0) -> 0 | BI9: =AS9*AD9 -> -141 | BJ9: =BJ8+BI9 -> 15 | BK9: =IF(BI9<>0,1,0) -> 1 | BL9: =IF(BI9>0,1,0) -> 0
A10: 1 | B10: 39511 | C10: 9 | D10: 102.05 | E10: 1 | F10: 102.25 | G10: 101.91 | H10: 102.27 | I10: 98.85 | J10: 103.76 | K10: 101.91 | L10: 1 | M10: 102.1 | N10: =ABS((G10-D10)*100) -> 14 | O10: =ABS((D10-H10)*100) -> 22 | P10: =((D10-J10)*100) -> -171 | Q10: =IF($E$3<N10,$E$3-$M$3,-O10-$M$3) -> -26 | R10: =R9+Q10 -> -3 | S10: =IF(Q10>0,1,0) -> 0 | T10: =IF(C10>$R$3,IF(C10<$R$4,Q10,0),0) -> -26 | U10: =U9+T10 -> -3 | V10: =IF(T10<>0,1,0) -> 1 | W10: =IF(T10>0,1,0) -> 0 | X10: =IF(N10>$Z$4,1,0) -> 0 | Y10: =IF(E10=0,(F10-D10)*100,(D11-K11)*100) -> 14 | Z10: =IF(N10>=($Z$4+$AA$4),$AA$4-$M$3,IF(N10>=$Z$4,-$Z$4-O10,0)) -> 0 | AA10: =X10*Z10 -> 0 | AB10: =AB9+AA10 -> -69 | AC10: =IF(AA10>0,1,0) -> 0 | AD10: =IF(C10>$R$3,IF(C10<$R$4,1,0),0) -> 1 | AE10: =AA10*AD10 -> 0 | AF10: =AF9+AE10 -> -69 | AG10: =X10*AD10 -> 0 | AH10: =IF(AE10>0,1,0) -> 0 | AI10: 1 | AJ10: =AA10*AI10 -> 0 | AK10: =IF(AJ10>0,1,0) -> 0 | AL10: =AI10*X10 -> 0 | AM10: =AM9+AJ10 -> -69 | AN10: =Z10*X10*AD10*AI10 -> 0 | AO10: =AO9+AN10 -> -69 | AP10: =X10*AD10*AI10 -> 0 | AQ10: =IF(AN10>0,1,0) -> 0 | AR10: 0 | AS10: =AA10*AR10 -> 0 | AT10: =AT9+AS10 -> 15 | AU10: =IF(AS10>0,1,0) -> 0 | AV10: =IF(AS10<>0,1,0) -> 0 | AW10: =AR10*Q10 -> 0 | AX10: =AX9+AW10 -> 81 | AY10: =IF(AW10>0,1,0) -> 0 | AZ10: =IF(AW10<>0,1,0) -> 0 | BA10: 1 | BB10: =BA10*AW10 -> 0 | BC10: =IF(BB10<>0,1,0) -> 0 | BD10: =IF(BB10>0,1,0) -> 0 | BE10: =AW10*AD10 -> 0 | BF10: =BF9+BE10 -> 81 | BG10: =IF(BE10<>0,1,0) -> 0 | BH10: =IF(BE10>0,1,0) -> 0 | BI10: =AS10*AD10 -> 0 | BJ10: =BJ9+BI10 -> 15 | BK10: =IF(BI10<>0,1,0) -> 0 | BL10: =IF(BI10>0,1,0) -> 0
A11: 1 | B11: 39511 | C11: 10 | D11: 102.1 | E11: 0 | F11: 103.11 | G11: 103.11 | H11: 101.91 | I11: 103.11 | J11: 103.64 | K11: 101.96 | L11: 0 | M11: 101.96 | N11: =ABS((G11-D11)*100) -> 101 | O11: =ABS((D11-H11)*100) -> 19 | P11: =((D11-J11)*100) -> -154 | Q11: =IF($E$3<N11,$E$3-$M$3,-O11-$M$3) -> -23 | R11: =R10+Q11 -> -26 | S11: =IF(Q11>0,1,0) -> 0 | T11: =IF(C11>$R$3,IF(C11<$R$4,Q11,0),0) -> -23 | U11: =U10+T11 -> -26 | V11: =IF(T11<>0,1,0) -> 1 | W11: =IF(T11>0,1,0) -> 0 | X11: =IF(N11>$Z$4,1,0) -> 1 | Y11: =IF(E11=0,(F11-D11)*100,(D12-K12)*100) -> 101 | Z11: =IF(N11>=($Z$4+$AA$4),$AA$4-$M$3,IF(N11>=$Z$4,-$Z$4-O11,0)) -> -49 | AA11: =X11*Z11 -> -49 | AB11: =AB10+AA11 -> -118 | AC11: =IF(AA11>0,1,0) -> 0 | AD11: =IF(C11>$R$3,IF(C11<$R$4,1,0),0) -> 1 | AE11: =AA11*AD11 -> -49 | AF11: =AF10+AE11 -> -118 | AG11: =X11*AD11 -> 1 | AH11: =IF(AE11>0,1,0) -> 0 | AI11: 0 | AJ11: =AA11*AI11 -> 0 | AK11: =IF(AJ11>0,1,0) -> 0 | AL11: =AI11*X11 -> 0 | AM11: =AM10+AJ11 -> -69 | AN11: =Z11*X11*AD11*AI11 -> 0 | AO11: =AO10+AN11 -> -69 | AP11: =X11*AD11*AI11 -> 0 | AQ11: =IF(AN11>0,1,0) -> 0 | AR11: 1 | AS11: =AA11*AR11 -> -49 | AT11: =AT10+AS11 -> -34 | AU11: =IF(AS11>0,1,0) -> 0 | AV11: =IF(AS11<>0,1,0) -> 1 | AW11: =AR11*Q11 -> -23 | AX11: =AX10+AW11 -> 58 | AY11: =IF(AW11>0,1,0) -> 0 | AZ11: =IF(AW11<>0,1,0) -> 1 | BA11: 0 | BB11: =BA11*AW11 -> 0 | BC11: =IF(BB11<>0,1,0) -> 0 | BD11: =IF(BB11>0,1,0) -> 0 | BE11: =AW11*AD11 -> -23 | BF11: =BF10+BE11 -> 58 | BG11: =IF(BE11<>0,1,0) -> 1 | BH11: =IF(BE11>0,1,0) -> 0 | BI11: =AS11*AD11 -> -49 | BJ11: =BJ10+BI11 -> -34 | BK11: =IF(BI11<>0,1,0) -> 1 | BL11: =IF(BI11>0,1,0) -> 0
A12: 1 | B12: 39511 | C12: 14 | D12: 101.96 | E12: 1 | F12: 102.74 | G12: 98.85 | H12: 103.29 | I12: 98.85 | J12: 103.29 | K12: 98.85 | L12: 0 | M12: 101.36 | N12: =ABS((G12-D12)*100) -> 311 | O12: =ABS((D12-H12)*100) -> 133 | P12: =((D12-J12)*100) -> -133 | Q12: =IF($E$3<N12,$E$3-$M$3,-O12-$M$3) -> 196 | R12: =R11+Q12 -> 170 | S12: =IF(Q12>0,1,0) -> 1 | T12: =IF(C12>$R$3,IF(C12<$R$4,Q12,0),0) -> 196 | U12: =U11+T12 -> 170 | V12: =IF(T12<>0,1,0) -> 1 | W12: =IF(T12>0,1,0) -> 1 | X12: =IF(N12>$Z$4,1,0) -> 1 | Y12: =IF(E12=0,(F12-D12)*100,(D13-K13)*100) -> 6 | Z12: =IF(N12>=($Z$4+$AA$4),$AA$4-$M$3,IF(N12>=$Z$4,-$Z$4-O12,0)) -> 156 | AA12: =X12*Z12 -> 156 | AB12: =AB11+AA12 -> 38 | AC12: =IF(AA12>0,1,0) -> 1 | AD12: =IF(C12>$R$3,IF(C12<$R$4,1,0),0) -> 1 | AE12: =AA12*AD12 -> 156 | AF12: =AF11+AE12 -> 38 | AG12: =X12*AD12 -> 1 | AH12: =IF(AE12>0,1,0) -> 1 | AI12: 1 | AJ12: =AA12*AI12 -> 156 | AK12: =IF(AJ12>0,1,0) -> 1 | AL12: =AI12*X12 -> 1 | AM12: =AM11+AJ12 -> 87 | AN12: =Z12*X12*AD12*AI12 -> 156 | AO12: =AO11+AN12 -> 87 | AP12: =X12*AD12*AI12 -> 1 | AQ12: =IF(AN12>0,1,0) -> 1 | AR12: 0 | AS12: =AA12*AR12 -> 0 | AT12: =AT11+AS12 -> -34 | AU12: =IF(AS12>0,1,0) -> 0 | AV12: =IF(AS12<>0,1,0) -> 0 | AW12: =AR12*Q12 -> 0 | AX12: =AX11+AW12 -> 58 | AY12: =IF(AW12>0,1,0) -> 0 | AZ12: =IF(AW12<>0,1,0) -> 0 | BA12: 0 | BB12: =BA12*AW12 -> 0 | BC12: =IF(BB12<>0,1,0) -> 0 | BD12: =IF(BB12>0,1,0) -> 0 | BE12: =AW12*AD12 -> 0 | BF12: =BF11+BE12 -> 58 | BG12: =IF(BE12<>0,1,0) -> 0 | BH12: =IF(BE12>0,1,0) -> 0 | BI12: =AS12*AD12 -> 0 | BJ12: =BJ11+BI12 -> -34 | BK12: =IF(BI12<>0,1,0) -> 0 | BL12: =IF(BI12>0,1,0) -> 0
A13: 1 | B13: 39512 | C13: 14 | D13: 101.36 | E13: 0 | F13: 106.47 | G13: 110.93 | H13: 100.69 | I13: 110.93 | J13: 99.18 | K13: 101.3 | L13: 1 | M13: 104.38 | N13: =ABS((G13-D13)*100) -> 957 | O13: =ABS((D13-H13)*100) -> 67 | P13: =((D13-J13)*100) -> 218 | Q13: =IF($E$3<N13,$E$3-$M$3,-O13-$M$3) -> 196 | R13: =R12+Q13 -> 366 | S13: =IF(Q13>0,1,0) -> 1 | T13: =IF(C13>$R$3,IF(C13<$R$4,Q13,0),0) -> 196 | U13: =U12+T13 -> 366 | V13: =IF(T13<>0,1,0) -> 1 | W13: =IF(T13>0,1,0) -> 1 | X13: =IF(N13>$Z$4,1,0) -> 1 | Y13: =IF(E13=0,(F13-D13)*100,(D14-K14)*100) -> 511 | Z13: =IF(N13>=($Z$4+$AA$4),$AA$4-$M$3,IF(N13>=$Z$4,-$Z$4-O13,0)) -> 156 | AA13: =X13*Z13 -> 156 | AB13: =AB12+AA13 -> 194 | AC13: =IF(AA13>0,1,0) -> 1 | AD13: =IF(C13>$R$3,IF(C13<$R$4,1,0),0) -> 1 | AE13: =AA13*AD13 -> 156 | AF13: =AF12+AE13 -> 194 | AG13: =X13*AD13 -> 1 | AH13: =IF(AE13>0,1,0) -> 1 | AI13: 1 | AJ13: =AA13*AI13 -> 156 | AK13: =IF(AJ13>0,1,0) -> 1 | AL13: =AI13*X13 -> 1 | AM13: =AM12+AJ13 -> 243 | AN13: =Z13*X13*AD13*AI13 -> 156 | AO13: =AO12+AN13 -> 243 | AP13: =X13*AD13*AI13 -> 1 | AQ13: =IF(AN13>0,1,0) -> 1 | AR13: 1 | AS13: =AA13*AR13 -> 156 | AT13: =AT12+AS13 -> 122 | AU13: =IF(AS13>0,1,0) -> 1 | AV13: =IF(AS13<>0,1,0) -> 1 | AW13: =AR13*Q13 -> 196 | AX13: =AX12+AW13 -> 254 | AY13: =IF(AW13>0,1,0) -> 1 | AZ13: =IF(AW13<>0,1,0) -> 1 | BA13: 1 | BB13: =BA13*AW13 -> 196 | BC13: =IF(BB13<>0,1,0) -> 1 | BD13: =IF(BB13>0,1,0) -> 1 | BE13: =AW13*AD13 -> 196 | BF13: =BF12+BE13 -> 254 | BG13: =IF(BE13<>0,1,0) -> 1 | BH13: =IF(BE13>0,1,0) -> 1 | BI13: =AS13*AD13 -> 156 | BJ13: =BJ12+BI13 -> 122 | BK13: =IF(BI13<>0,1,0) -> 1 | BL13: =IF(BI13>0,1,0) -> 1
A14: 1 | B14: 39517 | C14: 10 | D14: 104.38 | E14: 1 | F14: 104.83 | G14: 104.17 | H14: 104.87 | I14: 104.17 | J14: 106.18 | K14: 104.13 | L14: 0 | M14: 104.75 | N14: =ABS((G14-D14)*100) -> 21 | O14: =ABS((D14-H14)*100) -> 49 | P14: =((D14-J14)*100) -> -180 | Q14: =IF($E$3<N14,$E$3-$M$3,-O14-$M$3) -> -53 | R14: =R13+Q14 -> 313 | S14: =IF(Q14>0,1,0) -> 0 | T14: =IF(C14>$R$3,IF(C14<$R$4,Q14,0),0) -> -53 | U14: =U13+T14 -> 313 | V14: =IF(T14<>0,1,0) -> 1 | W14: =IF(T14>0,1,0) -> 0 | X14: =IF(N14>$Z$4,1,0) -> 0 | Y14: =IF(E14=0,(F14-D14)*100,(D15-K15)*100) -> 68 | Z14: =IF(N14>=($Z$4+$AA$4),$AA$4-$M$3,IF(N14>=$Z$4,-$Z$4-O14,0)) -> 0 | AA14: =X14*Z14 -> 0 | AB14: =AB13+AA14 -> 194 | AC14: =IF(AA14>0,1,0) -> 0 | AD14: =IF(C14>$R$3,IF(C14<$R$4,1,0),0) -> 1 | AE14: =AA14*AD14 -> 0 | AF14: =AF13+AE14 -> 194 | AG14: =X14*AD14 -> 0 | AH14: =IF(AE14>0,1,0) -> 0 | AI14: 1 | AJ14: =AA14*AI14 -> 0 | AK14: =IF(AJ14>0,1,0) -> 0 | AL14: =AI14*X14 -> 0 | AM14: =AM13+AJ14 -> 243 | AN14: =Z14*X14*AD14*AI14 -> 0 | AO14: =AO13+AN14 -> 243 | AP14: =X14*AD14*AI14 -> 0 | AQ14: =IF(AN14>0,1,0) -> 0 | AR14: 0 | AS14: =AA14*AR14 -> 0 | AT14: =AT13+AS14 -> 122 | AU14: =IF(AS14>0,1,0) -> 0 | AV14: =IF(AS14<>0,1,0) -> 0 | AW14: =AR14*Q14 -> 0 | AX14: =AX13+AW14 -> 254 | AY14: =IF(AW14>0,1,0) -> 0 | AZ14: =IF(AW14<>0,1,0) -> 0 | BA14: 1 | BB14: =BA14*AW14 -> 0 | BC14: =IF(BB14<>0,1,0) -> 0 | BD14: =IF(BB14>0,1,0) -> 0 | BE14: =AW14*AD14 -> 0 | BF14: =BF13+BE14 -> 254 | BG14: =IF(BE14<>0,1,0) -> 0 | BH14: =IF(BE14>0,1,0) -> 0 | BI14: =AS14*AD14 -> 0 | BJ14: =BJ13+BI14 -> 122 | BK14: =IF(BI14<>0,1,0) -> 0 | BL14: =IF(BI14>0,1,0) -> 0
A15: 1 | B15: 39517 | C15: 12 | D15: 104.75 | E15: 0 | F15: 104.97 | G15: 104.97 | H15: 104.13 | I15: 110.93 | J15: 106.1 | K15: 104.07 | L15: 0 | M15: 104.55 | N15: =ABS((G15-D15)*100) -> 22 | O15: =ABS((D15-H15)*100) -> 62 | P15: =((D15-J15)*100) -> -135 | Q15: =IF($E$3<N15,$E$3-$M$3,-O15-$M$3) -> -66 | R15: =R14+Q15 -> 247 | S15: =IF(Q15>0,1,0) -> 0 | T15: =IF(C15>$R$3,IF(C15<$R$4,Q15,0),0) -> -66 | U15: =U14+T15 -> 247 | V15: =IF(T15<>0,1,0) -> 1 | W15: =IF(T15>0,1,0) -> 0 | X15: =IF(N15>$Z$4,1,0) -> 0 | Y15: =IF(E15=0,(F15-D15)*100,(D16-K16)*100) -> 22 | Z15: =IF(N15>=($Z$4+$AA$4),$AA$4-$M$3,IF(N15>=$Z$4,-$Z$4-O15,0)) -> 0 | AA15: =X15*Z15 -> 0 | AB15: =AB14+AA15 -> 194 | AC15: =IF(AA15>0,1,0) -> 0 | AD15: =IF(C15>$R$3,IF(C15<$R$4,1,0),0) -> 1 | AE15: =AA15*AD15 -> 0 | AF15: =AF14+AE15 -> 194 | AG15: =X15*AD15 -> 0 | AH15: =IF(AE15>0,1,0) -> 0 | AI15: 0 | AJ15: =AA15*AI15 -> 0 | AK15: =IF(AJ15>0,1,0) -> 0 | AL15: =AI15*X15 -> 0 | AM15: =AM14+AJ15 -> 243 | AN15: =Z15*X15*AD15*AI15 -> 0 | AO15: =AO14+AN15 -> 243 | AP15: =X15*AD15*AI15 -> 0 | AQ15: =IF(AN15>0,1,0) -> 0 | AR15: 1 | AS15: =AA15*AR15 -> 0 | AT15: =AT14+AS15 -> 122 | AU15: =IF(AS15>0,1,0) -> 0 | AV15: =IF(AS15<>0,1,0) -> 0 | AW15: =AR15*Q15 -> -66 | AX15: =AX14+AW15 -> 188 | AY15: =IF(AW15>0,1,0) -> 0 | AZ15: =IF(AW15<>0,1,0) -> 1 | BA15: 0 | BB15: =BA15*AW15 -> 0 | BC15: =IF(BB15<>0,1,0) -> 0 | BD15: =IF(BB15>0,1,0) -> 0 | BE15: =AW15*AD15 -> -66 | BF15: =BF14+BE15 -> 188 | BG15: =IF(BE15<>0,1,0) -> 1 | BH15: =IF(BE15>0,1,0) -> 0 | BI15: =AS15*AD15 -> 0 | BJ15: =BJ14+BI15 -> 122 | BK15: =IF(BI15<>0,1,0) -> 0 | BL15: =IF(BI15>0,1,0) -> 0
A16: 1 | B16: 39517 | C16: 13 | D16: 104.55 | E16: 1 | F16: 106.95 | G16: 104.42 | H16: 104.97 | I16: 104.42 | J16: 106.05 | K16: 104.42 | L16: 1 | M16: 106.41 | N16: =ABS((G16-D16)*100) -> 13 | O16: =ABS((D16-H16)*100) -> 42 | P16: =((D16-J16)*100) -> -150 | Q16: =IF($E$3<N16,$E$3-$M$3,-O16-$M$3) -> -46 | R16: =R15+Q16 -> 201 | S16: =IF(Q16>0,1,0) -> 0 | T16: =IF(C16>$R$3,IF(C16<$R$4,Q16,0),0) -> -46 | U16: =U15+T16 -> 201 | V16: =IF(T16<>0,1,0) -> 1 | W16: =IF(T16>0,1,0) -> 0 | X16: =IF(N16>$Z$4,1,0) -> 0 | Y16: =IF(E16=0,(F16-D16)*100,(D17-K17)*100) -> 21 | Z16: =IF(N16>=($Z$4+$AA$4),$AA$4-$M$3,IF(N16>=$Z$4,-$Z$4-O16,0)) -> 0 | AA16: =X16*Z16 -> 0 | AB16: =AB15+AA16 -> 194 | AC16: =IF(AA16>0,1,0) -> 0 | AD16: =IF(C16>$R$3,IF(C16<$R$4,1,0),0) -> 1 | AE16: =AA16*AD16 -> 0 | AF16: =AF15+AE16 -> 194 | AG16: =X16*AD16 -> 0 | AH16: =IF(AE16>0,1,0) -> 0 | AI16: 1 | AJ16: =AA16*AI16 -> 0 | AK16: =IF(AJ16>0,1,0) -> 0 | AL16: =AI16*X16 -> 0 | AM16: =AM15+AJ16 -> 243 | AN16: =Z16*X16*AD16*AI16 -> 0 | AO16: =AO15+AN16 -> 243 | AP16: =X16*AD16*AI16 -> 0 | AQ16: =IF(AN16>0,1,0) -> 0 | AR16: 0 | AS16: =AA16*AR16 -> 0 | AT16: =AT15+AS16 -> 122 | AU16: =IF(AS16>0,1,0) -> 0 | AV16: =IF(AS16<>0,1,0) -> 0 | AW16: =AR16*Q16 -> 0 | AX16: =AX15+AW16 -> 188 | AY16: =IF(AW16>0,1,0) -> 0 | AZ16: =IF(AW16<>0,1,0) -> 0 | BA16: 1 | BB16: =BA16*AW16 -> 0 | BC16: =IF(BB16<>0,1,0) -> 0 | BD16: =IF(BB16>0,1,0) -> 0 | BE16: =AW16*AD16 -> 0 | BF16: =BF15+BE16 -> 188 | BG16: =IF(BE16<>0,1,0) -> 0 | BH16: =IF(BE16>0,1,0) -> 0 | BI16: =AS16*AD16 -> 0 | BJ16: =BJ15+BI16 -> 122 | BK16: =IF(BI16<>0,1,0) -> 0 | BL16: =IF(BI16>0,1,0) -> 0
A17: 1 | B17: 39517 | C17: 14 | D17: 106.41 | E17: 0 | F17: 109.68 | G17: 110.93 | H17: 104.42 | I17: 110.93 | J17: 103.96 | K17: 106.2 | L17: 1 | M17: 107.71 | N17: =ABS((G17-D17)*100) -> 452 | O17: =ABS((D17-H17)*100) -> 199 | P17: =((D17-J17)*100) -> 245 | Q17: =IF($E$3<N17,$E$3-$M$3,-O17-$M$3) -> 196 | R17: =R16+Q17 -> 397 | S17: =IF(Q17>0,1,0) -> 1 | T17: =IF(C17>$R$3,IF(C17<$R$4,Q17,0),0) -> 196 | U17: =U16+T17 -> 397 | V17: =IF(T17<>0,1,0) -> 1 | W17: =IF(T17>0,1,0) -> 1 | X17: =IF(N17>$Z$4,1,0) -> 1 | Y17: =IF(E17=0,(F17-D17)*100,(D18-K18)*100) -> 327 | Z17: =IF(N17>=($Z$4+$AA$4),$AA$4-$M$3,IF(N17>=$Z$4,-$Z$4-O17,0)) -> 156 | AA17: =X17*Z17 -> 156 | AB17: =AB16+AA17 -> 350 | AC17: =IF(AA17>0,1,0) -> 1 | AD17: =IF(C17>$R$3,IF(C17<$R$4,1,0),0) -> 1 | AE17: =AA17*AD17 -> 156 | AF17: =AF16+AE17 -> 350 | AG17: =X17*AD17 -> 1 | AH17: =IF(AE17>0,1,0) -> 1 | AI17: 1 | AJ17: =AA17*AI17 -> 156 | AK17: =IF(AJ17>0,1,0) -> 1 | AL17: =AI17*X17 -> 1 | AM17: =AM16+AJ17 -> 399 | AN17: =Z17*X17*AD17*AI17 -> 156 | AO17: =AO16+AN17 -> 399 | AP17: =X17*AD17*AI17 -> 1 | AQ17: =IF(AN17>0,1,0) -> 1 | AR17: 1 | AS17: =AA17*AR17 -> 156 | AT17: =AT16+AS17 -> 278 | AU17: =IF(AS17>0,1,0) -> 1 | AV17: =IF(AS17<>0,1,0) -> 1 | AW17: =AR17*Q17 -> 196 | AX17: =AX16+AW17 -> 384 | AY17: =IF(AW17>0,1,0) -> 1 | AZ17: =IF(AW17<>0,1,0) -> 1 | BA17: 1 | BB17: =BA17*AW17 -> 196 | BC17: =IF(BB17<>0,1,0) -> 1 | BD17: =IF(BB17>0,1,0) -> 1 | BE17: =AW17*AD17 -> 196 | BF17: =BF16+BE17 -> 384 | BG17: =IF(BE17<>0,1,0) -> 1 | BH17: =IF(BE17>0,1,0) -> 1 | BI17: =AS17*AD17 -> 156 | BJ17: =BJ16+BI17 -> 278 | BK17: =IF(BI17<>0,1,0) -> 1 | BL17: =IF(BI17>0,1,0) -> 1
A18: 1 | B18: 39519 | C18: 14 | D18: 107.71 | E18: 1 | F18: 109.01 | G18: 107.61 | H18: 109.13 | I18: 107.61 | J18: 109.11 | K18: 107.61 | L18: 1 | M18: 108.83 | N18: =ABS((G18-D18)*100) -> 10 | O18: =ABS((D18-H18)*100) -> 142 | P18: =((D18-J18)*100) -> -140 | Q18: =IF($E$3<N18,$E$3-$M$3,-O18-$M$3) -> -146 | R18: =R17+Q18 -> 251 | S18: =IF(Q18>0,1,0) -> 0 | T18: =IF(C18>$R$3,IF(C18<$R$4,Q18,0),0) -> -146 | U18: =U17+T18 -> 251 | V18: =IF(T18<>0,1,0) -> 1 | W18: =IF(T18>0,1,0) -> 0 | X18: =IF(N18>$Z$4,1,0) -> 0 | Y18: =IF(E18=0,(F18-D18)*100,(D19-K19)*100) -> 29 | Z18: =IF(N18>=($Z$4+$AA$4),$AA$4-$M$3,IF(N18>=$Z$4,-$Z$4-O18,0)) -> 0 | AA18: =X18*Z18 -> 0 | AB18: =AB17+AA18 -> 350 | AC18: =IF(AA18>0,1,0) -> 0 | AD18: =IF(C18>$R$3,IF(C18<$R$4,1,0),0) -> 1 | AE18: =AA18*AD18 -> 0 | AF18: =AF17+AE18 -> 350 | AG18: =X18*AD18 -> 0 | AH18: =IF(AE18>0,1,0) -> 0 | AI18: 1 | AJ18: =AA18*AI18 -> 0 | AK18: =IF(AJ18>0,1,0) -> 0 | AL18: =AI18*X18 -> 0 | AM18: =AM17+AJ18 -> 399 | AN18: =Z18*X18*AD18*AI18 -> 0 | AO18: =AO17+AN18 -> 399 | AP18: =X18*AD18*AI18 -> 0 | AQ18: =IF(AN18>0,1,0) -> 0 | AR18: 0 | AS18: =AA18*AR18 -> 0 | AT18: =AT17+AS18 -> 278 | AU18: =IF(AS18>0,1,0) -> 0 | AV18: =IF(AS18<>0,1,0) -> 0 | AW18: =AR18*Q18 -> 0 | AX18: =AX17+AW18 -> 384 | AY18: =IF(AW18>0,1,0) -> 0 | AZ18: =IF(AW18<>0,1,0) -> 0 | BA18: 1 | BB18: =BA18*AW18 -> 0 | BC18: =IF(BB18<>0,1,0) -> 0 | BD18: =IF(BB18>0,1,0) -> 0 | BE18: =AW18*AD18 -> 0 | BF18: =BF17+BE18 -> 384 | BG18: =IF(BE18<>0,1,0) -> 0 | BH18: =IF(BE18>0,1,0) -> 0 | BI18: =AS18*AD18 -> 0 | BJ18: =BJ17+BI18 -> 278 | BK18: =IF(BI18<>0,1,0) -> 0 | BL18: =IF(BI18>0,1,0) -> 0
A19: 1 | B19: 39519 | C19: 15 | D19: 108.83 | E19: 0 | F19: 110.94 | G19: 110.93 | H19: 107.61 | I19: 110.93 | J19: 109.13 | K19: 108.54 | L19: 1 | M19: 108.98 | N19: =ABS((G19-D19)*100) -> 210 | O19: =ABS((D19-H19)*100) -> 122 | P19: =((D19-J19)*100) -> -30 | Q19: =IF($E$3<N19,$E$3-$M$3,-O19-$M$3) -> 196 | R19: =R18+Q19 -> 447 | S19: =IF(Q19>0,1,0) -> 1 | T19: =IF(C19>$R$3,IF(C19<$R$4,Q19,0),0) -> 196 | U19: =U18+T19 -> 447 | V19: =IF(T19<>0,1,0) -> 1 | W19: =IF(T19>0,1,0) -> 1 | X19: =IF(N19>$Z$4,1,0) -> 1 | Y19: =IF(E19=0,(F19-D19)*100,(D20-K20)*100) -> 211 | Z19: =IF(N19>=($Z$4+$AA$4),$AA$4-$M$3,IF(N19>=$Z$4,-$Z$4-O19,0)) -> 156 | AA19: =X19*Z19 -> 156 | AB19: =AB18+AA19 -> 506 | AC19: =IF(AA19>0,1,0) -> 1 | AD19: =IF(C19>$R$3,IF(C19<$R$4,1,0),0) -> 1 | AE19: =AA19*AD19 -> 156 | AF19: =AF18+AE19 -> 506 | AG19: =X19*AD19 -> 1 | AH19: =IF(AE19>0,1,0) -> 1 | AI19: 1 | AJ19: =AA19*AI19 -> 156 | AK19: =IF(AJ19>0,1,0) -> 1 | AL19: =AI19*X19 -> 1 | AM19: =AM18+AJ19 -> 555 | AN19: =Z19*X19*AD19*AI19 -> 156 | AO19: =AO18+AN19 -> 555 | AP19: =X19*AD19*AI19 -> 1 | AQ19: =IF(AN19>0,1,0) -> 1 | AR19: 1 | AS19: =AA19*AR19 -> 156 | AT19: =AT18+AS19 -> 434 | AU19: =IF(AS19>0,1,0) -> 1 | AV19: =IF(AS19<>0,1,0) -> 1 | AW19: =AR19*Q19 -> 196 | AX19: =AX18+AW19 -> 580 | AY19: =IF(AW19>0,1,0) -> 1 | AZ19: =IF(AW19<>0,1,0) -> 1 | BA19: 0 | BB19: =BA19*AW19 -> 0 | BC19: =IF(BB19<>0,1,0) -> 0 | BD19: =IF(BB19>0,1,0) -> 0 | BE19: =AW19*AD19 -> 196 | BF19: =BF18+BE19 -> 580 | BG19: =IF(BE19<>0,1,0) -> 1 | BH19: =IF(BE19>0,1,0) -> 1 | BI19: =AS19*AD19 -> 156 | BJ19: =BJ18+BI19 -> 434 | BK19: =IF(BI19<>0,1,0) -> 1 | BL19: =IF(BI19>0,1,0) -> 1
A20: 1 | B20: 39520 | C20: 17 | D20: 108.98 | E20: 1 | F20: 110.52 | G20: 108.62 | H20: 109.84 | I20: 99.1 | J20: 110.94 | K20: 108.16 | L20: 0 | M20: 109.56 | N20: =ABS((G20-D20)*100) -> 36 | O20: =ABS((D20-H20)*100) -> 86 | P20: =((D20-J20)*100) -> -196 | Q20: =IF($E$3<N20,$E$3-$M$3,-O20-$M$3) -> -90 | R20: =R19+Q20 -> 357 | S20: =IF(Q20>0,1,0) -> 0 | T20: =IF(C20>$R$3,IF(C20<$R$4,Q20,0),0) -> -90 | U20: =U19+T20 -> 357 | V20: =IF(T20<>0,1,0) -> 1 | W20: =IF(T20>0,1,0) -> 0 | X20: =IF(N20>$Z$4,1,0) -> 1 | Y20: =IF(E20=0,(F20-D20)*100,(D21-K21)*100) -> 132 | Z20: =IF(N20>=($Z$4+$AA$4),$AA$4-$M$3,IF(N20>=$Z$4,-$Z$4-O20,0)) -> -116 | AA20: =X20*Z20 -> -116 | AB20: =AB19+AA20 -> 390 | AC20: =IF(AA20>0,1,0) -> 0 | AD20: =IF(C20>$R$3,IF(C20<$R$4,1,0),0) -> 1 | AE20: =AA20*AD20 -> -116 | AF20: =AF19+AE20 -> 390 | AG20: =X20*AD20 -> 1 | AH20: =IF(AE20>0,1,0) -> 0 | AI20: 1 | AJ20: =AA20*AI20 -> -116 | AK20: =IF(AJ20>0,1,0) -> 0 | AL20: =AI20*X20 -> 1 | AM20: =AM19+AJ20 -> 439 | AN20: =Z20*X20*AD20*AI20 -> -116 | AO20: =AO19+AN20 -> 439 | AP20: =X20*AD20*AI20 -> 1 | AQ20: =IF(AN20>0,1,0) -> 0 | AR20: 0 | AS20: =AA20*AR20 -> 0 | AT20: =AT19+AS20 -> 434 | AU20: =IF(AS20>0,1,0) -> 0 | AV20: =IF(AS20<>0,1,0) -> 0 | AW20: =AR20*Q20 -> 0 | AX20: =AX19+AW20 -> 580 | AY20: =IF(AW20>0,1,0) -> 0 | AZ20: =IF(AW20<>0,1,0) -> 0 | BA20: 1 | BB20: =BA20*AW20 -> 0 | BC20: =IF(BB20<>0,1,0) -> 0 | BD20: =IF(BB20>0,1,0) -> 0 | BE20: =AW20*AD20 -> 0 | BF20: =BF19+BE20 -> 580 | BG20: =IF(BE20<>0,1,0) -> 0 | BH20: =IF(BE20>0,1,0) -> 0 | BI20: =AS20*AD20 -> 0 | BJ20: =BJ19+BI20 -> 434 | BK20: =IF(BI20<>0,1,0) -> 0 | BL20: =IF(BI20>0,1,0) -> 0
A21: =IF(D21<>0,1,0) -> 1 | B21: 39521 | C21: 13 | D21: 109.56 | E21: 0 | F21: 109.64 | G21: 109.64 | H21: 108.3 | I21: 109.64 | J21: 108.16 | K21: 108.24 | L21: 0 | M21: 108.48 | N21: =ABS((G21-D21)*100) -> 8 | O21: =ABS((D21-H21)*100) -> 126 | P21: =((D21-J21)*100) -> 140 | Q21: =IF($E$3<N21,$E$3-$M$3,-O21-$M$3) -> -130 | R21: =R20+Q21 -> 227 | S21: =IF(Q21>0,1,0) -> 0 | T21: =IF(C21>$R$3,IF(C21<$R$4,Q21,0),0) -> -130 | U21: =U20+T21 -> 227 | V21: =IF(T21<>0,1,0) -> 1 | W21: =IF(T21>0,1,0) -> 0 | X21: =IF(N21>$Z$4,1,0) -> 0 | Y21: =IF(E21=0,(F21-D21)*100,(D22-K22)*100) -> 8 | Z21: =IF(N21>=($Z$4+$AA$4),$AA$4-$M$3,IF(N21>=$Z$4,-$Z$4-O21,0)) -> 0 | AA21: =X21*Z21 -> 0 | AB21: =AB20+AA21 -> 390 | AC21: =IF(AA21>0,1,0) -> 0 | AD21: =IF(C21>$R$3,IF(C21<$R$4,1,0),0) -> 1 | AE21: =AA21*AD21 -> 0 | AF21: =AF20+AE21 -> 390 | AG21: =X21*AD21 -> 0 | AH21: =IF(AE21>0,1,0) -> 0 | AI21: 1 | AJ21: =AA21*AI21 -> 0 | AK21: =IF(AJ21>0,1,0) -> 0 | AL21: =AI21*X21 -> 0 | AM21: =AM20+AJ21 -> 439 | AN21: =Z21*X21*AD21*AI21 -> 0 | AO21: =AO20+AN21 -> 439 | AP21: =X21*AD21*AI21 -> 0 | AQ21: =IF(AN21>0,1,0) -> 0 | AR21: 1 | AS21: =AA21*AR21 -> 0 | AT21: =AT20+AS21 -> 434 | AU21: =IF(AS21>0,1,0) -> 0 | AV21: =IF(AS21<>0,1,0) -> 0 | AW21: =AR21*Q21 -> -130 | AX21: =AX20+AW21 -> 450 | AY21: =IF(AW21>0,1,0) -> 0 | AZ21: =IF(AW21<>0,1,0) -> 1 | BA21: 1 | BB21: =BA21*AW21 -> -130 | BC21: =IF(BB21<>0,1,0) -> 1 | BD21: =IF(BB21>0,1,0) -> 0 | BE21: =AW21*AD21 -> -130 | BF21: =BF20+BE21 -> 450 | BG21: =IF(BE21<>0,1,0) -> 1 | BH21: =IF(BE21>0,1,0) -> 0 | BI21: =AS21*AD21 -> 0 | BJ21: =BJ20+BI21 -> 434 | BK21: =IF(BI21<>0,1,0) -> 0 | BL21: =IF(BI21>0,1,0) -> 0
A22: =IF(D22<>0,1,0) -> 1 | B22: 39521 | C22: 14 | D22: 108.48 | E22: 1 | F22: 109.04 | G22: 107.53 | H22: 109.64 | I22: 107.53 | J22: 108.16 | K22: 107.53 | L22: 1 | M22: 108.96 | N22: =ABS((G22-D22)*100) -> 95 | O22: =ABS((D22-H22)*100) -> 116 | P22: =((D22-J22)*100) -> 32 | Q22: =IF($E$3<N22,$E$3-$M$3,-O22-$M$3) -> -120 | R22: =R21+Q22 -> 107 | S22: =IF(Q22>0,1,0) -> 0 | T22: =IF(C22>$R$3,IF(C22<$R$4,Q22,0),0) -> -120 | U22: =U21+T22 -> 107 | V22: =IF(T22<>0,1,0) -> 1 | W22: =IF(T22>0,1,0) -> 0 | X22: =IF(N22>$Z$4,1,0) -> 1 | Y22: =IF(E22=0,(F22-D22)*100,(D23-K23)*100) -> 140 | Z22: =IF(N22>=($Z$4+$AA$4),$AA$4-$M$3,IF(N22>=$Z$4,-$Z$4-O22,0)) -> -146 | AA22: =X22*Z22 -> -146 | AB22: =AB21+AA22 -> 244 | AC22: =IF(AA22>0,1,0) -> 0 | AD22: =IF(C22>$R$3,IF(C22<$R$4,1,0),0) -> 1 | AE22: =AA22*AD22 -> -146 | AF22: =AF21+AE22 -> 244 | AG22: =X22*AD22 -> 1 | AH22: =IF(AE22>0,1,0) -> 0 | AI22: 1 | AJ22: =AA22*AI22 -> -146 | AK22: =IF(AJ22>0,1,0) -> 0 | AL22: =AI22*X22 -> 1 | AM22: =AM21+AJ22 -> 293 | AN22: =Z22*X22*AD22*AI22 -> -146 | AO22: =AO21+AN22 -> 293 | AP22: =X22*AD22*AI22 -> 1 | AQ22: =IF(AN22>0,1,0) -> 0 | AR22: 0 | AS22: =AA22*AR22 -> 0 | AT22: =AT21+AS22 -> 434 | AU22: =IF(AS22>0,1,0) -> 0 | AV22: =IF(AS22<>0,1,0) -> 0 | AW22: =AR22*Q22 -> 0 | AX22: =AX21+AW22 -> 450 | AY22: =IF(AW22>0,1,0) -> 0 | AZ22: =IF(AW22<>0,1,0) -> 0 | BA22: 0 | BB22: =BA22*AW22 -> 0 | BC22: =IF(BB22<>0,1,0) -> 0 | BD22: =IF(BB22>0,1,0) -> 0 | BE22: =AW22*AD22 -> 0 | BF22: =BF21+BE22 -> 450 | BG22: =IF(BE22<>0,1,0) -> 0 | BH22: =IF(BE22>0,1,0) -> 0 | BI22: =AS22*AD22 -> 0 | BJ22: =BJ21+BI22 -> 434 | BK22: =IF(BI22<>0,1,0) -> 0 | BL22: =IF(BI22>0,1,0) -> 0
A23: =IF(D23<>0,1,0) -> 1 | B23: 39521 | C23: 17 | D23: 108.96 | E23: 0 | F23: 108.97 | G23: 110.33 | H23: 108.12 | I23: 110.33 | J23: 109.6 | K23: 107.56 | L23: 0 | M23: 108.63 | N23: =ABS((G23-D23)*100) -> 137 | O23: =ABS((D23-H23)*100) -> 84 | P23: =((D23-J23)*100) -> -64 | Q23: =IF($E$3<N23,$E$3-$M$3,-O23-$M$3) -> -88 | R23: =R22+Q23 -> 19 | S23: =IF(Q23>0,1,0) -> 0 | T23: =IF(C23>$R$3,IF(C23<$R$4,Q23,0),0) -> -88 | U23: =U22+T23 -> 19 | V23: =IF(T23<>0,1,0) -> 1 | W23: =IF(T23>0,1,0) -> 0 | X23: =IF(N23>$Z$4,1,0) -> 1 | Y23: =IF(E23=0,(F23-D23)*100,(D24-K24)*100) -> 1 | Z23: =IF(N23>=($Z$4+$AA$4),$AA$4-$M$3,IF(N23>=$Z$4,-$Z$4-O23,0)) -> -114 | AA23: =X23*Z23 -> -114 | AB23: =AB22+AA23 -> 130 | AC23: =IF(AA23>0,1,0) -> 0 | AD23: =IF(C23>$R$3,IF(C23<$R$4,1,0),0) -> 1 | AE23: =AA23*AD23 -> -114 | AF23: =AF22+AE23 -> 130 | AG23: =X23*AD23 -> 1 | AH23: =IF(AE23>0,1,0) -> 0 | AI23: 1 | AJ23: =AA23*AI23 -> -114 | AK23: =IF(AJ23>0,1,0) -> 0 | AL23: =AI23*X23 -> 1 | AM23: =AM22+AJ23 -> 179 | AN23: =Z23*X23*AD23*AI23 -> -114 | AO23: =AO22+AN23 -> 179 | AP23: =X23*AD23*AI23 -> 1 | AQ23: =IF(AN23>0,1,0) -> 0 | AR23: 1 | AS23: =AA23*AR23 -> -114 | AT23: =AT22+AS23 -> 320 | AU23: =IF(AS23>0,1,0) -> 0 | AV23: =IF(AS23<>0,1,0) -> 1 | AW23: =AR23*Q23 -> -88 | AX23: =AX22+AW23 -> 362 | AY23: =IF(AW23>0,1,0) -> 0 | AZ23: =IF(AW23<>0,1,0) -> 1 | BA23: 0 | BB23: =BA23*AW23 -> 0 | BC23: =IF(BB23<>0,1,0) -> 0 | BD23: =IF(BB23>0,1,0) -> 0 | BE23: =AW23*AD23 -> -88 | BF23: =BF22+BE23 -> 362 | BG23: =IF(BE23<>0,1,0) -> 1 | BH23: =IF(BE23>0,1,0) -> 0 | BI23: =AS23*AD23 -> -114 | BJ23: =BJ22+BI23 -> 320 | BK23: =IF(BI23<>0,1,0) -> 1 | BL23: =IF(BI23>0,1,0) -> 0
A24: =IF(D24<>0,1,0) -> 1 | B24: 39521 | C24: 18 | D24: 108.63 | E24: 1 | F24: 109.14 | G24: 108.4 | H24: 108.97 | I24: 108.4 | J24: 109.56 | K24: 108.4 | L24: 1 | M24: 108.84 | N24: =ABS((G24-D24)*100) -> 23 | O24: =ABS((D24-H24)*100) -> 34 | P24: =((D24-J24)*100) -> -93 | Q24: =IF($E$3<N24,$E$3-$M$3,-O24-$M$3) -> -38 | R24: =R23+Q24 -> -19 | S24: =IF(Q24>0,1,0) -> 0 | T24: =IF(C24>$R$3,IF(C24<$R$4,Q24,0),0) -> 0 | U24: =U23+T24 -> 19 | V24: =IF(T24<>0,1,0) -> 0 | W24: =IF(T24>0,1,0) -> 0 | X24: =IF(N24>$Z$4,1,0) -> 0 | Y24: =IF(E24=0,(F24-D24)*100,(D25-K25)*100) -> 33 | Z24: =IF(N24>=($Z$4+$AA$4),$AA$4-$M$3,IF(N24>=$Z$4,-$Z$4-O24,0)) -> 0 | AA24: =X24*Z24 -> 0 | AB24: =AB23+AA24 -> 130 | AC24: =IF(AA24>0,1,0) -> 0 | AD24: =IF(C24>$R$3,IF(C24<$R$4,1,0),0) -> 0 | AE24: =AA24*AD24 -> 0 | AF24: =AF23+AE24 -> 130 | AG24: =X24*AD24 -> 0 | AH24: =IF(AE24>0,1,0) -> 0 | AI24: 1 | AJ24: =AA24*AI24 -> 0 | AK24: =IF(AJ24>0,1,0) -> 0 | AL24: =AI24*X24 -> 0 | AM24: =AM23+AJ24 -> 179 | AN24: =Z24*X24*AD24*AI24 -> 0 | AO24: =AO23+AN24 -> 179 | AP24: =X24*AD24*AI24 -> 0 | AQ24: =IF(AN24>0,1,0) -> 0 | AR24: 0 | AS24: =AA24*AR24 -> 0 | AT24: =AT23+AS24 -> 320 | AU24: =IF(AS24>0,1,0) -> 0 | AV24: =IF(AS24<>0,1,0) -> 0 | AW24: =AR24*Q24 -> 0 | AX24: =AX23+AW24 -> 362 | AY24: =IF(AW24>0,1,0) -> 0 | AZ24: =IF(AW24<>0,1,0) -> 0 | BA24: 1 | BB24: =BA24*AW24 -> 0 | BC24: =IF(BB24<>0,1,0) -> 0 | BD24: =IF(BB24>0,1,0) -> 0 | BE24: =AW24*AD24 -> 0 | BF24: =BF23+BE24 -> 362 | BG24: =IF(BE24<>0,1,0) -> 0 | BH24: =IF(BE24>0,1,0) -> 0 | BI24: =AS24*AD24 -> 0 | BJ24: =BJ23+BI24 -> 320 | BK24: =IF(BI24<>0,1,0) -> 0 | BL24: =IF(BI24>0,1,0) -> 0
A25: =IF(D25<>0,1,0) -> 1 | B25: 39524 | C25: 0 | D25: 108.84 | E25: 0 | F25: 110.33 | G25: 110.33 | H25: 108.47 | I25: 110.33 | J25: 109.44 | K25: 108.51 | L25: 0 | M25: 108.77 | N25: =ABS((G25-D25)*100) -> 149 | O25: =ABS((D25-H25)*100) -> 37 | P25: =((D25-J25)*100) -> -60 | Q25: =IF($E$3<N25,$E$3-$M$3,-O25-$M$3) -> -41 | R25: =R24+Q25 -> -60 | S25: =IF(Q25>0,1,0) -> 0 | T25: =IF(C25>$R$3,IF(C25<$R$4,Q25,0),0) -> 0 | U25: =U24+T25 -> 19 | V25: =IF(T25<>0,1,0) -> 0 | W25: =IF(T25>0,1,0) -> 0 | X25: =IF(N25>$Z$4,1,0) -> 1 | Y25: =IF(E25=0,(F25-D25)*100,(D26-K26)*100) -> 149 | Z25: =IF(N25>=($Z$4+$AA$4),$AA$4-$M$3,IF(N25>=$Z$4,-$Z$4-O25,0)) -> -67 | AA25: =X25*Z25 -> -67 | AB25: =AB24+AA25 -> 63 | AC25: =IF(AA25>0,1,0) -> 0 | AD25: =IF(C25>$R$3,IF(C25<$R$4,1,0),0) -> 0 | AE25: =AA25*AD25 -> 0 | AF25: =AF24+AE25 -> 130 | AG25: =X25*AD25 -> 0 | AH25: =IF(AE25>0,1,0) -> 0 | AI25: 1 | AJ25: =AA25*AI25 -> -67 | AK25: =IF(AJ25>0,1,0) -> 0 | AL25: =AI25*X25 -> 1 | AM25: =AM24+AJ25 -> 112 | AN25: =Z25*X25*AD25*AI25 -> 0 | AO25: =AO24+AN25 -> 179 | AP25: =X25*AD25*AI25 -> 0 | AQ25: =IF(AN25>0,1,0) -> 0 | AR25: 1 | AS25: =AA25*AR25 -> -67 | AT25: =AT24+AS25 -> 253 | AU25: =IF(AS25>0,1,0) -> 0 | AV25: =IF(AS25<>0,1,0) -> 1 | AW25: =AR25*Q25 -> -41 | AX25: =AX24+AW25 -> 321 | AY25: =IF(AW25>0,1,0) -> 0 | AZ25: =IF(AW25<>0,1,0) -> 1 | BA25: 0 | BB25: =BA25*AW25 -> 0 | BC25: =IF(BB25<>0,1,0) -> 0 | BD25: =IF(BB25>0,1,0) -> 0 | BE25: =AW25*AD25 -> 0 | BF25: =BF24+BE25 -> 362 | BG25: =IF(BE25<>0,1,0) -> 0 | BH25: =IF(BE25>0,1,0) -> 0 | BI25: =AS25*AD25 -> 0 | BJ25: =BJ24+BI25 -> 320 | BK25: =IF(BI25<>0,1,0) -> 0 | BL25: =IF(BI25>0,1,0) -> 0
A26: =IF(D26<>0,1,0) -> 1 | B26: 39524 | C26: 11 | D26: 108.77 | E26: 1 | F26: 109.01 | G26: 98.65 | H26: 109.14 | I26: 98.65 | J26: 108.16 | K26: 101.71 | L26: 0 | M26: 106.79 | N26: =ABS((G26-D26)*100) -> 1012 | O26: =ABS((D26-H26)*100) -> 37 | P26: =((D26-J26)*100) -> 61 | Q26: =IF($E$3<N26,$E$3-$M$3,-O26-$M$3) -> 196 | R26: =R25+Q26 -> 136 | S26: =IF(Q26>0,1,0) -> 1 | T26: =IF(C26>$R$3,IF(C26<$R$4,Q26,0),0) -> 196 | U26: =U25+T26 -> 215 | V26: =IF(T26<>0,1,0) -> 1 | W26: =IF(T26>0,1,0) -> 1 | X26: =IF(N26>$Z$4,1,0) -> 1 | Y26: =IF(E26=0,(F26-D26)*100,(D27-K27)*100) -> 109 | Z26: =IF(N26>=($Z$4+$AA$4),$AA$4-$M$3,IF(N26>=$Z$4,-$Z$4-O26,0)) -> 156 | AA26: =X26*Z26 -> 156 | AB26: =AB25+AA26 -> 219 | AC26: =IF(AA26>0,1,0) -> 1 | AD26: =IF(C26>$R$3,IF(C26<$R$4,1,0),0) -> 1 | AE26: =AA26*AD26 -> 156 | AF26: =AF25+AE26 -> 286 | AG26: =X26*AD26 -> 1 | AH26: =IF(AE26>0,1,0) -> 1 | AI26: 1 | AJ26: =AA26*AI26 -> 156 | AK26: =IF(AJ26>0,1,0) -> 1 | AL26: =AI26*X26 -> 1 | AM26: =AM25+AJ26 -> 268 | AN26: =Z26*X26*AD26*AI26 -> 156 | AO26: =AO25+AN26 -> 335 | AP26: =X26*AD26*AI26 -> 1 | AQ26: =IF(AN26>0,1,0) -> 1 | AR26: 0 | AS26: =AA26*AR26 -> 0 | AT26: =AT25+AS26 -> 253 | AU26: =IF(AS26>0,1,0) -> 0 | AV26: =IF(AS26<>0,1,0) -> 0 | AW26: =AR26*Q26 -> 0 | AX26: =AX25+AW26 -> 321 | AY26: =IF(AW26>0,1,0) -> 0 | AZ26: =IF(AW26<>0,1,0) -> 0 | BA26: 0 | BB26: =BA26*AW26 -> 0 | BC26: =IF(BB26<>0,1,0) -> 0 | BD26: =IF(BB26>0,1,0) -> 0 | BE26: =AW26*AD26 -> 0 | BF26: =BF25+BE26 -> 362 | BG26: =IF(BE26<>0,1,0) -> 0 | BH26: =IF(BE26>0,1,0) -> 0 | BI26: =AS26*AD26 -> 0 | BJ26: =BJ25+BI26 -> 320 | BK26: =IF(BI26<>0,1,0) -> 0 | BL26: =IF(BI26>0,1,0) -> 0
A27: =IF(D27<>0,1,0) -> 1 | B27: 39525 | C27: 16 | D27: 106.79 | E27: 0 | F27: 108.83 | G27: 106.98 | H27: 106.46 | I27: 106.98 | J27: 103.79 | K27: 105.7 | L27: 1 | M27: 106.8 | N27: =ABS((G27-D27)*100) -> 19 | O27: =ABS((D27-H27)*100) -> 33 | P27: =((D27-J27)*100) -> 300 | Q27: =IF($E$3<N27,$E$3-$M$3,-O27-$M$3) -> -37 | R27: =R26+Q27 -> 99 | S27: =IF(Q27>0,1,0) -> 0 | T27: =IF(C27>$R$3,IF(C27<$R$4,Q27,0),0) -> -37 | U27: =U26+T27 -> 178 | V27: =IF(T27<>0,1,0) -> 1 | W27: =IF(T27>0,1,0) -> 0 | X27: =IF(N27>$Z$4,1,0) -> 0 | Y27: =IF(E27=0,(F27-D27)*100,(D28-K28)*100) -> 204 | Z27: =IF(N27>=($Z$4+$AA$4),$AA$4-$M$3,IF(N27>=$Z$4,-$Z$4-O27,0)) -> 0 | AA27: =X27*Z27 -> 0 | AB27: =AB26+AA27 -> 219 | AC27: =IF(AA27>0,1,0) -> 0 | AD27: =IF(C27>$R$3,IF(C27<$R$4,1,0),0) -> 1 | AE27: =AA27*AD27 -> 0 | AF27: =AF26+AE27 -> 286 | AG27: =X27*AD27 -> 0 | AH27: =IF(AE27>0,1,0) -> 0 | AI27: 1 | AJ27: =AA27*AI27 -> 0 | AK27: =IF(AJ27>0,1,0) -> 0 | AL27: =AI27*X27 -> 0 | AM27: =AM26+AJ27 -> 268 | AN27: =Z27*X27*AD27*AI27 -> 0 | AO27: =AO26+AN27 -> 335 | AP27: =X27*AD27*AI27 -> 0 | AQ27: =IF(AN27>0,1,0) -> 0 | AR27: 1 | AS27: =AA27*AR27 -> 0 | AT27: =AT26+AS27 -> 253 | AU27: =IF(AS27>0,1,0) -> 0 | AV27: =IF(AS27<>0,1,0) -> 0 | AW27: =AR27*Q27 -> -37 | AX27: =AX26+AW27 -> 284 | AY27: =IF(AW27>0,1,0) -> 0 | AZ27: =IF(AW27<>0,1,0) -> 1 | BA27: 1 | BB27: =BA27*AW27 -> -37 | BC27: =IF(BB27<>0,1,0) -> 1 | BD27: =IF(BB27>0,1,0) -> 0 | BE27: =AW27*AD27 -> -37 | BF27: =BF26+BE27 -> 325 | BG27: =IF(BE27<>0,1,0) -> 1 | BH27: =IF(BE27>0,1,0) -> 0 | BI27: =AS27*AD27 -> 0 | BJ27: =BJ26+BI27 -> 320 | BK27: =IF(BI27<>0,1,0) -> 0 | BL27: =IF(BI27>0,1,0) -> 0
A28: =IF(D28<>0,1,0) -> 1 | B28: 39526 | C28: 10 | D28: 106.8 | E28: 1 | F28: 107.13 | G28: 98.65 | H28: 107.33 | I28: 98.65 | J28: 108.63 | K28: 98.65 | L28: 0 | M28: 101.31 | N28: =ABS((G28-D28)*100) -> 815 | O28: =ABS((D28-H28)*100) -> 53 | P28: =((D28-J28)*100) -> -183 | Q28: =IF($E$3<N28,$E$3-$M$3,-O28-$M$3) -> 196 | R28: =R27+Q28 -> 295 | S28: =IF(Q28>0,1,0) -> 1 | T28: =IF(C28>$R$3,IF(C28<$R$4,Q28,0),0) -> 196 | U28: =U27+T28 -> 374 | V28: =IF(T28<>0,1,0) -> 1 | W28: =IF(T28>0,1,0) -> 1 | X28: =IF(N28>$Z$4,1,0) -> 1 | Y28: =IF(E28=0,(F28-D28)*100,(D29-K29)*100) -> 48 | Z28: =IF(N28>=($Z$4+$AA$4),$AA$4-$M$3,IF(N28>=$Z$4,-$Z$4-O28,0)) -> 156 | AA28: =X28*Z28 -> 156 | AB28: =AB27+AA28 -> 375 | AC28: =IF(AA28>0,1,0) -> 1 | AD28: =IF(C28>$R$3,IF(C28<$R$4,1,0),0) -> 1 | AE28: =AA28*AD28 -> 156 | AF28: =AF27+AE28 -> 442 | AG28: =X28*AD28 -> 1 | AH28: =IF(AE28>0,1,0) -> 1 | AI28: 1 | AJ28: =AA28*AI28 -> 156 | AK28: =IF(AJ28>0,1,0) -> 1 | AL28: =AI28*X28 -> 1 | AM28: =AM27+AJ28 -> 424 | AN28: =Z28*X28*AD28*AI28 -> 156 | AO28: =AO27+AN28 -> 491 | AP28: =X28*AD28*AI28 -> 1 | AQ28: =IF(AN28>0,1,0) -> 1 | AR28: 0 | AS28: =AA28*AR28 -> 0 | AT28: =AT27+AS28 -> 253 | AU28: =IF(AS28>0,1,0) -> 0 | AV28: =IF(AS28<>0,1,0) -> 0 | AW28: =AR28*Q28 -> 0 | AX28: =AX27+AW28 -> 284 | AY28: =IF(AW28>0,1,0) -> 0 | AZ28: =IF(AW28<>0,1,0) -> 0 | BA28: 1 | BB28: =BA28*AW28 -> 0 | BC28: =IF(BB28<>0,1,0) -> 0 | BD28: =IF(BB28>0,1,0) -> 0 | BE28: =AW28*AD28 -> 0 | BF28: =BF27+BE28 -> 325 | BG28: =IF(BE28<>0,1,0) -> 0 | BH28: =IF(BE28>0,1,0) -> 0 | BI28: =AS28*AD28 -> 0 | BJ28: =BJ27+BI28 -> 320 | BK28: =IF(BI28<>0,1,0) -> 0 | BL28: =IF(BI28>0,1,0) -> 0
A29: =IF(D29<>0,1,0) -> 1 | B29: 39532 | C29: 11 | D29: 101.31 | E29: 0 | F29: 101.54 | G29: 101.54 | H29: 100.37 | I29: 101.54 | J29: 99.66 | K29: 100.83 | L29: 0 | M29: 100.86 | N29: =ABS((G29-D29)*100) -> 23 | O29: =ABS((D29-H29)*100) -> 94 | P29: =((D29-J29)*100) -> 165 | Q29: =IF($E$3<N29,$E$3-$M$3,-O29-$M$3) -> -98 | R29: =R28+Q29 -> 197 | S29: =IF(Q29>0,1,0) -> 0 | T29: =IF(C29>$R$3,IF(C29<$R$4,Q29,0),0) -> -98 | U29: =U28+T29 -> 276 | V29: =IF(T29<>0,1,0) -> 1 | W29: =IF(T29>0,1,0) -> 0 | X29: =IF(N29>$Z$4,1,0) -> 0 | Y29: =IF(E29=0,(F29-D29)*100,(D30-K30)*100) -> 23 | Z29: =IF(N29>=($Z$4+$AA$4),$AA$4-$M$3,IF(N29>=$Z$4,-$Z$4-O29,0)) -> 0 | AA29: =X29*Z29 -> 0 | AB29: =AB28+AA29 -> 375 | AC29: =IF(AA29>0,1,0) -> 0 | AD29: =IF(C29>$R$3,IF(C29<$R$4,1,0),0) -> 1 | AE29: =AA29*AD29 -> 0 | AF29: =AF28+AE29 -> 442 | AG29: =X29*AD29 -> 0 | AH29: =IF(AE29>0,1,0) -> 0 | AI29: 1 | AJ29: =AA29*AI29 -> 0 | AK29: =IF(AJ29>0,1,0) -> 0 | AL29: =AI29*X29 -> 0 | AM29: =AM28+AJ29 -> 424 | AN29: =Z29*X29*AD29*AI29 -> 0 | AO29: =AO28+AN29 -> 491 | AP29: =X29*AD29*AI29 -> 0 | AQ29: =IF(AN29>0,1,0) -> 0 | AR29: 0 | AS29: =AA29*AR29 -> 0 | AT29: =AT28+AS29 -> 253 | AU29: =IF(AS29>0,1,0) -> 0 | AV29: =IF(AS29<>0,1,0) -> 0 | AW29: =AR29*Q29 -> 0 | AX29: =AX28+AW29 -> 284 | AY29: =IF(AW29>0,1,0) -> 0 | AZ29: =IF(AW29<>0,1,0) -> 0 | BA29: 1 | BB29: =BA29*AW29 -> 0 | BC29: =IF(BB29<>0,1,0) -> 0 | BD29: =IF(BB29>0,1,0) -> 0 | BE29: =AW29*AD29 -> 0 | BF29: =BF28+BE29 -> 325 | BG29: =IF(BE29<>0,1,0) -> 0 | BH29: =IF(BE29>0,1,0) -> 0 | BI29: =AS29*AD29 -> 0 | BJ29: =BJ28+BI29 -> 320 | BK29: =IF(BI29<>0,1,0) -> 0 | BL29: =IF(BI29>0,1,0) -> 0
A30: =IF(D30<>0,1,0) -> 1 | B30: 39532 | C30: 12 | D30: 100.86 | E30: 1 | F30: 101.25 | G30: 99.1 | H30: 101.54 | I30: 99.1 | J30: 99.66 | K30: 99.1 | L30: 0 | M30: 101.58 | N30: =ABS((G30-D30)*100) -> 176 | O30: =ABS((D30-H30)*100) -> 68 | P30: =((D30-J30)*100) -> 120 | Q30: =IF($E$3<N30,$E$3-$M$3,-O30-$M$3) -> -72 | R30: =R29+Q30 -> 125 | S30: =IF(Q30>0,1,0) -> 0 | T30: =IF(C30>$R$3,IF(C30<$R$4,Q30,0),0) -> -72 | U30: =U29+T30 -> 204 | V30: =IF(T30<>0,1,0) -> 1 | W30: =IF(T30>0,1,0) -> 0 | X30: =IF(N30>$Z$4,1,0) -> 1 | Y30: =IF(E30=0,(F30-D30)*100,(D31-K31)*100) -> 25 | Z30: =IF(N30>=($Z$4+$AA$4),$AA$4-$M$3,IF(N30>=$Z$4,-$Z$4-O30,0)) -> -98 | AA30: =X30*Z30 -> -98 | AB30: =AB29+AA30 -> 277 | AC30: =IF(AA30>0,1,0) -> 0 | AD30: =IF(C30>$R$3,IF(C30<$R$4,1,0),0) -> 1 | AE30: =AA30*AD30 -> -98 | AF30: =AF29+AE30 -> 344 | AG30: =X30*AD30 -> 1 | AH30: =IF(AE30>0,1,0) -> 0 | AI30: 0 | AJ30: =AA30*AI30 -> 0 | AK30: =IF(AJ30>0,1,0) -> 0 | AL30: =AI30*X30 -> 0 | AM30: =AM29+AJ30 -> 424 | AN30: =Z30*X30*AD30*AI30 -> 0 | AO30: =AO29+AN30 -> 491 | AP30: =X30*AD30*AI30 -> 0 | AQ30: =IF(AN30>0,1,0) -> 0 | AR30: 1 | AS30: =AA30*AR30 -> -98 | AT30: =AT29+AS30 -> 155 | AU30: =IF(AS30>0,1,0) -> 0 | AV30: =IF(AS30<>0,1,0) -> 1 | AW30: =AR30*Q30 -> -72 | AX30: =AX29+AW30 -> 212 | AY30: =IF(AW30>0,1,0) -> 0 | AZ30: =IF(AW30<>0,1,0) -> 1 | BA30: 0 | BB30: =BA30*AW30 -> 0 | BC30: =IF(BB30<>0,1,0) -> 0 | BD30: =IF(BB30>0,1,0) -> 0 | BE30: =AW30*AD30 -> -72 | BF30: =BF29+BE30 -> 253 | BG30: =IF(BE30<>0,1,0) -> 1 | BH30: =IF(BE30>0,1,0) -> 0 | BI30: =AS30*AD30 -> -98 | BJ30: =BJ29+BI30 -> 222 | BK30: =IF(BI30<>0,1,0) -> 1 | BL30: =IF(BI30>0,1,0) -> 0
A31: =IF(D31<>0,1,0) -> 1 | B31: 39532 | C31: 18 | D31: 101.58 | E31: 0 | F31: 108.16 | G31: 108.16 | H31: 100.16 | I31: 108.16 | J31: 99.1 | K31: 101.33 | L31: 1 | M31: 104.91 | N31: =ABS((G31-D31)*100) -> 658 | O31: =ABS((D31-H31)*100) -> 142 | P31: =((D31-J31)*100) -> 248 | Q31: =IF($E$3<N31,$E$3-$M$3,-O31-$M$3) -> 196 | R31: =R30+Q31 -> 321 | S31: =IF(Q31>0,1,0) -> 1 | T31: =IF(C31>$R$3,IF(C31<$R$4,Q31,0),0) -> 0 | U31: =U30+T31 -> 204 | V31: =IF(T31<>0,1,0) -> 0 | W31: =IF(T31>0,1,0) -> 0 | X31: =IF(N31>$Z$4,1,0) -> 1 | Y31: =IF(E31=0,(F31-D31)*100,(D32-K32)*100) -> 658 | Z31: =IF(N31>=($Z$4+$AA$4),$AA$4-$M$3,IF(N31>=$Z$4,-$Z$4-O31,0)) -> 156 | AA31: =X31*Z31 -> 156 | AB31: =AB30+AA31 -> 433 | AC31: =IF(AA31>0,1,0) -> 1 | AD31: =IF(C31>$R$3,IF(C31<$R$4,1,0),0) -> 0 | AE31: =AA31*AD31 -> 0 | AF31: =AF30+AE31 -> 344 | AG31: =X31*AD31 -> 0 | AH31: =IF(AE31>0,1,0) -> 0 | AI31: 1 | AJ31: =AA31*AI31 -> 156 | AK31: =IF(AJ31>0,1,0) -> 1 | AL31: =AI31*X31 -> 1 | AM31: =AM30+AJ31 -> 580 | AN31: =Z31*X31*AD31*AI31 -> 0 | AO31: =AO30+AN31 -> 491 | AP31: =X31*AD31*AI31 -> 0 | AQ31: =IF(AN31>0,1,0) -> 0 | AR31: 0 | AS31: =AA31*AR31 -> 0 | AT31: =AT30+AS31 -> 155 | AU31: =IF(AS31>0,1,0) -> 0 | AV31: =IF(AS31<>0,1,0) -> 0 | AW31: =AR31*Q31 -> 0 | AX31: =AX30+AW31 -> 212 | AY31: =IF(AW31>0,1,0) -> 0 | AZ31: =IF(AW31<>0,1,0) -> 0 | BA31: 1 | BB31: =BA31*AW31 -> 0 | BC31: =IF(BB31<>0,1,0) -> 0 | BD31: =IF(BB31>0,1,0) -> 0 | BE31: =AW31*AD31 -> 0 | BF31: =BF30+BE31 -> 253 | BG31: =IF(BE31<>0,1,0) -> 0 | BH31: =IF(BE31>0,1,0) -> 0 | BI31: =AS31*AD31 -> 0 | BJ31: =BJ30+BI31 -> 222 | BK31: =IF(BI31<>0,1,0) -> 0 | BL31: =IF(BI31>0,1,0) -> 0
A32: =IF(D32<>0,1,0) -> 1 | B32: 39535 | C32: 15 | D32: 104.91 | E32: 1 | F32: 106.01 | G32: 104.32 | H32: 106.04 | I32: 99.1 | J32: 107.63 | K32: 104.32 | L32: 0 | M32: 105.37 | N32: =ABS((G32-D32)*100) -> 59 | O32: =ABS((D32-H32)*100) -> 113 | P32: =((D32-J32)*100) -> -272 | Q32: =IF($E$3<N32,$E$3-$M$3,-O32-$M$3) -> -117 | R32: =R31+Q32 -> 204 | S32: =IF(Q32>0,1,0) -> 0 | T32: =IF(C32>$R$3,IF(C32<$R$4,Q32,0),0) -> -117 | U32: =U31+T32 -> 87 | V32: =IF(T32<>0,1,0) -> 1 | W32: =IF(T32>0,1,0) -> 0 | X32: =IF(N32>$Z$4,1,0) -> 1 | Y32: =IF(E32=0,(F32-D32)*100,(D33-K33)*100) -> 378 | Z32: =IF(N32>=($Z$4+$AA$4),$AA$4-$M$3,IF(N32>=$Z$4,-$Z$4-O32,0)) -> -143 | AA32: =X32*Z32 -> -143 | AB32: =AB31+AA32 -> 290 | AC32: =IF(AA32>0,1,0) -> 0 | AD32: =IF(C32>$R$3,IF(C32<$R$4,1,0),0) -> 1 | AE32: =AA32*AD32 -> -143 | AF32: =AF31+AE32 -> 201 | AG32: =X32*AD32 -> 1 | AH32: =IF(AE32>0,1,0) -> 0 | AI32: 1 | AJ32: =AA32*AI32 -> -143 | AK32: =IF(AJ32>0,1,0) -> 0 | AL32: =AI32*X32 -> 1 | AM32: =AM31+AJ32 -> 437 | AN32: =Z32*X32*AD32*AI32 -> -143 | AO32: =AO31+AN32 -> 348 | AP32: =X32*AD32*AI32 -> 1 | AQ32: =IF(AN32>0,1,0) -> 0 | AR32: 0 | AS32: =AA32*AR32 -> 0 | AT32: =AT31+AS32 -> 155 | AU32: =IF(AS32>0,1,0) -> 0 | AV32: =IF(AS32<>0,1,0) -> 0 | AW32: =AR32*Q32 -> 0 | AX32: =AX31+AW32 -> 212 | AY32: =IF(AW32>0,1,0) -> 0 | AZ32: =IF(AW32<>0,1,0) -> 0 | BA32: 1 | BB32: =BA32*AW32 -> 0 | BC32: =IF(BB32<>0,1,0) -> 0 | BD32: =IF(BB32>0,1,0) -> 0 | BE32: =AW32*AD32 -> 0 | BF32: =BF31+BE32 -> 253 | BG32: =IF(BE32<>0,1,0) -> 0 | BH32: =IF(BE32>0,1,0) -> 0 | BI32: =AS32*AD32 -> 0 | BJ32: =BJ31+BI32 -> 222 | BK32: =IF(BI32<>0,1,0) -> 0 | BL32: =IF(BI32>0,1,0) -> 0
... A78: =IF(D78<>0,1,0) -> 1 | B78: 39602 | C78: 11 | D78: 126.83 | E78: 1 | F78: 127.93 | G78: 126.47 | H78: 127.71 | I78: 121.6 | J78: 128.91 | K78: 121.6 | L78: 0 | M78: 123.85 | N78: =ABS((G78-D78)*100) -> 36 | O78: =ABS((D78-H78)*100) -> 88 | P78: =((D78-J78)*100) -> -208 | Q78: =IF($E$3<N78,$E$3-$M$3,-O78-$M$3) -> -92 | R78: =R77+Q78 -> 927 | S78: =IF(Q78>0,1,0) -> 0 | T78: =IF(C78>$R$3,IF(C78<$R$4,Q78,0),0) -> -92 | U78: =U77+T78 -> 1080 | V78: =IF(T78<>0,1,0) -> 1 | W78: =IF(T78>0,1,0) -> 0 | X78: =IF(N78>$Z$4,1,0) -> 1 | Y78: =IF(E78=0,(F78-D78)*100,(D79-K79)*100) -> 110 | Z78: =IF(N78>=($Z$4+$AA$4),$AA$4-$M$3,IF(N78>=$Z$4,-$Z$4-O78,0)) -> -118 | AA78: =X78*Z78 -> -118 | AB78: =AB77+AA78 -> 477 | AC78: =IF(AA78>0,1,0) -> 0 | AD78: =IF(C78>$R$3,IF(C78<$R$4,1,0),0) -> 1 | AE78: =AA78*AD78 -> -118 | AF78: =AF77+AE78 -> 570 | AG78: =X78*AD78 -> 1 | AH78: =IF(AE78>0,1,0) -> 0 | AI78: 1 | AJ78: =AA78*AI78 -> -118 | AK78: =IF(AJ78>0,1,0) -> 0 | AL78: =AI78*X78 -> 1 | AM78: =AM77+AJ78 -> 468 | AN78: =Z78*X78*AD78*AI78 -> -118 | AO78: =AO77+AN78 -> 561 | AP78: =X78*AD78*AI78 -> 1 | AQ78: =IF(AN78>0,1,0) -> 0 | AR78: 1 | AS78: =AA78*AR78 -> -118 | AT78: =AT77+AS78 -> 1139 | AU78: =IF(AS78>0,1,0) -> 0 | AV78: =IF(AS78<>0,1,0) -> 1 | AW78: =AR78*Q78 -> -92 | AX78: =AX77+AW78 -> 1711 | AY78: =IF(AW78>0,1,0) -> 0 | AZ78: =IF(AW78<>0,1,0) -> 1 | BA78: 1 | BB78: =BA78*AW78 -> -92 | BC78: =IF(BB78<>0,1,0) -> 1 | BD78: =IF(BB78>0,1,0) -> 0 | BE78: =AW78*AD78 -> -92 | BF78: =BF77+BE78 -> 1588 | BG78: =IF(BE78<>0,1,0) -> 1 | BH78: =IF(BE78>0,1,0) -> 0 | BI78: =AS78*AD78 -> -118 | BJ78: =BJ77+BI78 -> 1050 | BK78: =IF(BI78<>0,1,0) -> 1 | BL78: =IF(BI78>0,1,0) -> 0
A79: =IF(D79<>0,1,0) -> 1 | B79: 39604 | C79: 13 | D79: 123.85 | E79: 0 | F79: 123.94 | G79: 139.08 | H79: 122.54 | I79: 139.08 | J79: 121.6 | K79: 122.75 | L79: 0 | M79: 122.75 | N79: =ABS((G79-D79)*100) -> 1523 | O79: =ABS((D79-H79)*100) -> 131 | P79: =((D79-J79)*100) -> 225 | Q79: =IF($E$3<N79,$E$3-$M$3,-O79-$M$3) -> 196 | R79: =R78+Q79 -> 1123 | S79: =IF(Q79>0,1,0) -> 1 | T79: =IF(C79>$R$3,IF(C79<$R$4,Q79,0),0) -> 196 | U79: =U78+T79 -> 1276 | V79: =IF(T79<>0,1,0) -> 1 | W79: =IF(T79>0,1,0) -> 1 | X79: 0 | Y79: =IF(E79=0,(F79-D79)*100,(D80-K80)*100) -> 9 | Z79: 0 | AA79: =X79*Z79 -> 0 | AB79: =AB78+AA79 -> 477 | AC79: =IF(AA79>0,1,0) -> 0 | AD79: =IF(C79>$R$3,IF(C79<$R$4,1,0),0) -> 1 | AE79: =AA79*AD79 -> 0 | AF79: =AF78+AE79 -> 570 | AG79: =X79*AD79 -> 0 | AH79: =IF(AE79>0,1,0) -> 0 | AI79: 1 | AJ79: =AA79*AI79 -> 0 | AK79: =IF(AJ79>0,1,0) -> 0 | AL79: =AI79*X79 -> 0 | AM79: =AM78+AJ79 -> 468 | AN79: =Z79*X79*AD79*AI79 -> 0 | AO79: =AO78+AN79 -> 561 | AP79: =X79*AD79*AI79 -> 0 | AQ79: =IF(AN79>0,1,0) -> 0 | AR79: 0 | AS79: =AA79*AR79 -> 0 | AT79: =AT78+AS79 -> 1139 | AU79: =IF(AS79>0,1,0) -> 0 | AV79: =IF(AS79<>0,1,0) -> 0 | AW79: =AR79*Q79 -> 0 | AX79: =AX78+AW79 -> 1711 | AY79: =IF(AW79>0,1,0) -> 0 | AZ79: =IF(AW79<>0,1,0) -> 0 | BA79: 1 | BB79: =BA79*AW79 -> 0 | BC79: =IF(BB79<>0,1,0) -> 0 | BD79: =IF(BB79>0,1,0) -> 0 | BE79: =AW79*AD79 -> 0 | BF79: =BF78+BE79 -> 1588 | BG79: =IF(BE79<>0,1,0) -> 0 | BH79: =IF(BE79>0,1,0) -> 0 | BI79: =AS79*AD79 -> 0 | BJ79: =BJ78+BI79 -> 1050 | BK79: =IF(BI79<>0,1,0) -> 0 | BL79: =IF(BI79>0,1,0) -> 0
A80: =IF(D80<>0,1,0) -> 1 | B80: 39604 | C80: 14 | D80: 122.75 | E80: 1 | F80: 124.06 | G80: 122.71 | H80: 123.94 | I80: 122.71 | J80: 121.65 | K80: 122.71 | L80: 1 | M80: 123.86 | N80: =ABS((G80-D80)*100) -> 4 | O80: =ABS((D80-H80)*100) -> 119 | P80: =((D80-J80)*100) -> 110 | Q80: =IF($E$3<N80,$E$3-$M$3,-O80-$M$3) -> -123 | R80: =R79+Q80 -> 1000 | S80: =IF(Q80>0,1,0) -> 0 | T80: =IF(C80>$R$3,IF(C80<$R$4,Q80,0),0) -> -123 | U80: =U79+T80 -> 1153 | V80: =IF(T80<>0,1,0) -> 1 | W80: =IF(T80>0,1,0) -> 0 | X80: =IF(N80>$Z$4,1,0) -> 0 | Y80: =IF(E80=0,(F80-D80)*100,(D81-K81)*100) -> 22 | Z80: =IF(N80>=($Z$4+$AA$4),$AA$4-$M$3,IF(N80>=$Z$4,-$Z$4-O80,0)) -> 0 | AA80: =X80*Z80 -> 0 | AB80: =AB79+AA80 -> 477 | AC80: =IF(AA80>0,1,0) -> 0 | AD80: =IF(C80>$R$3,IF(C80<$R$4,1,0),0) -> 1 | AE80: =AA80*AD80 -> 0 | AF80: =AF79+AE80 -> 570 | AG80: =X80*AD80 -> 0 | AH80: =IF(AE80>0,1,0) -> 0 | AI80: 1 | AJ80: =AA80*AI80 -> 0 | AK80: =IF(AJ80>0,1,0) -> 0 | AL80: =AI80*X80 -> 0 | AM80: =AM79+AJ80 -> 468 | AN80: =Z80*X80*AD80*AI80 -> 0 | AO80: =AO79+AN80 -> 561 | AP80: =X80*AD80*AI80 -> 0 | AQ80: =IF(AN80>0,1,0) -> 0 | AR80: 1 | AS80: =AA80*AR80 -> 0 | AT80: =AT79+AS80 -> 1139 | AU80: =IF(AS80>0,1,0) -> 0 | AV80: =IF(AS80<>0,1,0) -> 0 | AW80: =AR80*Q80 -> -123 | AX80: =AX79+AW80 -> 1588 | AY80: =IF(AW80>0,1,0) -> 0 | AZ80: =IF(AW80<>0,1,0) -> 1 | BA80: 0 | BB80: =BA80*AW80 -> 0 | BC80: =IF(BB80<>0,1,0) -> 0 | BD80: =IF(BB80>0,1,0) -> 0 | BE80: =AW80*AD80 -> -123 | BF80: =BF79+BE80 -> 1465 | BG80: =IF(BE80<>0,1,0) -> 1 | BH80: =IF(BE80>0,1,0) -> 0 | BI80: =AS80*AD80 -> 0 | BJ80: =BJ79+BI80 -> 1050 | BK80: =IF(BI80<>0,1,0) -> 0 | BL80: =IF(BI80>0,1,0) -> 0
A81: =IF(D81<>0,1,0) -> 1 | B81: 39604 | C81: 15 | D81: 123.86 | E81: 0 | F81: 139.08 | G81: 139.08 | H81: 122.71 | I81: 139.08 | J81: 121.71 | K81: 123.64 | L81: 1 | M81: 133.56 | N81: =ABS((G81-D81)*100) -> 1522 | O81: =ABS((D81-H81)*100) -> 115 | P81: =((D81-J81)*100) -> 215 | Q81: =IF($E$3<N81,$E$3-$M$3,-O81-$M$3) -> 196 | R81: =R80+Q81 -> 1196 | S81: =IF(Q81>0,1,0) -> 1 | T81: =IF(C81>$R$3,IF(C81<$R$4,Q81,0),0) -> 196 | U81: =U80+T81 -> 1349 | V81: =IF(T81<>0,1,0) -> 1 | W81: =IF(T81>0,1,0) -> 1 | X81: =IF(N81>$Z$4,1,0) -> 1 | Y81: =IF(E81=0,(F81-D81)*100,(D82-K82)*100) -> 1522 | Z81: =IF(N81>=($Z$4+$AA$4),$AA$4-$M$3,IF(N81>=$Z$4,-$Z$4-O81,0)) -> 156 | AA81: =X81*Z81 -> 156 | AB81: =AB80+AA81 -> 633 | AC81: =IF(AA81>0,1,0) -> 1 | AD81: =IF(C81>$R$3,IF(C81<$R$4,1,0),0) -> 1 | AE81: =AA81*AD81 -> 156 | AF81: =AF80+AE81 -> 726 | AG81: =X81*AD81 -> 1 | AH81: =IF(AE81>0,1,0) -> 1 | AI81: 1 | AJ81: =AA81*AI81 -> 156 | AK81: =IF(AJ81>0,1,0) -> 1 | AL81: =AI81*X81 -> 1 | AM81: =AM80+AJ81 -> 624 | AN81: =Z81*X81*AD81*AI81 -> 156 | AO81: =AO80+AN81 -> 717 | AP81: =X81*AD81*AI81 -> 1 | AQ81: =IF(AN81>0,1,0) -> 1 | AR81: 0 | AS81: =AA81*AR81 -> 0 | AT81: =AT80+AS81 -> 1139 | AU81: =IF(AS81>0,1,0) -> 0 | AV81: =IF(AS81<>0,1,0) -> 0 | AW81: =AR81*Q81 -> 0 | AX81: =AX80+AW81 -> 1588 | AY81: =IF(AW81>0,1,0) -> 0 | AZ81: =IF(AW81<>0,1,0) -> 0 | BA81: 1 | BB81: =BA81*AW81 -> 0 | BC81: =IF(BB81<>0,1,0) -> 0 | BD81: =IF(BB81>0,1,0) -> 0 | BE81: =AW81*AD81 -> 0 | BF81: =BF80+BE81 -> 1465 | BG81: =IF(BE81<>0,1,0) -> 0 | BH81: =IF(BE81>0,1,0) -> 0 | BI81: =AS81*AD81 -> 0 | BJ81: =BJ80+BI81 -> 1050 | BK81: =IF(BI81<>0,1,0) -> 0 | BL81: =IF(BI81>0,1,0) -> 0
A82: =IF(D82<>0,1,0) -> 1 | B82: 39609 | C82: 7 | D82: 133.56 | E82: 1 | F82: 134.71 | G82: 133.4 | H82: 134.71 | I82: 133.4 | J82: 133.26 | K82: 133.4 | L82: 1 | M82: 134.15 | N82: =ABS((G82-D82)*100) -> 16 | O82: =ABS((D82-H82)*100) -> 115 | P82: =((D82-J82)*100) -> 30 | Q82: =IF($E$3<N82,$E$3-$M$3,-O82-$M$3) -> -119 | R82: =R81+Q82 -> 1077 | S82: =IF(Q82>0,1,0) -> 0 | T82: =IF(C82>$R$3,IF(C82<$R$4,Q82,0),0) -> -119 | U82: =U81+T82 -> 1230 | V82: =IF(T82<>0,1,0) -> 1 | W82: =IF(T82>0,1,0) -> 0 | X82: =IF(N82>$Z$4,1,0) -> 0 | Y82: =IF(E82=0,(F82-D82)*100,(D83-K83)*100) -> 110 | Z82: =IF(N82>=($Z$4+$AA$4),$AA$4-$M$3,IF(N82>=$Z$4,-$Z$4-O82,0)) -> 0 | AA82: =X82*Z82 -> 0 | AB82: =AB81+AA82 -> 633 | AC82: =IF(AA82>0,1,0) -> 0 | AD82: =IF(C82>$R$3,IF(C82<$R$4,1,0),0) -> 1 | AE82: =AA82*AD82 -> 0 | AF82: =AF81+AE82 -> 726 | AG82: =X82*AD82 -> 0 | AH82: =IF(AE82>0,1,0) -> 0 | AI82: 1 | AJ82: =AA82*AI82 -> 0 | AK82: =IF(AJ82>0,1,0) -> 0 | AL82: =AI82*X82 -> 0 | AM82: =AM81+AJ82 -> 624 | AN82: =Z82*X82*AD82*AI82 -> 0 | AO82: =AO81+AN82 -> 717 | AP82: =X82*AD82*AI82 -> 0 | AQ82: =IF(AN82>0,1,0) -> 0 | AR82: 0 | AS82: =AA82*AR82 -> 0 | AT82: =AT81+AS82 -> 1139 | AU82: =IF(AS82>0,1,0) -> 0 | AV82: =IF(AS82<>0,1,0) -> 0 | AW82: =AR82*Q82 -> 0 | AX82: =AX81+AW82 -> 1588 | AY82: =IF(AW82>0,1,0) -> 0 | AZ82: =IF(AW82<>0,1,0) -> 0 | BA82: 0 | BB82: =BA82*AW82 -> 0 | BC82: =IF(BB82<>0,1,0) -> 0 | BD82: =IF(BB82>0,1,0) -> 0 | BE82: =AW82*AD82 -> 0 | BF82: =BF81+BE82 -> 1465 | BG82: =IF(BE82<>0,1,0) -> 0 | BH82: =IF(BE82>0,1,0) -> 0 | BI82: =AS82*AD82 -> 0 | BJ82: =BJ81+BI82 -> 1050 | BK82: =IF(BI82<>0,1,0) -> 0 | BL82: =IF(BI82>0,1,0) -> 0
A83: =IF(D83<>0,1,0) -> 1 | B83: 39609 | C83: 9 | D83: 134.15 | E83: 0 | F83: 137.93 | G83: 137.93 | H83: 133.45 | I83: 137.93 | J83: 133.38 | K83: 133.05 | L83: 0 | M83: 133.65 | N83: =ABS((G83-D83)*100) -> 378 | O83: =ABS((D83-H83)*100) -> 70 | P83: =((D83-J83)*100) -> 77 | Q83: =IF($E$3<N83,$E$3-$M$3,-O83-$M$3) -> 196 | R83: =R82+Q83 -> 1273 | S83: =IF(Q83>0,1,0) -> 1 | T83: =IF(C83>$R$3,IF(C83<$R$4,Q83,0),0) -> 196 | U83: =U82+T83 -> 1426 | V83: =IF(T83<>0,1,0) -> 1 | W83: =IF(T83>0,1,0) -> 1 | X83: =IF(N83>$Z$4,1,0) -> 1 | Y83: =IF(E83=0,(F83-D83)*100,(D84-K84)*100) -> 378 | Z83: =IF(N83>=($Z$4+$AA$4),$AA$4-$M$3,IF(N83>=$Z$4,-$Z$4-O83,0)) -> 156 | AA83: =X83*Z83 -> 156 | AB83: =AB82+AA83 -> 789 | AC83: =IF(AA83>0,1,0) -> 1 | AD83: =IF(C83>$R$3,IF(C83<$R$4,1,0),0) -> 1 | AE83: =AA83*AD83 -> 156 | AF83: =AF82+AE83 -> 882 | AG83: =X83*AD83 -> 1 | AH83: =IF(AE83>0,1,0) -> 1 | AI83: 0 | AJ83: =AA83*AI83 -> 0 | AK83: =IF(AJ83>0,1,0) -> 0 | AL83: =AI83*X83 -> 0 | AM83: =AM82+AJ83 -> 624 | AN83: =Z83*X83*AD83*AI83 -> 0 | AO83: =AO82+AN83 -> 717 | AP83: =X83*AD83*AI83 -> 0 | AQ83: =IF(AN83>0,1,0) -> 0 | AR83: 1 | AS83: =AA83*AR83 -> 156 | AT83: =AT82+AS83 -> 1295 | AU83: =IF(AS83>0,1,0) -> 1 | AV83: =IF(AS83<>0,1,0) -> 1 | AW83: =AR83*Q83 -> 196 | AX83: =AX82+AW83 -> 1784 | AY83: =IF(AW83>0,1,0) -> 1 | AZ83: =IF(AW83<>0,1,0) -> 1 | BA83: 1 | BB83: =BA83*AW83 -> 196 | BC83: =IF(BB83<>0,1,0) -> 1 | BD83: =IF(BB83>0,1,0) -> 1 | BE83: =AW83*AD83 -> 196 | BF83: =BF82+BE83 -> 1661 | BG83: =IF(BE83<>0,1,0) -> 1 | BH83: =IF(BE83>0,1,0) -> 1 | BI83: =AS83*AD83 -> 156 | BJ83: =BJ82+BI83 -> 1206 | BK83: =IF(BI83<>0,1,0) -> 1 | BL83: =IF(BI83>0,1,0) -> 1
A84: =IF(D84<>0,1,0) -> 1 | B84: 39609 | C84: 15 | D84: 133.65 | E84: 1 | F84: 134.55 | G84: 130.76 | H84: 136.18 | I84: 130.76 | J84: 137.93 | K84: 130.76 | L84: 0 | M84: 133.79 | N84: =ABS((G84-D84)*100) -> 289 | O84: =ABS((D84-H84)*100) -> 253 | P84: =((D84-J84)*100) -> -428 | Q84: =IF($E$3<N84,$E$3-$M$3,-O84-$M$3) -> 196 | R84: =R83+Q84 -> 1469 | S84: =IF(Q84>0,1,0) -> 1 | T84: =IF(C84>$R$3,IF(C84<$R$4,Q84,0),0) -> 196 | U84: =U83+T84 -> 1622 | V84: =IF(T84<>0,1,0) -> 1 | W84: =IF(T84>0,1,0) -> 1 | X84: =IF(N84>$Z$4,1,0) -> 1 | Y84: =IF(E84=0,(F84-D84)*100,(D85-K85)*100) -> 100 | Z84: =IF(N84>=($Z$4+$AA$4),$AA$4-$M$3,IF(N84>=$Z$4,-$Z$4-O84,0)) -> 156 | AA84: =X84*Z84 -> 156 | AB84: =AB83+AA84 -> 945 | AC84: =IF(AA84>0,1,0) -> 1 | AD84: =IF(C84>$R$3,IF(C84<$R$4,1,0),0) -> 1 | AE84: =AA84*AD84 -> 156 | AF84: =AF83+AE84 -> 1038 | AG84: =X84*AD84 -> 1 | AH84: =IF(AE84>0,1,0) -> 1 | AI84: 1 | AJ84: =AA84*AI84 -> 156 | AK84: =IF(AJ84>0,1,0) -> 1 | AL84: =AI84*X84 -> 1 | AM84: =AM83+AJ84 -> 780 | AN84: =Z84*X84*AD84*AI84 -> 156 | AO84: =AO83+AN84 -> 873 | AP84: =X84*AD84*AI84 -> 1 | AQ84: =IF(AN84>0,1,0) -> 1 | AR84: 0 | AS84: =AA84*AR84 -> 0 | AT84: =AT83+AS84 -> 1295 | AU84: =IF(AS84>0,1,0) -> 0 | AV84: =IF(AS84<>0,1,0) -> 0 | AW84: =AR84*Q84 -> 0 | AX84: =AX83+AW84 -> 1784 | AY84: =IF(AW84>0,1,0) -> 0 | AZ84: =IF(AW84<>0,1,0) -> 0 | BA84: 1 | BB84: =BA84*AW84 -> 0 | BC84: =IF(BB84<>0,1,0) -> 0 | BD84: =IF(BB84>0,1,0) -> 0 | BE84: =AW84*AD84 -> 0 | BF84: =BF83+BE84 -> 1661 | BG84: =IF(BE84<>0,1,0) -> 0 | BH84: =IF(BE84>0,1,0) -> 0 | BI84: =AS84*AD84 -> 0 | BJ84: =BJ83+BI84 -> 1206 | BK84: =IF(BI84<>0,1,0) -> 0 | BL84: =IF(BI84>0,1,0) -> 0
A85: =IF(D85<>0,1,0) -> 1 | B85: 39610 | C85: 9 | D85: 133.79 | E85: 0 | F85: 133.85 | G85: 133.85 | H85: 132.89 | I85: 138.27 | J85: 130.76 | K85: 132.79 | L85: 0 | M85: 132.93 | N85: =ABS((G85-D85)*100) -> 6 | O85: =ABS((D85-H85)*100) -> 90 | P85: =((D85-J85)*100) -> 303 | Q85: =IF($E$3<N85,$E$3-$M$3,-O85-$M$3) -> -94 | R85: =R84+Q85 -> 1375 | S85: =IF(Q85>0,1,0) -> 0 | T85: =IF(C85>$R$3,IF(C85<$R$4,Q85,0),0) -> -94 | U85: =U84+T85 -> 1528 | V85: =IF(T85<>0,1,0) -> 1 | W85: =IF(T85>0,1,0) -> 0 | X85: =IF(N85>$Z$4,1,0) -> 0 | Y85: =IF(E85=0,(F85-D85)*100,(D86-K86)*100) -> 6 | Z85: =IF(N85>=($Z$4+$AA$4),$AA$4-$M$3,IF(N85>=$Z$4,-$Z$4-O85,0)) -> 0 | AA85: =X85*Z85 -> 0 | AB85: =AB84+AA85 -> 945 | AC85: =IF(AA85>0,1,0) -> 0 | AD85: =IF(C85>$R$3,IF(C85<$R$4,1,0),0) -> 1 | AE85: =AA85*AD85 -> 0 | AF85: =AF84+AE85 -> 1038 | AG85: =X85*AD85 -> 0 | AH85: =IF(AE85>0,1,0) -> 0 | AI85: 1 | AJ85: =AA85*AI85 -> 0 | AK85: =IF(AJ85>0,1,0) -> 0 | AL85: =AI85*X85 -> 0 | AM85: =AM84+AJ85 -> 780 | AN85: =Z85*X85*AD85*AI85 -> 0 | AO85: =AO84+AN85 -> 873 | AP85: =X85*AD85*AI85 -> 0 | AQ85: =IF(AN85>0,1,0) -> 0 | AR85: 1 | AS85: =AA85*AR85 -> 0 | AT85: =AT84+AS85 -> 1295 | AU85: =IF(AS85>0,1,0) -> 0 | AV85: =IF(AS85<>0,1,0) -> 0 | AW85: =AR85*Q85 -> -94 | AX85: =AX84+AW85 -> 1690 | AY85: =IF(AW85>0,1,0) -> 0 | AZ85: =IF(AW85<>0,1,0) -> 1 | BA85: 1 | BB85: =BA85*AW85 -> -94 | BC85: =IF(BB85<>0,1,0) -> 1 | BD85: =IF(BB85>0,1,0) -> 0 | BE85: =AW85*AD85 -> -94 | BF85: =BF84+BE85 -> 1567 | BG85: =IF(BE85<>0,1,0) -> 1 | BH85: =IF(BE85>0,1,0) -> 0 | BI85: =AS85*AD85 -> 0 | BJ85: =BJ84+BI85 -> 1206 | BK85: =IF(BI85<>0,1,0) -> 0 | BL85: =IF(BI85>0,1,0) -> 0
A86: =IF(D86<>0,1,0) -> 1 | B86: 39610 | C86: 10 | D86: 132.93 | E86: 1 | F86: 133.63 | G86: 132.91 | H86: 133.85 | I86: 132.91 | J86: 130.84 | K86: 132.91 | L86: 1 | M86: 133.49 | N86: =ABS((G86-D86)*100) -> 2 | O86: =ABS((D86-H86)*100) -> 92 | P86: =((D86-J86)*100) -> 209 | Q86: =IF($E$3<N86,$E$3-$M$3,-O86-$M$3) -> -96 | R86: =R85+Q86 -> 1279 | S86: =IF(Q86>0,1,0) -> 0 | T86: =IF(C86>$R$3,IF(C86<$R$4,Q86,0),0) -> -96 | U86: =U85+T86 -> 1432 | V86: =IF(T86<>0,1,0) -> 1 | W86: =IF(T86>0,1,0) -> 0 | X86: =IF(N86>$Z$4,1,0) -> 0 | Y86: =IF(E86=0,(F86-D86)*100,(D87-K87)*100) -> 32 | Z86: =IF(N86>=($Z$4+$AA$4),$AA$4-$M$3,IF(N86>=$Z$4,-$Z$4-O86,0)) -> 0 | AA86: =X86*Z86 -> 0 | AB86: =AB85+AA86 -> 945 | AC86: =IF(AA86>0,1,0) -> 0 | AD86: =IF(C86>$R$3,IF(C86<$R$4,1,0),0) -> 1 | AE86: =AA86*AD86 -> 0 | AF86: =AF85+AE86 -> 1038 | AG86: =X86*AD86 -> 0 | AH86: =IF(AE86>0,1,0) -> 0 | AI86: 0 | AJ86: =AA86*AI86 -> 0 | AK86: =IF(AJ86>0,1,0) -> 0 | AL86: =AI86*X86 -> 0 | AM86: =AM85+AJ86 -> 780 | AN86: =Z86*X86*AD86*AI86 -> 0 | AO86: =AO85+AN86 -> 873 | AP86: =X86*AD86*AI86 -> 0 | AQ86: =IF(AN86>0,1,0) -> 0 | AR86: 0 | AS86: =AA86*AR86 -> 0 | AT86: =AT85+AS86 -> 1295 | AU86: =IF(AS86>0,1,0) -> 0 | AV86: =IF(AS86<>0,1,0) -> 0 | AW86: =AR86*Q86 -> 0 | AX86: =AX85+AW86 -> 1690 | AY86: =IF(AW86>0,1,0) -> 0 | AZ86: =IF(AW86<>0,1,0) -> 0 | BA86: 0 | BB86: =BA86*AW86 -> 0 | BC86: =IF(BB86<>0,1,0) -> 0 | BD86: =IF(BB86>0,1,0) -> 0 | BE86: =AW86*AD86 -> 0 | BF86: =BF85+BE86 -> 1567 | BG86: =IF(BE86<>0,1,0) -> 0 | BH86: =IF(BE86>0,1,0) -> 0 | BI86: =AS86*AD86 -> 0 | BJ86: =BJ85+BI86 -> 1206 | BK86: =IF(BI86<>0,1,0) -> 0 | BL86: =IF(BI86>0,1,0) -> 0
A87: =IF(D87<>0,1,0) -> 1 | B87: 39610 | C87: 11 | D87: 133.49 | E87: 0 | F87: 138.27 | G87: 138.27 | H87: 132.91 | I87: 138.27 | J87: 130.91 | K87: 133.17 | L87: 1 | M87: 134.46 | N87: =ABS((G87-D87)*100) -> 478 | O87: =ABS((D87-H87)*100) -> 58 | P87: =((D87-J87)*100) -> 258 | Q87: =IF($E$3<N87,$E$3-$M$3,-O87-$M$3) -> 196 | R87: =R86+Q87 -> 1475 | S87: =IF(Q87>0,1,0) -> 1 | T87: =IF(C87>$R$3,IF(C87<$R$4,Q87,0),0) -> 196 | U87: =U86+T87 -> 1628 | V87: =IF(T87<>0,1,0) -> 1 | W87: =IF(T87>0,1,0) -> 1 | X87: =IF(N87>$Z$4,1,0) -> 1 | Y87: =IF(E87=0,(F87-D87)*100,(D88-K88)*100) -> 478 | Z87: =IF(N87>=($Z$4+$AA$4),$AA$4-$M$3,IF(N87>=$Z$4,-$Z$4-O87,0)) -> 156 | AA87: =X87*Z87 -> 156 | AB87: =AB86+AA87 -> 1101 | AC87: =IF(AA87>0,1,0) -> 1 | AD87: =IF(C87>$R$3,IF(C87<$R$4,1,0),0) -> 1 | AE87: =AA87*AD87 -> 156 | AF87: =AF86+AE87 -> 1194 | AG87: =X87*AD87 -> 1 | AH87: =IF(AE87>0,1,0) -> 1 | AI87: 1 | AJ87: =AA87*AI87 -> 156 | AK87: =IF(AJ87>0,1,0) -> 1 | AL87: =AI87*X87 -> 1 | AM87: =AM86+AJ87 -> 936 | AN87: =Z87*X87*AD87*AI87 -> 156 | AO87: =AO86+AN87 -> 1029 | AP87: =X87*AD87*AI87 -> 1 | AQ87: =IF(AN87>0,1,0) -> 1 | AR87: 1 | AS87: =AA87*AR87 -> 156 | AT87: =AT86+AS87 -> 1451 | AU87: =IF(AS87>0,1,0) -> 1 | AV87: =IF(AS87<>0,1,0) -> 1 | AW87: =AR87*Q87 -> 196 | AX87: =AX86+AW87 -> 1886 | AY87: =IF(AW87>0,1,0) -> 1 | AZ87: =IF(AW87<>0,1,0) -> 1 | BA87: 1 | BB87: =BA87*AW87 -> 196 | BC87: =IF(BB87<>0,1,0) -> 1 | BD87: =IF(BB87>0,1,0) -> 1 | BE87: =AW87*AD87 -> 196 | BF87: =BF86+BE87 -> 1763 | BG87: =IF(BE87<>0,1,0) -> 1 | BH87: =IF(BE87>0,1,0) -> 1 | BI87: =AS87*AD87 -> 156 | BJ87: =BJ86+BI87 -> 1362 | BK87: =IF(BI87<>0,1,0) -> 1 | BL87: =IF(BI87>0,1,0) -> 1
A88: =IF(D88<>0,1,0) -> 1 | B88: 39611 | C88: 9 | D88: 134.46 | E88: 1 | F88: 135.18 | G88: 131.53 | H88: 135.93 | I88: 131.53 | J88: 137.52 | K88: 131.53 | L88: 1 | M88: 134.75 | N88: =ABS((G88-D88)*100) -> 293 | O88: =ABS((D88-H88)*100) -> 147 | P88: =((D88-J88)*100) -> -306 | Q88: =IF($E$3<N88,$E$3-$M$3,-O88-$M$3) -> 196 | R88: =R87+Q88 -> 1671 | S88: =IF(Q88>0,1,0) -> 1 | T88: =IF(C88>$R$3,IF(C88<$R$4,Q88,0),0) -> 196 | U88: =U87+T88 -> 1824 | V88: =IF(T88<>0,1,0) -> 1 | W88: =IF(T88>0,1,0) -> 1 | X88: =IF(N88>$Z$4,1,0) -> 1 | Y88: =IF(E88=0,(F88-D88)*100,(D89-K89)*100) -> 64 | Z88: =IF(N88>=($Z$4+$AA$4),$AA$4-$M$3,IF(N88>=$Z$4,-$Z$4-O88,0)) -> 156 | AA88: =X88*Z88 -> 156 | AB88: =AB87+AA88 -> 1257 | AC88: =IF(AA88>0,1,0) -> 1 | AD88: =IF(C88>$R$3,IF(C88<$R$4,1,0),0) -> 1 | AE88: =AA88*AD88 -> 156 | AF88: =AF87+AE88 -> 1350 | AG88: =X88*AD88 -> 1 | AH88: =IF(AE88>0,1,0) -> 1 | AI88: 1 | AJ88: =AA88*AI88 -> 156 | AK88: =IF(AJ88>0,1,0) -> 1 | AL88: =AI88*X88 -> 1 | AM88: =AM87+AJ88 -> 1092 | AN88: =Z88*X88*AD88*AI88 -> 156 | AO88: =AO87+AN88 -> 1185 | AP88: =X88*AD88*AI88 -> 1 | AQ88: =IF(AN88>0,1,0) -> 1 | AR88: 0 | AS88: =AA88*AR88 -> 0 | AT88: =AT87+AS88 -> 1451 | AU88: =IF(AS88>0,1,0) -> 0 | AV88: =IF(AS88<>0,1,0) -> 0 | AW88: =AR88*Q88 -> 0 | AX88: =AX87+AW88 -> 1886 | AY88: =IF(AW88>0,1,0) -> 0 | AZ88: =IF(AW88<>0,1,0) -> 0 | BA88: 1 | BB88: =BA88*AW88 -> 0 | BC88: =IF(BB88<>0,1,0) -> 0 | BD88: =IF(BB88>0,1,0) -> 0 | BE88: =AW88*AD88 -> 0 | BF88: =BF87+BE88 -> 1763 | BG88: =IF(BE88<>0,1,0) -> 0 | BH88: =IF(BE88>0,1,0) -> 0 | BI88: =AS88*AD88 -> 0 | BJ88: =BJ87+BI88 -> 1362 | BK88: =IF(BI88<>0,1,0) -> 0 | BL88: =IF(BI88>0,1,0) -> 0
A89: =IF(D89<>0,1,0) -> 1 | B89: 39611 | C89: 16 | D89: 134.75 | E89: 0 | F89: 137.78 | G89: 140.04 | H89: 132.33 | I89: 140.04 | J89: 131.53 | K89: 134.11 | L89: 0 | M89: 134.44 | N89: =ABS((G89-D89)*100) -> 529 | O89: =ABS((D89-H89)*100) -> 242 | P89: =((D89-J89)*100) -> 322 | Q89: =IF($E$3<N89,$E$3-$M$3,-O89-$M$3) -> 196 | R89: =R88+Q89 -> 1867 | S89: =IF(Q89>0,1,0) -> 1 | T89: =IF(C89>$R$3,IF(C89<$R$4,Q89,0),0) -> 196 | U89: =U88+T89 -> 2020 | V89: =IF(T89<>0,1,0) -> 1 | W89: =IF(T89>0,1,0) -> 1 | X89: =IF(N89>$Z$4,1,0) -> 1 | Y89: =IF(E89=0,(F89-D89)*100,(D90-K90)*100) -> 303 | Z89: =IF(N89>=($Z$4+$AA$4),$AA$4-$M$3,IF(N89>=$Z$4,-$Z$4-O89,0)) -> 156 | AA89: =X89*Z89 -> 156 | AB89: =AB88+AA89 -> 1413 | AC89: =IF(AA89>0,1,0) -> 1 | AD89: =IF(C89>$R$3,IF(C89<$R$4,1,0),0) -> 1 | AE89: =AA89*AD89 -> 156 | AF89: =AF88+AE89 -> 1506 | AG89: =X89*AD89 -> 1 | AH89: =IF(AE89>0,1,0) -> 1 | AI89: 1 | AJ89: =AA89*AI89 -> 156 | AK89: =IF(AJ89>0,1,0) -> 1 | AL89: =AI89*X89 -> 1 | AM89: =AM88+AJ89 -> 1248 | AN89: =Z89*X89*AD89*AI89 -> 156 | AO89: =AO88+AN89 -> 1341 | AP89: =X89*AD89*AI89 -> 1 | AQ89: =IF(AN89>0,1,0) -> 1 | AR89: 1 | AS89: =AA89*AR89 -> 156 | AT89: =AT88+AS89 -> 1607 | AU89: =IF(AS89>0,1,0) -> 1 | AV89: =IF(AS89<>0,1,0) -> 1 | AW89: =AR89*Q89 -> 196 | AX89: =AX88+AW89 -> 2082 | AY89: =IF(AW89>0,1,0) -> 1 | AZ89: =IF(AW89<>0,1,0) -> 1 | BA89: 1 | BB89: =BA89*AW89 -> 196 | BC89: =IF(BB89<>0,1,0) -> 1 | BD89: =IF(BB89>0,1,0) -> 1 | BE89: =AW89*AD89 -> 196 | BF89: =BF88+BE89 -> 1959 | BG89: =IF(BE89<>0,1,0) -> 1 | BH89: =IF(BE89>0,1,0) -> 1 | BI89: =AS89*AD89 -> 156 | BJ89: =BJ88+BI89 -> 1518 | BK89: =IF(BI89<>0,1,0) -> 1 | BL89: =IF(BI89>0,1,0) -> 1
A90: =IF(D90<>0,1,0) -> 1 | B90: 39612 | C90: 13 | D90: 134.44 | E90: 1 | F90: 136.26 | G90: 134.23 | H90: 136.65 | I90: 134.23 | J90: 137.68 | K90: 134.23 | L90: 1 | M90: 135.74 | N90: =ABS((G90-D90)*100) -> 21 | O90: =ABS((D90-H90)*100) -> 221 | P90: =((D90-J90)*100) -> -324 | Q90: =IF($E$3<N90,$E$3-$M$3,-O90-$M$3) -> -225 | R90: =R89+Q90 -> 1642 | S90: =IF(Q90>0,1,0) -> 0 | T90: =IF(C90>$R$3,IF(C90<$R$4,Q90,0),0) -> -225 | U90: =U89+T90 -> 1795 | V90: =IF(T90<>0,1,0) -> 1 | W90: =IF(T90>0,1,0) -> 0 | X90: =IF(N90>$Z$4,1,0) -> 0 | Y90: =IF(E90=0,(F90-D90)*100,(D91-K91)*100) -> 85 | Z90: =IF(N90>=($Z$4+$AA$4),$AA$4-$M$3,IF(N90>=$Z$4,-$Z$4-O90,0)) -> 0 | AA90: =X90*Z90 -> 0 | AB90: =AB89+AA90 -> 1413 | AC90: =IF(AA90>0,1,0) -> 0 | AD90: =IF(C90>$R$3,IF(C90<$R$4,1,0),0) -> 1 | AE90: =AA90*AD90 -> 0 | AF90: =AF89+AE90 -> 1506 | AG90: =X90*AD90 -> 0 | AH90: =IF(AE90>0,1,0) -> 0 | AI90: 1 | AJ90: =AA90*AI90 -> 0 | AK90: =IF(AJ90>0,1,0) -> 0 | AL90: =AI90*X90 -> 0 | AM90: =AM89+AJ90 -> 1248 | AN90: =Z90*X90*AD90*AI90 -> 0 | AO90: =AO89+AN90 -> 1341 | AP90: =X90*AD90*AI90 -> 0 | AQ90: =IF(AN90>0,1,0) -> 0 | AR90: 0 | AS90: =AA90*AR90 -> 0 | AT90: =AT89+AS90 -> 1607 | AU90: =IF(AS90>0,1,0) -> 0 | AV90: =IF(AS90<>0,1,0) -> 0 | AW90: =AR90*Q90 -> 0 | AX90: =AX89+AW90 -> 2082 | AY90: =IF(AW90>0,1,0) -> 0 | AZ90: =IF(AW90<>0,1,0) -> 0 | BA90: 1 | BB90: =BA90*AW90 -> 0 | BC90: =IF(BB90<>0,1,0) -> 0 | BD90: =IF(BB90>0,1,0) -> 0 | BE90: =AW90*AD90 -> 0 | BF90: =BF89+BE90 -> 1959 | BG90: =IF(BE90<>0,1,0) -> 0 | BH90: =IF(BE90>0,1,0) -> 0 | BI90: =AS90*AD90 -> 0 | BJ90: =BJ89+BI90 -> 1518 | BK90: =IF(BI90<>0,1,0) -> 0 | BL90: =IF(BI90>0,1,0) -> 0
A91: =IF(D91<>0,1,0) -> 1 | B91: 39612 | C91: 16 | D91: 135.74 | E91: 0 | F91: 135.98 | G91: 135.77 | H91: 134.88 | I91: 135.77 | J91: 137.27 | K91: 134.89 | L91: 1 | M91: 135.47 | N91: =ABS((G91-D91)*100) -> 3 | O91: =ABS((D91-H91)*100) -> 86 | P91: =((D91-J91)*100) -> -153 | Q91: =IF($E$3<N91,$E$3-$M$3,-O91-$M$3) -> -90 | R91: =R90+Q91 -> 1552 | S91: =IF(Q91>0,1,0) -> 0 | T91: =IF(C91>$R$3,IF(C91<$R$4,Q91,0),0) -> -90 | U91: =U90+T91 -> 1705 | V91: =IF(T91<>0,1,0) -> 1 | W91: =IF(T91>0,1,0) -> 0 | X91: =IF(N91>$Z$4,1,0) -> 0 | Y91: =IF(E91=0,(F91-D91)*100,(D92-K92)*100) -> 24 | Z91: =IF(N91>=($Z$4+$AA$4),$AA$4-$M$3,IF(N91>=$Z$4,-$Z$4-O91,0)) -> 0 | AA91: =X91*Z91 -> 0 | AB91: =AB90+AA91 -> 1413 | AC91: =IF(AA91>0,1,0) -> 0 | AD91: =IF(C91>$R$3,IF(C91<$R$4,1,0),0) -> 1 | AE91: =AA91*AD91 -> 0 | AF91: =AF90+AE91 -> 1506 | AG91: =X91*AD91 -> 0 | AH91: =IF(AE91>0,1,0) -> 0 | AI91: 1 | AJ91: =AA91*AI91 -> 0 | AK91: =IF(AJ91>0,1,0) -> 0 | AL91: =AI91*X91 -> 0 | AM91: =AM90+AJ91 -> 1248 | AN91: =Z91*X91*AD91*AI91 -> 0 | AO91: =AO90+AN91 -> 1341 | AP91: =X91*AD91*AI91 -> 0 | AQ91: =IF(AN91>0,1,0) -> 0 | AR91: 1 | AS91: =AA91*AR91 -> 0 | AT91: =AT90+AS91 -> 1607 | AU91: =IF(AS91>0,1,0) -> 0 | AV91: =IF(AS91<>0,1,0) -> 0 | AW91: =AR91*Q91 -> -90 | AX91: =AX90+AW91 -> 1992 | AY91: =IF(AW91>0,1,0) -> 0 | AZ91: =IF(AW91<>0,1,0) -> 1 | BA91: 0 | BB91: =BA91*AW91 -> 0 | BC91: =IF(BB91<>0,1,0) -> 0 | BD91: =IF(BB91>0,1,0) -> 0 | BE91: =AW91*AD91 -> -90 | BF91: =BF90+BE91 -> 1869 | BG91: =IF(BE91<>0,1,0) -> 1 | BH91: =IF(BE91>0,1,0) -> 0 | BI91: =AS91*AD91 -> 0 | BJ91: =BJ90+BI91 -> 1518 | BK91: =IF(BI91<>0,1,0) -> 0 | BL91: =IF(BI91>0,1,0) -> 0
... A93: =IF(D93<>0,1,0) -> 1 | B93: 39615 | C93: 9 | D93: 135.37 | E93: 0 | F93: 140.04 | G93: 140.04 | H93: 135.02 | I93: 140.04 | J93: 135.71 | K93: 133.59 | L93: 0 | M93: 134.36 | N93: =ABS((G93-D93)*100) -> 467 | O93: =ABS((D93-H93)*100) -> 35 | P93: =((D93-J93)*100) -> -34 | Q93: =IF($E$3<N93,$E$3-$M$3,-O93-$M$3) -> 196 | R93: =R92+Q93 -> 1693 | S93: =IF(Q93>0,1,0) -> 1 | T93: =IF(C93>$R$3,IF(C93<$R$4,Q93,0),0) -> 196 | U93: =U92+T93 -> 1901 | V93: =IF(T93<>0,1,0) -> 1 | W93: =IF(T93>0,1,0) -> 1 | X93: =IF(N93>$Z$4,1,0) -> 1 | Y93: =IF(E93=0,(F93-D93)*100,(D94-K94)*100) -> 467 | Z93: =IF(N93>=($Z$4+$AA$4),$AA$4-$M$3,IF(N93>=$Z$4,-$Z$4-O93,0)) -> 156 | AA93: =X93*Z93 -> 156 | AB93: =AB92+AA93 -> 1488 | AC93: =IF(AA93>0,1,0) -> 1 | AD93: =IF(C93>$R$3,IF(C93<$R$4,1,0),0) -> 1 | AE93: =AA93*AD93 -> 156 | AF93: =AF92+AE93 -> 1662 | AG93: =X93*AD93 -> 1 | AH93: =IF(AE93>0,1,0) -> 1 | AI93: 1 | AJ93: =AA93*AI93 -> 156 | AK93: =IF(AJ93>0,1,0) -> 1 | AL93: =AI93*X93 -> 1 | AM93: =AM92+AJ93 -> 1323 | AN93: =Z93*X93*AD93*AI93 -> 156 | AO93: =AO92+AN93 -> 1497 | AP93: =X93*AD93*AI93 -> 1 | AQ93: =IF(AN93>0,1,0) -> 1 | AR93: 1 | AS93: =AA93*AR93 -> 156 | AT93: =AT92+AS93 -> 1763 | AU93: =IF(AS93>0,1,0) -> 1 | AV93: =IF(AS93<>0,1,0) -> 1 | AW93: =AR93*Q93 -> 196 | AX93: =AX92+AW93 -> 2188 | AY93: =IF(AW93>0,1,0) -> 1 | AZ93: =IF(AW93<>0,1,0) -> 1 | BA93: 0 | BB93: =BA93*AW93 -> 0 | BC93: =IF(BB93<>0,1,0) -> 0 | BD93: =IF(BB93>0,1,0) -> 0 | BE93: =AW93*AD93 -> 196 | BF93: =BF92+BE93 -> 2065 | BG93: =IF(BE93<>0,1,0) -> 1 | BH93: =IF(BE93>0,1,0) -> 1 | BI93: =AS93*AD93 -> 156 | BJ93: =BJ92+BI93 -> 1674 | BK93: =IF(BI93<>0,1,0) -> 1 | BL93: =IF(BI93>0,1,0) -> 1
A94: =IF(D94<>0,1,0) -> 1 | B94: 39615 | C94: 17 | D94: 134.36 | E94: 1 | F94: 135.86 | G94: 131.74 | H94: 137.58 | I94: 131.74 | J94: 140.04 | K94: 134.15 | L94: 1 | M94: 135.74 | N94: =ABS((G94-D94)*100) -> 262 | O94: =ABS((D94-H94)*100) -> 322 | P94: =((D94-J94)*100) -> -568 | Q94: =IF($E$3<N94,$E$3-$M$3,-O94-$M$3) -> 196 | R94: =R93+Q94 -> 1889 | S94: =IF(Q94>0,1,0) -> 1 | T94: =IF(C94>$R$3,IF(C94<$R$4,Q94,0),0) -> 196 | U94: =U93+T94 -> 2097 | V94: =IF(T94<>0,1,0) -> 1 | W94: =IF(T94>0,1,0) -> 1 | X94: 0 | Y94: =IF(E94=0,(F94-D94)*100,(D95-K95)*100) -> 155 | Z94: =IF(N94>=($Z$4+$AA$4),$AA$4-$M$3,IF(N94>=$Z$4,-$Z$4-O94,0)) -> 156 | AA94: =X94*Z94 -> 0 | AB94: =AB93+AA94 -> 1488 | AC94: =IF(AA94>0,1,0) -> 0 | AD94: =IF(C94>$R$3,IF(C94<$R$4,1,0),0) -> 1 | AE94: =AA94*AD94 -> 0 | AF94: =AF93+AE94 -> 1662 | AG94: =X94*AD94 -> 0 | AH94: =IF(AE94>0,1,0) -> 0 | AI94: 1 | AJ94: =AA94*AI94 -> 0 | AK94: =IF(AJ94>0,1,0) -> 0 | AL94: =AI94*X94 -> 0 | AM94: =AM93+AJ94 -> 1323 | AN94: =Z94*X94*AD94*AI94 -> 0 | AO94: =AO93+AN94 -> 1497 | AP94: =X94*AD94*AI94 -> 0 | AQ94: =IF(AN94>0,1,0) -> 0 | AR94: 0 | AS94: =AA94*AR94 -> 0 | AT94: =AT93+AS94 -> 1763 | AU94: =IF(AS94>0,1,0) -> 0 | AV94: =IF(AS94<>0,1,0) -> 0 | AW94: =AR94*Q94 -> 0 | AX94: =AX93+AW94 -> 2188 | AY94: =IF(AW94>0,1,0) -> 0 | AZ94: =IF(AW94<>0,1,0) -> 0 | BA94: 1 | BB94: =BA94*AW94 -> 0 | BC94: =IF(BB94<>0,1,0) -> 0 | BD94: =IF(BB94>0,1,0) -> 0 | BE94: =AW94*AD94 -> 0 | BF94: =BF93+BE94 -> 2065 | BG94: =IF(BE94<>0,1,0) -> 0 | BH94: =IF(BE94>0,1,0) -> 0 | BI94: =AS94*AD94 -> 0 | BJ94: =BJ93+BI94 -> 1674 | BK94: =IF(BI94<>0,1,0) -> 0 | BL94: =IF(BI94>0,1,0) -> 0
A95: =IF(D95<>0,1,0) -> 1 | B95: 39616 | C95: 7 | D95: 135.74 | E95: 0 | F95: 135.79 | G95: 135.79 | H95: 134.94 | I95: 135.79 | J95: 138.65 | K95: 134.19 | L95: 0 | M95: 134.21 | N95: =ABS((G95-D95)*100) -> 5 | O95: =ABS((D95-H95)*100) -> 80 | P95: =((D95-J95)*100) -> -291 | Q95: =IF($E$3<N95,$E$3-$M$3,-O95-$M$3) -> -84 | R95: =R94+Q95 -> 1805 | S95: =IF(Q95>0,1,0) -> 0 | T95: =IF(C95>$R$3,IF(C95<$R$4,Q95,0),0) -> -84 | U95: =U94+T95 -> 2013 | V95: =IF(T95<>0,1,0) -> 1 | W95: =IF(T95>0,1,0) -> 0 | X95: =IF(N95>$Z$4,1,0) -> 0 | Y95: =IF(E95=0,(F95-D95)*100,(D96-K96)*100) -> 5 | Z95: =IF(N95>=($Z$4+$AA$4),$AA$4-$M$3,IF(N95>=$Z$4,-$Z$4-O95,0)) -> 0 | AA95: =X95*Z95 -> 0 | AB95: =AB94+AA95 -> 1488 | AC95: =IF(AA95>0,1,0) -> 0 | AD95: =IF(C95>$R$3,IF(C95<$R$4,1,0),0) -> 1 | AE95: =AA95*AD95 -> 0 | AF95: =AF94+AE95 -> 1662 | AG95: =X95*AD95 -> 0 | AH95: =IF(AE95>0,1,0) -> 0 | AI95: 1 | AJ95: =AA95*AI95 -> 0 | AK95: =IF(AJ95>0,1,0) -> 0 | AL95: =AI95*X95 -> 0 | AM95: =AM94+AJ95 -> 1323 | AN95: =Z95*X95*AD95*AI95 -> 0 | AO95: =AO94+AN95 -> 1497 | AP95: =X95*AD95*AI95 -> 0 | AQ95: =IF(AN95>0,1,0) -> 0 | AR95: 1 | AS95: =AA95*AR95 -> 0 | AT95: =AT94+AS95 -> 1763 | AU95: =IF(AS95>0,1,0) -> 0 | AV95: =IF(AS95<>0,1,0) -> 0 | AW95: =AR95*Q95 -> -84 | AX95: =AX94+AW95 -> 2104 | AY95: =IF(AW95>0,1,0) -> 0 | AZ95: =IF(AW95<>0,1,0) -> 1 | BA95: 0 | BB95: =BA95*AW95 -> 0 | BC95: =IF(BB95<>0,1,0) -> 0 | BD95: =IF(BB95>0,1,0) -> 0 | BE95: =AW95*AD95 -> -84 | BF95: =BF94+BE95 -> 1981 | BG95: =IF(BE95<>0,1,0) -> 1 | BH95: =IF(BE95>0,1,0) -> 0 | BI95: =AS95*AD95 -> 0 | BJ95: =BJ94+BI95 -> 1674 | BK95: =IF(BI95<>0,1,0) -> 0 | BL95: =IF(BI95>0,1,0) -> 0
A96: =IF(D96<>0,1,0) -> 1 | B96: 39616 | C96: 8 | D96: 134.21 | E96: 1 | F96: 135.79 | G96: 132.26 | H96: 135.79 | I96: 132.26 | J96: 138.55 | K96: 132.26 | L96: 1 | M96: 135.26 | N96: =ABS((G96-D96)*100) -> 195 | O96: =ABS((D96-H96)*100) -> 158 | P96: =((D96-J96)*100) -> -434 | Q96: =IF($E$3<N96,$E$3-$M$3,-O96-$M$3) -> -162 | R96: =R95+Q96 -> 1643 | S96: =IF(Q96>0,1,0) -> 0 | T96: =IF(C96>$R$3,IF(C96<$R$4,Q96,0),0) -> -162 | U96: =U95+T96 -> 1851 | V96: =IF(T96<>0,1,0) -> 1 | W96: =IF(T96>0,1,0) -> 0 | X96: =IF(N96>$Z$4,1,0) -> 1 | Y96: =IF(E96=0,(F96-D96)*100,(D97-K97)*100) -> 109 | Z96: =IF(N96>=($Z$4+$AA$4),$AA$4-$M$3,IF(N96>=$Z$4,-$Z$4-O96,0)) -> 156 | AA96: =X96*Z96 -> 156 | AB96: =AB95+AA96 -> 1644 | AC96: =IF(AA96>0,1,0) -> 1 | AD96: =IF(C96>$R$3,IF(C96<$R$4,1,0),0) -> 1 | AE96: =AA96*AD96 -> 156 | AF96: =AF95+AE96 -> 1818 | AG96: =X96*AD96 -> 1 | AH96: =IF(AE96>0,1,0) -> 1 | AI96: 1 | AJ96: =AA96*AI96 -> 156 | AK96: =IF(AJ96>0,1,0) -> 1 | AL96: =AI96*X96 -> 1 | AM96: =AM95+AJ96 -> 1479 | AN96: =Z96*X96*AD96*AI96 -> 156 | AO96: =AO95+AN96 -> 1653 | AP96: =X96*AD96*AI96 -> 1 | AQ96: =IF(AN96>0,1,0) -> 1 | AR96: 0 | AS96: =AA96*AR96 -> 0 | AT96: =AT95+AS96 -> 1763 | AU96: =IF(AS96>0,1,0) -> 0 | AV96: =IF(AS96<>0,1,0) -> 0 | AW96: =AR96*Q96 -> 0 | AX96: =AX95+AW96 -> 2104 | AY96: =IF(AW96>0,1,0) -> 0 | AZ96: =IF(AW96<>0,1,0) -> 0 | BA96: 1 | BB96: =BA96*AW96 -> 0 | BC96: =IF(BB96<>0,1,0) -> 0 | BD96: =IF(BB96>0,1,0) -> 0 | BE96: =AW96*AD96 -> 0 | BF96: =BF95+BE96 -> 1981 | BG96: =IF(BE96<>0,1,0) -> 0 | BH96: =IF(BE96>0,1,0) -> 0 | BI96: =AS96*AD96 -> 0 | BJ96: =BJ95+BI96 -> 1674 | BK96: =IF(BI96<>0,1,0) -> 0 | BL96: =IF(BI96>0,1,0) -> 0
A97: =IF(D97<>0,1,0) -> 1 | B97: 39617 | C97: 10 | D97: 135.26 | E97: 0 | F97: 135.68 | G97: 135.68 | H97: 134.27 | I97: 135.68 | J97: 132.5 | K97: 134.17 | L97: 0 | M97: 134.57 | N97: =ABS((G97-D97)*100) -> 42 | O97: =ABS((D97-H97)*100) -> 99 | P97: =((D97-J97)*100) -> 276 | Q97: =IF($E$3<N97,$E$3-$M$3,-O97-$M$3) -> -103 | R97: =R96+Q97 -> 1540 | S97: =IF(Q97>0,1,0) -> 0 | T97: =IF(C97>$R$3,IF(C97<$R$4,Q97,0),0) -> -103 | U97: =U96+T97 -> 1748 | V97: =IF(T97<>0,1,0) -> 1 | W97: =IF(T97>0,1,0) -> 0 | X97: =IF(N97>$Z$4,1,0) -> 1 | Y97: =IF(E97=0,(F97-D97)*100,(D98-K98)*100) -> 42 | Z97: =IF(N97>=($Z$4+$AA$4),$AA$4-$M$3,IF(N97>=$Z$4,-$Z$4-O97,0)) -> -129 | AA97: =X97*Z97 -> -129 | AB97: =AB96+AA97 -> 1515 | AC97: =IF(AA97>0,1,0) -> 0 | AD97: =IF(C97>$R$3,IF(C97<$R$4,1,0),0) -> 1 | AE97: =AA97*AD97 -> -129 | AF97: =AF96+AE97 -> 1689 | AG97: =X97*AD97 -> 1 | AH97: =IF(AE97>0,1,0) -> 0 | AI97: 1 | AJ97: =AA97*AI97 -> -129 | AK97: =IF(AJ97>0,1,0) -> 0 | AL97: =AI97*X97 -> 1 | AM97: =AM96+AJ97 -> 1350 | AN97: =Z97*X97*AD97*AI97 -> -129 | AO97: =AO96+AN97 -> 1524 | AP97: =X97*AD97*AI97 -> 1 | AQ97: =IF(AN97>0,1,0) -> 0 | AR97: 1 | AS97: =AA97*AR97 -> -129 | AT97: =AT96+AS97 -> 1634 | AU97: =IF(AS97>0,1,0) -> 0 | AV97: =IF(AS97<>0,1,0) -> 1 | AW97: =AR97*Q97 -> -103 | AX97: =AX96+AW97 -> 2001 | AY97: =IF(AW97>0,1,0) -> 0 | AZ97: =IF(AW97<>0,1,0) -> 1 | BA97: 1 | BB97: =BA97*AW97 -> -103 | BC97: =IF(BB97<>0,1,0) -> 1 | BD97: =IF(BB97>0,1,0) -> 0 | BE97: =AW97*AD97 -> -103 | BF97: =BF96+BE97 -> 1878 | BG97: =IF(BE97<>0,1,0) -> 1 | BH97: =IF(BE97>0,1,0) -> 0 | BI97: =AS97*AD97 -> -129 | BJ97: =BJ96+BI97 -> 1545 | BK97: =IF(BI97<>0,1,0) -> 1 | BL97: =IF(BI97>0,1,0) -> 0
A98: =IF(D98<>0,1,0) -> 1 | B98: 39617 | C98: 13 | D98: 134.57 | E98: 1 | F98: 136.41 | G98: 132.36 | H98: 135.56 | I98: 132.36 | J98: 133.05 | K98: 132.36 | L98: 1 | M98: 135.94 | N98: =ABS((G98-D98)*100) -> 221 | O98: =ABS((D98-H98)*100) -> 99 | P98: =((D98-J98)*100) -> 152 | Q98: =IF($E$3<N98,$E$3-$M$3,-O98-$M$3) -> 196 | R98: =R97+Q98 -> 1736 | S98: =IF(Q98>0,1,0) -> 1 | T98: =IF(C98>$R$3,IF(C98<$R$4,Q98,0),0) -> 196 | U98: =U97+T98 -> 1944 | V98: =IF(T98<>0,1,0) -> 1 | W98: =IF(T98>0,1,0) -> 1 | X98: =IF(N98>$Z$4,1,0) -> 1 | Y98: =IF(E98=0,(F98-D98)*100,(D99-K99)*100) -> 191 | Z98: =IF(N98>=($Z$4+$AA$4),$AA$4-$M$3,IF(N98>=$Z$4,-$Z$4-O98,0)) -> 156 | AA98: =X98*Z98 -> 156 | AB98: =AB97+AA98 -> 1671 | AC98: =IF(AA98>0,1,0) -> 1 | AD98: =IF(C98>$R$3,IF(C98<$R$4,1,0),0) -> 1 | AE98: =AA98*AD98 -> 156 | AF98: =AF97+AE98 -> 1845 | AG98: =X98*AD98 -> 1 | AH98: =IF(AE98>0,1,0) -> 1 | AI98: 0 | AJ98: =AA98*AI98 -> 0 | AK98: =IF(AJ98>0,1,0) -> 0 | AL98: =AI98*X98 -> 0 | AM98: =AM97+AJ98 -> 1350 | AN98: =Z98*X98*AD98*AI98 -> 0 | AO98: =AO97+AN98 -> 1524 | AP98: =X98*AD98*AI98 -> 0 | AQ98: =IF(AN98>0,1,0) -> 0 | AR98: 0 | AS98: =AA98*AR98 -> 0 | AT98: =AT97+AS98 -> 1634 | AU98: =IF(AS98>0,1,0) -> 0 | AV98: =IF(AS98<>0,1,0) -> 0 | AW98: =AR98*Q98 -> 0 | AX98: =AX97+AW98 -> 2001 | AY98: =IF(AW98>0,1,0) -> 0 | AZ98: =IF(AW98<>0,1,0) -> 0 | BA98: 0 | BB98: =BA98*AW98 -> 0 | BC98: =IF(BB98<>0,1,0) -> 0 | BD98: =IF(BB98>0,1,0) -> 0 | BE98: =AW98*AD98 -> 0 | BF98: =BF97+BE98 -> 1878 | BG98: =IF(BE98<>0,1,0) -> 0 | BH98: =IF(BE98>0,1,0) -> 0 | BI98: =AS98*AD98 -> 0 | BJ98: =BJ97+BI98 -> 1545 | BK98: =IF(BI98<>0,1,0) -> 0 | BL98: =IF(BI98>0,1,0) -> 0
A99: =IF(D99<>0,1,0) -> 1 | B99: 39617 | C99: 17 | D99: 135.94 | E99: 0 | F99: 138.32 | G99: 138.32 | H99: 133.65 | I99: 138.32 | J99: 132.36 | K99: 134.03 | L99: 0 | M99: 134.67 | N99: =ABS((G99-D99)*100) -> 238 | O99: =ABS((D99-H99)*100) -> 229 | P99: =((D99-J99)*100) -> 358 | Q99: =IF($E$3<N99,$E$3-$M$3,-O99-$M$3) -> 196 | R99: =R98+Q99 -> 1932 | S99: =IF(Q99>0,1,0) -> 1 | T99: =IF(C99>$R$3,IF(C99<$R$4,Q99,0),0) -> 196 | U99: =U98+T99 -> 2140 | V99: =IF(T99<>0,1,0) -> 1 | W99: =IF(T99>0,1,0) -> 1 | X99: =IF(N99>$Z$4,1,0) -> 1 | Y99: =IF(E99=0,(F99-D99)*100,(D100-K100)*100) -> 238 | Z99: =IF(N99>=($Z$4+$AA$4),$AA$4-$M$3,IF(N99>=$Z$4,-$Z$4-O99,0)) -> 156 | AA99: =X99*Z99 -> 156 | AB99: =AB98+AA99 -> 1827 | AC99: =IF(AA99>0,1,0) -> 1 | AD99: =IF(C99>$R$3,IF(C99<$R$4,1,0),0) -> 1 | AE99: =AA99*AD99 -> 156 | AF99: =AF98+AE99 -> 2001 | AG99: =X99*AD99 -> 1 | AH99: =IF(AE99>0,1,0) -> 1 | AI99: 1 | AJ99: =AA99*AI99 -> 156 | AK99: =IF(AJ99>0,1,0) -> 1 | AL99: =AI99*X99 -> 1 | AM99: =AM98+AJ99 -> 1506 | AN99: =Z99*X99*AD99*AI99 -> 156 | AO99: =AO98+AN99 -> 1680 | AP99: =X99*AD99*AI99 -> 1 | AQ99: =IF(AN99>0,1,0) -> 1 | AR99: 1 | AS99: =AA99*AR99 -> 156 | AT99: =AT98+AS99 -> 1790 | AU99: =IF(AS99>0,1,0) -> 1 | AV99: =IF(AS99<>0,1,0) -> 1 | AW99: =AR99*Q99 -> 196 | AX99: =AX98+AW99 -> 2197 | AY99: =IF(AW99>0,1,0) -> 1 | AZ99: =IF(AW99<>0,1,0) -> 1 | BA99: 1 | BB99: =BA99*AW99 -> 196 | BC99: =IF(BB99<>0,1,0) -> 1 | BD99: =IF(BB99>0,1,0) -> 1 | BE99: =AW99*AD99 -> 196 | BF99: =BF98+BE99 -> 2074 | BG99: =IF(BE99<>0,1,0) -> 1 | BH99: =IF(BE99>0,1,0) -> 1 | BI99: =AS99*AD99 -> 156 | BJ99: =BJ98+BI99 -> 1701 | BK99: =IF(BI99<>0,1,0) -> 1 | BL99: =IF(BI99>0,1,0) -> 1
A100: =IF(D100<>0,1,0) -> 1 | B100: 39618 | C100: 13 | D100: 134.67 | E100: 1 | F100: 135.86 | G100: 131.74 | H100: 138.32 | I100: 131.74 | J100: 137.62 | K100: 131.74 | L100: 1 | M100: 134.9 | N100: =ABS((G100-D100)*100) -> 293 | O100: =ABS((D100-H100)*100) -> 365 | P100: =((D100-J100)*100) -> -295 | Q100: =IF($E$3<N100,$E$3-$M$3,-O100-$M$3) -> 196 | R100: =R99+Q100 -> 2128 | S100: =IF(Q100>0,1,0) -> 1 | T100: =IF(C100>$R$3,IF(C100<$R$4,Q100,0),0) -> 196 | U100: =U99+T100 -> 2336 | V100: =IF(T100<>0,1,0) -> 1 | W100: =IF(T100>0,1,0) -> 1 | X100: =IF(N100>$Z$4,1,0) -> 1 | Y100: =IF(E100=0,(F100-D100)*100,(D101-K101)*100) -> 71 | Z100: =IF(N100>=($Z$4+$AA$4),$AA$4-$M$3,IF(N100>=$Z$4,-$Z$4-O100,0)) -> 156 | AA100: =X100*Z100 -> 156 | AB100: =AB99+AA100 -> 1983 | AC100: =IF(AA100>0,1,0) -> 1 | AD100: =IF(C100>$R$3,IF(C100<$R$4,1,0),0) -> 1 | AE100: =AA100*AD100 -> 156 | AF100: =AF99+AE100 -> 2157 | AG100: =X100*AD100 -> 1 | AH100: =IF(AE100>0,1,0) -> 1 | AI100: 1 | AJ100: =AA100*AI100 -> 156 | AK100: =IF(AJ100>0,1,0) -> 1 | AL100: =AI100*X100 -> 1 | AM100: =AM99+AJ100 -> 1662 | AN100: =Z100*X100*AD100*AI100 -> 156 | AO100: =AO99+AN100 -> 1836 | AP100: =X100*AD100*AI100 -> 1 | AQ100: =IF(AN100>0,1,0) -> 1 | AR100: 0 | AS100: =AA100*AR100 -> 0 | AT100: =AT99+AS100 -> 1790 | AU100: =IF(AS100>0,1,0) -> 0 | AV100: =IF(AS100<>0,1,0) -> 0 | AW100: =AR100*Q100 -> 0 | AX100: =AX99+AW100 -> 2197 | AY100: =IF(AW100>0,1,0) -> 0 | AZ100: =IF(AW100<>0,1,0) -> 0 | BA100: 1 | BB100: =BA100*AW100 -> 0 | BC100: =IF(BB100<>0,1,0) -> 0 | BD100: =IF(BB100>0,1,0) -> 0 | BE100: =AW100*AD100 -> 0 | BF100: =BF99+BE100 -> 2074 | BG100: =IF(BE100<>0,1,0) -> 0 | BH100: =IF(BE100>0,1,0) -> 0 | BI100: =AS100*AD100 -> 0 | BJ100: =BJ99+BI100 -> 1701 | BK100: =IF(BI100<>0,1,0) -> 0 | BL100: =IF(BI100>0,1,0) -> 0
A101: =IF(D101<>0,1,0) -> 1 | B101: 39619 | C101: 11 | D101: 134.9 | E101: 0 | F101: 137.44 | G101: 138.65 | H101: 133.83 | I101: 138.65 | J101: 132.21 | K101: 134.19 | L101: 0 | M101: 134.52 | N101: =ABS((G101-D101)*100) -> 375 | O101: =ABS((D101-H101)*100) -> 107 | P101: =((D101-J101)*100) -> 269 | Q101: =IF($E$3<N101,$E$3-$M$3,-O101-$M$3) -> 196 | R101: =R100+Q101 -> 2324 | S101: =IF(Q101>0,1,0) -> 1 | T101: =IF(C101>$R$3,IF(C101<$R$4,Q101,0),0) -> 196 | U101: =U100+T101 -> 2532 | V101: =IF(T101<>0,1,0) -> 1 | W101: =IF(T101>0,1,0) -> 1 | X101: =IF(N101>$Z$4,1,0) -> 1 | Y101: =IF(E101=0,(F101-D101)*100,(D102-K102)*100) -> 254 | Z101: =IF(N101>=($Z$4+$AA$4),$AA$4-$M$3,IF(N101>=$Z$4,-$Z$4-O101,0)) -> 156 | AA101: =X101*Z101 -> 156 | AB101: =AB100+AA101 -> 2139 | AC101: =IF(AA101>0,1,0) -> 1 | AD101: =IF(C101>$R$3,IF(C101<$R$4,1,0),0) -> 1 | AE101: =AA101*AD101 -> 156 | AF101: =AF100+AE101 -> 2313 | AG101: =X101*AD101 -> 1 | AH101: =IF(AE101>0,1,0) -> 1 | AI101: 1 | AJ101: =AA101*AI101 -> 156 | AK101: =IF(AJ101>0,1,0) -> 1 | AL101: =AI101*X101 -> 1 | AM101: =AM100+AJ101 -> 1818 | AN101: =Z101*X101*AD101*AI101 -> 156 | AO101: =AO100+AN101 -> 1992 | AP101: =X101*AD101*AI101 -> 1 | AQ101: =IF(AN101>0,1,0) -> 1 | AR101: 1 | AS101: =AA101*AR101 -> 156 | AT101: =AT100+AS101 -> 1946 | AU101: =IF(AS101>0,1,0) -> 1 | AV101: =IF(AS101<>0,1,0) -> 1 | AW101: =AR101*Q101 -> 196 | AX101: =AX100+AW101 -> 2393 | AY101: =IF(AW101>0,1,0) -> 1 | AZ101: =IF(AW101<>0,1,0) -> 1 | BA101: 0 | BB101: =BA101*AW101 -> 0 | BC101: =IF(BB101<>0,1,0) -> 0 | BD101: =IF(BB101>0,1,0) -> 0 | BE101: =AW101*AD101 -> 196 | BF101: =BF100+BE101 -> 2270 | BG101: =IF(BE101<>0,1,0) -> 1 | BH101: =IF(BE101>0,1,0) -> 1 | BI101: =AS101*AD101 -> 156 | BJ101: =BJ100+BI101 -> 1857 | BK101: =IF(BI101<>0,1,0) -> 1 | BL101: =IF(BI101>0,1,0) -> 1
A102: =IF(D102<>0,1,0) -> 1 | B102: 39619 | C102: 17 | D102: 134.52 | E102: 1 | F102: 135.68 | G102: 134.25 | H102: 136.31 | I102: 134.25 | J102: 137.44 | K102: 134.25 | L102: 1 | M102: 134.95 | N102: =ABS((G102-D102)*100) -> 27 | O102: =ABS((D102-H102)*100) -> 179 | P102: =((D102-J102)*100) -> -292 | Q102: =IF($E$3<N102,$E$3-$M$3,-O102-$M$3) -> -183 | R102: =R101+Q102 -> 2141 | S102: =IF(Q102>0,1,0) -> 0 | T102: =IF(C102>$R$3,IF(C102<$R$4,Q102,0),0) -> -183 | U102: =U101+T102 -> 2349 | V102: =IF(T102<>0,1,0) -> 1 | W102: =IF(T102>0,1,0) -> 0 | X102: =IF(N102>$Z$4,1,0) -> 0 | Y102: =IF(E102=0,(F102-D102)*100,(D103-K103)*100) -> 49 | Z102: =IF(N102>=($Z$4+$AA$4),$AA$4-$M$3,IF(N102>=$Z$4,-$Z$4-O102,0)) -> 0 | AA102: =X102*Z102 -> 0 | AB102: =AB101+AA102 -> 2139 | AC102: =IF(AA102>0,1,0) -> 0 | AD102: =IF(C102>$R$3,IF(C102<$R$4,1,0),0) -> 1 | AE102: =AA102*AD102 -> 0 | AF102: =AF101+AE102 -> 2313 | AG102: =X102*AD102 -> 0 | AH102: =IF(AE102>0,1,0) -> 0 | AI102: 1 | AJ102: =AA102*AI102 -> 0 | AK102: =IF(AJ102>0,1,0) -> 0 | AL102: =AI102*X102 -> 0 | AM102: =AM101+AJ102 -> 1818 | AN102: =Z102*X102*AD102*AI102 -> 0 | AO102: =AO101+AN102 -> 1992 | AP102: =X102*AD102*AI102 -> 0 | AQ102: =IF(AN102>0,1,0) -> 0 | AR102: 0 | AS102: =AA102*AR102 -> 0 | AT102: =AT101+AS102 -> 1946 | AU102: =IF(AS102>0,1,0) -> 0 | AV102: =IF(AS102<>0,1,0) -> 0 | AW102: =AR102*Q102 -> 0 | AX102: =AX101+AW102 -> 2393 | AY102: =IF(AW102>0,1,0) -> 0 | AZ102: =IF(AW102<>0,1,0) -> 0 | BA102: 1 | BB102: =BA102*AW102 -> 0 | BC102: =IF(BB102<>0,1,0) -> 0 | BD102: =IF(BB102>0,1,0) -> 0 | BE102: =AW102*AD102 -> 0 | BF102: =BF101+BE102 -> 2270 | BG102: =IF(BE102<>0,1,0) -> 0 | BH102: =IF(BE102>0,1,0) -> 0 | BI102: =AS102*AD102 -> 0 | BJ102: =BJ101+BI102 -> 1857 | BK102: =IF(BI102<>0,1,0) -> 0 | BL102: =IF(BI102>0,1,0) -> 0
A103: =IF(D103<>0,1,0) -> 1 | B103: 39619 | C103: 18 | D103: 134.95 | E103: 0 | F103: 137.45 | G103: 138.65 | H103: 134.25 | I103: 138.65 | J103: 137.38 | K103: 134.46 | L103: 0 | M103: 135.14 | N103: =ABS((G103-D103)*100) -> 370 | O103: =ABS((D103-H103)*100) -> 70 | P103: =((D103-J103)*100) -> -243 | Q103: =IF($E$3<N103,$E$3-$M$3,-O103-$M$3) -> 196 | R103: =R102+Q103 -> 2337 | S103: =IF(Q103>0,1,0) -> 1 | T103: =IF(C103>$R$3,IF(C103<$R$4,Q103,0),0) -> 0 | U103: =U102+T103 -> 2349 | V103: =IF(T103<>0,1,0) -> 0 | W103: =IF(T103>0,1,0) -> 0 | X103: =IF(N103>$Z$4,1,0) -> 1 | Y103: =IF(E103=0,(F103-D103)*100,(D104-K104)*100) -> 250 | Z103: =IF(N103>=($Z$4+$AA$4),$AA$4-$M$3,IF(N103>=$Z$4,-$Z$4-O103,0)) -> 156 | AA103: =X103*Z103 -> 156 | AB103: =AB102+AA103 -> 2295 | AC103: =IF(AA103>0,1,0) -> 1 | AD103: =IF(C103>$R$3,IF(C103<$R$4,1,0),0) -> 0 | AE103: =AA103*AD103 -> 0 | AF103: =AF102+AE103 -> 2313 | AG103: =X103*AD103 -> 0 | AH103: =IF(AE103>0,1,0) -> 0 | AI103: 1 | AJ103: =AA103*AI103 -> 156 | AK103: =IF(AJ103>0,1,0) -> 1 | AL103: =AI103*X103 -> 1 | AM103: =AM102+AJ103 -> 1974 | AN103: =Z103*X103*AD103*AI103 -> 0 | AO103: =AO102+AN103 -> 1992 | AP103: =X103*AD103*AI103 -> 0 | AQ103: =IF(AN103>0,1,0) -> 0 | AR103: 1 | AS103: =AA103*AR103 -> 156 | AT103: =AT102+AS103 -> 2102 | AU103: =IF(AS103>0,1,0) -> 1 | AV103: =IF(AS103<>0,1,0) -> 1 | AW103: =AR103*Q103 -> 196 | AX103: =AX102+AW103 -> 2589 | AY103: =IF(AW103>0,1,0) -> 1 | AZ103: =IF(AW103<>0,1,0) -> 1 | BA103: 0 | BB103: =BA103*AW103 -> 0 | BC103: =IF(BB103<>0,1,0) -> 0 | BD103: =IF(BB103>0,1,0) -> 0 | BE103: =AW103*AD103 -> 0 | BF103: =BF102+BE103 -> 2270 | BG103: =IF(BE103<>0,1,0) -> 0 | BH103: =IF(BE103>0,1,0) -> 0 | BI103: =AS103*AD103 -> 0 | BJ103: =BJ102+BI103 -> 1857 | BK103: =IF(BI103<>0,1,0) -> 0 | BL103: =IF(BI103>0,1,0) -> 0
A104: =IF(D104<>0,1,0) -> 1 | B104: 39622 | C104: 12 | D104: 135.14 | E104: 1 | F104: 136.68 | G104: 134.04 | H104: 137.27 | I104: 134.04 | J104: 137.45 | K104: 134.04 | L104: 1 | M104: 136.19 | N104: =ABS((G104-D104)*100) -> 110 | O104: =ABS((D104-H104)*100) -> 213 | P104: =((D104-J104)*100) -> -231 | Q104: =IF($E$3<N104,$E$3-$M$3,-O104-$M$3) -> -217 | R104: =R103+Q104 -> 2120 | S104: =IF(Q104>0,1,0) -> 0 | T104: =IF(C104>$R$3,IF(C104<$R$4,Q104,0),0) -> -217 | U104: =U103+T104 -> 2132 | V104: =IF(T104<>0,1,0) -> 1 | W104: =IF(T104>0,1,0) -> 0 | X104: =IF(N104>$Z$4,1,0) -> 1 | Y104: =IF(E104=0,(F104-D104)*100,(D105-K105)*100) -> 34 | Z104: =IF(N104>=($Z$4+$AA$4),$AA$4-$M$3,IF(N104>=$Z$4,-$Z$4-O104,0)) -> -243 | AA104: =X104*Z104 -> -243 | AB104: =AB103+AA104 -> 2052 | AC104: =IF(AA104>0,1,0) -> 0 | AD104: =IF(C104>$R$3,IF(C104<$R$4,1,0),0) -> 1 | AE104: =AA104*AD104 -> -243 | AF104: =AF103+AE104 -> 2070 | AG104: =X104*AD104 -> 1 | AH104: =IF(AE104>0,1,0) -> 0 | AI104: 1 | AJ104: =AA104*AI104 -> -243 | AK104: =IF(AJ104>0,1,0) -> 0 | AL104: =AI104*X104 -> 1 | AM104: =AM103+AJ104 -> 1731 | AN104: =Z104*X104*AD104*AI104 -> -243 | AO104: =AO103+AN104 -> 1749 | AP104: =X104*AD104*AI104 -> 1 | AQ104: =IF(AN104>0,1,0) -> 0 | AR104: 0 | AS104: =AA104*AR104 -> 0 | AT104: =AT103+AS104 -> 2102 | AU104: =IF(AS104>0,1,0) -> 0 | AV104: =IF(AS104<>0,1,0) -> 0 | AW104: =AR104*Q104 -> 0 | AX104: =AX103+AW104 -> 2589 | AY104: =IF(AW104>0,1,0) -> 0 | AZ104: =IF(AW104<>0,1,0) -> 0 | BA104: 1 | BB104: =BA104*AW104 -> 0 | BC104: =IF(BB104<>0,1,0) -> 0 | BD104: =IF(BB104>0,1,0) -> 0 | BE104: =AW104*AD104 -> 0 | BF104: =BF103+BE104 -> 2270 | BG104: =IF(BE104<>0,1,0) -> 0 | BH104: =IF(BE104>0,1,0) -> 0 | BI104: =AS104*AD104 -> 0 | BJ104: =BJ103+BI104 -> 1857 | BK104: =IF(BI104<>0,1,0) -> 0 | BL104: =IF(BI104>0,1,0) -> 0
A105: =IF(D105<>0,1,0) -> 1 | B105: 39622 | C105: 13 | D105: 136.19 | E105: 0 | F105: 138.65 | G105: 138.65 | H105: 134.04 | I105: 138.65 | J105: 137.39 | K105: 135.85 | L105: 1 | M105: 136.69 | N105: =ABS((G105-D105)*100) -> 246 | O105: =ABS((D105-H105)*100) -> 215 | P105: =((D105-J105)*100) -> -120 | Q105: =IF($E$3<N105,$E$3-$M$3,-O105-$M$3) -> 196 | R105: =R104+Q105 -> 2316 | S105: =IF(Q105>0,1,0) -> 1 | T105: =IF(C105>$R$3,IF(C105<$R$4,Q105,0),0) -> 196 | U105: =U104+T105 -> 2328 | V105: =IF(T105<>0,1,0) -> 1 | W105: =IF(T105>0,1,0) -> 1 | X105: =IF(N105>$Z$4,1,0) -> 1 | Y105: =IF(E105=0,(F105-D105)*100,(D106-K106)*100) -> 246 | Z105: =IF(N105>=($Z$4+$AA$4),$AA$4-$M$3,IF(N105>=$Z$4,-$Z$4-O105,0)) -> 156 | AA105: =X105*Z105 -> 156 | AB105: =AB104+AA105 -> 2208 | AC105: =IF(AA105>0,1,0) -> 1 | AD105: =IF(C105>$R$3,IF(C105<$R$4,1,0),0) -> 1 | AE105: =AA105*AD105 -> 156 | AF105: =AF104+AE105 -> 2226 | AG105: =X105*AD105 -> 1 | AH105: =IF(AE105>0,1,0) -> 1 | AI105: 0 | AJ105: =AA105*AI105 -> 0 | AK105: =IF(AJ105>0,1,0) -> 0 | AL105: =AI105*X105 -> 0 | AM105: =AM104+AJ105 -> 1731 | AN105: =Z105*X105*AD105*AI105 -> 0 | AO105: =AO104+AN105 -> 1749 | AP105: =X105*AD105*AI105 -> 0 | AQ105: =IF(AN105>0,1,0) -> 0 | AR105: 1 | AS105: =AA105*AR105 -> 156 | AT105: =AT104+AS105 -> 2258 | AU105: =IF(AS105>0,1,0) -> 1 | AV105: =IF(AS105<>0,1,0) -> 1 | AW105: =AR105*Q105 -> 196 | AX105: =AX104+AW105 -> 2785 | AY105: =IF(AW105>0,1,0) -> 1 | AZ105: =IF(AW105<>0,1,0) -> 1 | BA105: 0 | BB105: =BA105*AW105 -> 0 | BC105: =IF(BB105<>0,1,0) -> 0 | BD105: =IF(BB105>0,1,0) -> 0 | BE105: =AW105*AD105 -> 196 | BF105: =BF104+BE105 -> 2466 | BG105: =IF(BE105<>0,1,0) -> 1 | BH105: =IF(BE105>0,1,0) -> 1 | BI105: =AS105*AD105 -> 156 | BJ105: =BJ104+BI105 -> 2013 | BK105: =IF(BI105<>0,1,0) -> 1 | BL105: =IF(BI105>0,1,0) -> 1
A106: =IF(D106<>0,1,0) -> 1 | B106: 39624 | C106: 9 | D106: 136.69 | E106: 1 | F106: 137.11 | G106: 131.95 | H106: 137.53 | I106: 131.95 | J106: 135.94 | K106: 136.53 | L106: 1 | M106: 136.9 | N106: =ABS((G106-D106)*100) -> 474 | O106: =ABS((D106-H106)*100) -> 84 | P106: =((D106-J106)*100) -> 75 | Q106: =IF($E$3<N106,$E$3-$M$3,-O106-$M$3) -> 196 | R106: =R105+Q106 -> 2512 | S106: =IF(Q106>0,1,0) -> 1 | T106: =IF(C106>$R$3,IF(C106<$R$4,Q106,0),0) -> 196 | U106: =U105+T106 -> 2524 | V106: =IF(T106<>0,1,0) -> 1 | W106: =IF(T106>0,1,0) -> 1 | X106: 0 | Y106: =IF(E106=0,(F106-D106)*100,(D107-K107)*100) -> 35 | Z106: =IF(N106>=($Z$4+$AA$4),$AA$4-$M$3,IF(N106>=$Z$4,-$Z$4-O106,0)) -> 156 | AA106: =X106*Z106 -> 0 | AB106: =AB105+AA106 -> 2208 | AC106: =IF(AA106>0,1,0) -> 0 | AD106: =IF(C106>$R$3,IF(C106<$R$4,1,0),0) -> 1 | AE106: =AA106*AD106 -> 0 | AF106: =AF105+AE106 -> 2226 | AG106: =X106*AD106 -> 0 | AH106: =IF(AE106>0,1,0) -> 0 | AI106: 1 | AJ106: =AA106*AI106 -> 0 | AK106: =IF(AJ106>0,1,0) -> 0 | AL106: =AI106*X106 -> 0 | AM106: =AM105+AJ106 -> 1731 | AN106: =Z106*X106*AD106*AI106 -> 0 | AO106: =AO105+AN106 -> 1749 | AP106: =X106*AD106*AI106 -> 0 | AQ106: =IF(AN106>0,1,0) -> 0 | AR106: 0 | AS106: =AA106*AR106 -> 0 | AT106: =AT105+AS106 -> 2258 | AU106: =IF(AS106>0,1,0) -> 0 | AV106: =IF(AS106<>0,1,0) -> 0 | AW106: =AR106*Q106 -> 0 | AX106: =AX105+AW106 -> 2785 | AY106: =IF(AW106>0,1,0) -> 0 | AZ106: =IF(AW106<>0,1,0) -> 0 | BA106: 0 | BB106: =BA106*AW106 -> 0 | BC106: =IF(BB106<>0,1,0) -> 0 | BD106: =IF(BB106>0,1,0) -> 0 | BE106: =AW106*AD106 -> 0 | BF106: =BF105+BE106 -> 2466 | BG106: =IF(BE106<>0,1,0) -> 0 | BH106: =IF(BE106>0,1,0) -> 0 | BI106: =AS106*AD106 -> 0 | BJ106: =BJ105+BI106 -> 2013 | BK106: =IF(BI106<>0,1,0) -> 0 | BL106: =IF(BI106>0,1,0) -> 0
A107: =IF(D107<>0,1,0) -> 1 | B107: 39624 | C107: 10 | D107: 136.9 | E107: 0 | F107: 137.18 | G107: 137.18 | H107: 136.53 | I107: 137.18 | J107: 136.01 | K107: 136.55 | L107: 0 | M107: 136.71 | N107: =ABS((G107-D107)*100) -> 28 | O107: =ABS((D107-H107)*100) -> 37 | P107: =((D107-J107)*100) -> 89 | Q107: =IF($E$3<N107,$E$3-$M$3,-O107-$M$3) -> -41 | R107: =R106+Q107 -> 2471 | S107: =IF(Q107>0,1,0) -> 0 | T107: =IF(C107>$R$3,IF(C107<$R$4,Q107,0),0) -> -41 | U107: =U106+T107 -> 2483 | V107: =IF(T107<>0,1,0) -> 1 | W107: =IF(T107>0,1,0) -> 0 | X107: =IF(N107>$Z$4,1,0) -> 0 | Y107: =IF(E107=0,(F107-D107)*100,(D108-K108)*100) -> 28 | Z107: =IF(N107>=($Z$4+$AA$4),$AA$4-$M$3,IF(N107>=$Z$4,-$Z$4-O107,0)) -> 0 | AA107: =X107*Z107 -> 0 | AB107: =AB106+AA107 -> 2208 | AC107: =IF(AA107>0,1,0) -> 0 | AD107: =IF(C107>$R$3,IF(C107<$R$4,1,0),0) -> 1 | AE107: =AA107*AD107 -> 0 | AF107: =AF106+AE107 -> 2226 | AG107: =X107*AD107 -> 0 | AH107: =IF(AE107>0,1,0) -> 0 | AI107: 0 | AJ107: =AA107*AI107 -> 0 | AK107: =IF(AJ107>0,1,0) -> 0 | AL107: =AI107*X107 -> 0 | AM107: =AM106+AJ107 -> 1731 | AN107: =Z107*X107*AD107*AI107 -> 0 | AO107: =AO106+AN107 -> 1749 | AP107: =X107*AD107*AI107 -> 0 | AQ107: =IF(AN107>0,1,0) -> 0 | AR107: 1 | AS107: =AA107*AR107 -> 0 | AT107: =AT106+AS107 -> 2258 | AU107: =IF(AS107>0,1,0) -> 0 | AV107: =IF(AS107<>0,1,0) -> 0 | AW107: =AR107*Q107 -> -41 | AX107: =AX106+AW107 -> 2744 | AY107: =IF(AW107>0,1,0) -> 0 | AZ107: =IF(AW107<>0,1,0) -> 1 | BA107: 1 | BB107: =BA107*AW107 -> -41 | BC107: =IF(BB107<>0,1,0) -> 1 | BD107: =IF(BB107>0,1,0) -> 0 | BE107: =AW107*AD107 -> -41 | BF107: =BF106+BE107 -> 2425 | BG107: =IF(BE107<>0,1,0) -> 1 | BH107: =IF(BE107>0,1,0) -> 0 | BI107: =AS107*AD107 -> 0 | BJ107: =BJ106+BI107 -> 2013 | BK107: =IF(BI107<>0,1,0) -> 0 | BL107: =IF(BI107>0,1,0) -> 0
A108: =IF(D108<>0,1,0) -> 1 | B108: 39624 | C108: 11 | D108: 136.71 | E108: 1 | F108: 136.88 | G108: 131.95 | H108: 137.18 | I108: 131.95 | J108: 136.07 | K108: 131.95 | L108: 0 | M108: 136.09 | N108: =ABS((G108-D108)*100) -> 476 | O108: =ABS((D108-H108)*100) -> 47 | P108: =((D108-J108)*100) -> 64 | Q108: =IF($E$3<N108,$E$3-$M$3,-O108-$M$3) -> 196 | R108: =R107+Q108 -> 2667 | S108: =IF(Q108>0,1,0) -> 1 | T108: =IF(C108>$R$3,IF(C108<$R$4,Q108,0),0) -> 196 | U108: =U107+T108 -> 2679 | V108: =IF(T108<>0,1,0) -> 1 | W108: =IF(T108>0,1,0) -> 1 | X108: =IF(N108>$Z$4,1,0) -> 1 | Y108: =IF(E108=0,(F108-D108)*100,(D109-K109)*100) -> -12 | Z108: =IF(N108>=($Z$4+$AA$4),$AA$4-$M$3,IF(N108>=$Z$4,-$Z$4-O108,0)) -> 156 | AA108: =X108*Z108 -> 156 | AB108: =AB107+AA108 -> 2364 | AC108: =IF(AA108>0,1,0) -> 1 | AD108: =IF(C108>$R$3,IF(C108<$R$4,1,0),0) -> 1 | AE108: =AA108*AD108 -> 156 | AF108: =AF107+AE108 -> 2382 | AG108: =X108*AD108 -> 1 | AH108: =IF(AE108>0,1,0) -> 1 | AI108: 1 | AJ108: =AA108*AI108 -> 156 | AK108: =IF(AJ108>0,1,0) -> 1 | AL108: =AI108*X108 -> 1 | AM108: =AM107+AJ108 -> 1887 | AN108: =Z108*X108*AD108*AI108 -> 156 | AO108: =AO107+AN108 -> 1905 | AP108: =X108*AD108*AI108 -> 1 | AQ108: =IF(AN108>0,1,0) -> 1 | AR108: 0 | AS108: =AA108*AR108 -> 0 | AT108: =AT107+AS108 -> 2258 | AU108: =IF(AS108>0,1,0) -> 0 | AV108: =IF(AS108<>0,1,0) -> 0 | AW108: =AR108*Q108 -> 0 | AX108: =AX107+AW108 -> 2744 | AY108: =IF(AW108>0,1,0) -> 0 | AZ108: =IF(AW108<>0,1,0) -> 0 | BA108: 0 | BB108: =BA108*AW108 -> 0 | BC108: =IF(BB108<>0,1,0) -> 0 | BD108: =IF(BB108>0,1,0) -> 0 | BE108: =AW108*AD108 -> 0 | BF108: =BF107+BE108 -> 2425 | BG108: =IF(BE108<>0,1,0) -> 0 | BH108: =IF(BE108>0,1,0) -> 0 | BI108: =AS108*AD108 -> 0 | BJ108: =BJ107+BI108 -> 2013 | BK108: =IF(BI108<>0,1,0) -> 0 | BL108: =IF(BI108>0,1,0) -> 0
A109: =IF(D109<>0,1,0) -> 1 | B109: 39625 | C109: 12 | D109: 136.09 | E109: 0 | F109: 143.54 | G109: 145.79 | H109: 134.81 | I109: 145.79 | J109: 132.49 | K109: 136.21 | L109: 1 | M109: 139.95 | N109: =ABS((G109-D109)*100) -> 970 | O109: =ABS((D109-H109)*100) -> 128 | P109: =((D109-J109)*100) -> 360 | Q109: =IF($E$3<N109,$E$3-$M$3,-O109-$M$3) -> 196 | R109: =R108+Q109 -> 2863 | S109: =IF(Q109>0,1,0) -> 1 | T109: =IF(C109>$R$3,IF(C109<$R$4,Q109,0),0) -> 196 | U109: =U108+T109 -> 2875 | V109: =IF(T109<>0,1,0) -> 1 | W109: =IF(T109>0,1,0) -> 1 | X109: =IF(N109>$Z$4,1,0) -> 1 | Y109: =IF(E109=0,(F109-D109)*100,(D110-K110)*100) -> 745 | Z109: =IF(N109>=($Z$4+$AA$4),$AA$4-$M$3,IF(N109>=$Z$4,-$Z$4-O109,0)) -> 156 | AA109: =X109*Z109 -> 156 | AB109: =AB108+AA109 -> 2520 | AC109: =IF(AA109>0,1,0) -> 1 | AD109: =IF(C109>$R$3,IF(C109<$R$4,1,0),0) -> 1 | AE109: =AA109*AD109 -> 156 | AF109: =AF108+AE109 -> 2538 | AG109: =X109*AD109 -> 1 | AH109: =IF(AE109>0,1,0) -> 1 | AI109: 1 | AJ109: =AA109*AI109 -> 156 | AK109: =IF(AJ109>0,1,0) -> 1 | AL109: =AI109*X109 -> 1 | AM109: =AM108+AJ109 -> 2043 | AN109: =Z109*X109*AD109*AI109 -> 156 | AO109: =AO108+AN109 -> 2061 | AP109: =X109*AD109*AI109 -> 1 | AQ109: =IF(AN109>0,1,0) -> 1 | AR109: 1 | AS109: =AA109*AR109 -> 156 | AT109: =AT108+AS109 -> 2414 | AU109: =IF(AS109>0,1,0) -> 1 | AV109: =IF(AS109<>0,1,0) -> 1 | AW109: =AR109*Q109 -> 196 | AX109: =AX108+AW109 -> 2940 | AY109: =IF(AW109>0,1,0) -> 1 | AZ109: =IF(AW109<>0,1,0) -> 1 | BA109: 1 | BB109: =BA109*AW109 -> 196 | BC109: =IF(BB109<>0,1,0) -> 1 | BD109: =IF(BB109>0,1,0) -> 1 | BE109: =AW109*AD109 -> 196 | BF109: =BF108+BE109 -> 2621 | BG109: =IF(BE109<>0,1,0) -> 1 | BH109: =IF(BE109>0,1,0) -> 1 | BI109: =AS109*AD109 -> 156 | BJ109: =BJ108+BI109 -> 2169 | BK109: =IF(BI109<>0,1,0) -> 1 | BL109: =IF(BI109>0,1,0) -> 1
A110: =IF(D110<>0,1,0) -> 1 | B110: 39629 | C110: 15 | D110: 139.95 | E110: 1 | F110: 141.31 | G110: 139.88 | H110: 141.82 | I110: 139.88 | J110: 143.37 | K110: 139.88 | L110: 1 | M110: 140.57 | N110: =ABS((G110-D110)*100) -> 7 | O110: =ABS((D110-H110)*100) -> 187 | P110: =((D110-J110)*100) -> -342 | Q110: =IF($E$3<N110,$E$3-$M$3,-O110-$M$3) -> -191 | R110: =R109+Q110 -> 2672 | S110: =IF(Q110>0,1,0) -> 0 | T110: =IF(C110>$R$3,IF(C110<$R$4,Q110,0),0) -> -191 | U110: =U109+T110 -> 2684 | V110: =IF(T110<>0,1,0) -> 1 | W110: =IF(T110>0,1,0) -> 0 | X110: =IF(N110>$Z$4,1,0) -> 0 | Y110: =IF(E110=0,(F110-D110)*100,(D111-K111)*100) -> 74 | Z110: =IF(N110>=($Z$4+$AA$4),$AA$4-$M$3,IF(N110>=$Z$4,-$Z$4-O110,0)) -> 0 | AA110: =X110*Z110 -> 0 | AB110: =AB109+AA110 -> 2520 | AC110: =IF(AA110>0,1,0) -> 0 | AD110: =IF(C110>$R$3,IF(C110<$R$4,1,0),0) -> 1 | AE110: =AA110*AD110 -> 0 | AF110: =AF109+AE110 -> 2538 | AG110: =X110*AD110 -> 0 | AH110: =IF(AE110>0,1,0) -> 0 | AI110: 1 | AJ110: =AA110*AI110 -> 0 | AK110: =IF(AJ110>0,1,0) -> 0 | AL110: =AI110*X110 -> 0 | AM110: =AM109+AJ110 -> 2043 | AN110: =Z110*X110*AD110*AI110 -> 0 | AO110: =AO109+AN110 -> 2061 | AP110: =X110*AD110*AI110 -> 0 | AQ110: =IF(AN110>0,1,0) -> 0 | AR110: 0 | AS110: =AA110*AR110 -> 0 | AT110: =AT109+AS110 -> 2414 | AU110: =IF(AS110>0,1,0) -> 0 | AV110: =IF(AS110<>0,1,0) -> 0 | AW110: =AR110*Q110 -> 0 | AX110: =AX109+AW110 -> 2940 | AY110: =IF(AW110>0,1,0) -> 0 | AZ110: =IF(AW110<>0,1,0) -> 0 | BA110: 1 | BB110: =BA110*AW110 -> 0 | BC110: =IF(BB110<>0,1,0) -> 0 | BD110: =IF(BB110>0,1,0) -> 0 | BE110: =AW110*AD110 -> 0 | BF110: =BF109+BE110 -> 2621 | BG110: =IF(BE110<>0,1,0) -> 0 | BH110: =IF(BE110>0,1,0) -> 0 | BI110: =AS110*AD110 -> 0 | BJ110: =BJ109+BI110 -> 2169 | BK110: =IF(BI110<>0,1,0) -> 0 | BL110: =IF(BI110>0,1,0) -> 0
A111: =IF(D111<>0,1,0) -> 1 | B111: 39629 | C111: 16 | D111: 140.57 | E111: 0 | F111: 141.64 | G111: 145.79 | H111: 139.88 | I111: 145.79 | J111: 143.11 | K111: 139.83 | L111: 0 | M111: 140.26 | N111: =ABS((G111-D111)*100) -> 522 | O111: =ABS((D111-H111)*100) -> 69 | P111: =((D111-J111)*100) -> -254 | Q111: =IF($E$3<N111,$E$3-$M$3,-O111-$M$3) -> 196 | R111: =R110+Q111 -> 2868 | S111: =IF(Q111>0,1,0) -> 1 | T111: =IF(C111>$R$3,IF(C111<$R$4,Q111,0),0) -> 196 | U111: =U110+T111 -> 2880 | V111: =IF(T111<>0,1,0) -> 1 | W111: =IF(T111>0,1,0) -> 1 | X111: =IF(N111>$Z$4,1,0) -> 1 | Y111: =IF(E111=0,(F111-D111)*100,(D112-K112)*100) -> 107 | Z111: =IF(N111>=($Z$4+$AA$4),$AA$4-$M$3,IF(N111>=$Z$4,-$Z$4-O111,0)) -> 156 | AA111: =X111*Z111 -> 156 | AB111: =AB110+AA111 -> 2676 | AC111: =IF(AA111>0,1,0) -> 1 | AD111: =IF(C111>$R$3,IF(C111<$R$4,1,0),0) -> 1 | AE111: =AA111*AD111 -> 156 | AF111: =AF110+AE111 -> 2694 | AG111: =X111*AD111 -> 1 | AH111: =IF(AE111>0,1,0) -> 1 | AI111: 0 | AJ111: =AA111*AI111 -> 0 | AK111: =IF(AJ111>0,1,0) -> 0 | AL111: =AI111*X111 -> 0 | AM111: =AM110+AJ111 -> 2043 | AN111: =Z111*X111*AD111*AI111 -> 0 | AO111: =AO110+AN111 -> 2061 | AP111: =X111*AD111*AI111 -> 0 | AQ111: =IF(AN111>0,1,0) -> 0 | AR111: 1 | AS111: =AA111*AR111 -> 156 | AT111: =AT110+AS111 -> 2570 | AU111: =IF(AS111>0,1,0) -> 1 | AV111: =IF(AS111<>0,1,0) -> 1 | AW111: =AR111*Q111 -> 196 | AX111: =AX110+AW111 -> 3136 | AY111: =IF(AW111>0,1,0) -> 1 | AZ111: =IF(AW111<>0,1,0) -> 1 | BA111: 0 | BB111: =BA111*AW111 -> 0 | BC111: =IF(BB111<>0,1,0) -> 0 | BD111: =IF(BB111>0,1,0) -> 0 | BE111: =AW111*AD111 -> 196 | BF111: =BF110+BE111 -> 2817 | BG111: =IF(BE111<>0,1,0) -> 1 | BH111: =IF(BE111>0,1,0) -> 1 | BI111: =AS111*AD111 -> 156 | BJ111: =BJ110+BI111 -> 2325 | BK111: =IF(BI111<>0,1,0) -> 1 | BL111: =IF(BI111>0,1,0) -> 1
A112: =IF(D112<>0,1,0) -> 1 | B112: 39629 | C112: 18 | D112: 140.26 | E112: 1 | F112: 140.61 | G112: 138.94 | H112: 140.55 | I112: 138.94 | J112: 142.24 | K112: 140.08 | L112: 1 | M112: 140.5 | N112: =ABS((G112-D112)*100) -> 132 | O112: =ABS((D112-H112)*100) -> 29 | P112: =((D112-J112)*100) -> -198 | Q112: =IF($E$3<N112,$E$3-$M$3,-O112-$M$3) -> -33 | R112: =R111+Q112 -> 2835 | S112: =IF(Q112>0,1,0) -> 0 | T112: =IF(C112>$R$3,IF(C112<$R$4,Q112,0),0) -> 0 | U112: =U111+T112 -> 2880 | V112: =IF(T112<>0,1,0) -> 0 | W112: =IF(T112>0,1,0) -> 0 | X112: 0 | Y112: =IF(E112=0,(F112-D112)*100,(D113-K113)*100) -> 46 | Z112: =IF(N112>=($Z$4+$AA$4),$AA$4-$M$3,IF(N112>=$Z$4,-$Z$4-O112,0)) -> -59 | AA112: =X112*Z112 -> 0 | AB112: =AB111+AA112 -> 2676 | AC112: =IF(AA112>0,1,0) -> 0 | AD112: =IF(C112>$R$3,IF(C112<$R$4,1,0),0) -> 0 | AE112: =AA112*AD112 -> 0 | AF112: =AF111+AE112 -> 2694 | AG112: =X112*AD112 -> 0 | AH112: =IF(AE112>0,1,0) -> 0 | AI112: 1 | AJ112: =AA112*AI112 -> 0 | AK112: =IF(AJ112>0,1,0) -> 0 | AL112: =AI112*X112 -> 0 | AM112: =AM111+AJ112 -> 2043 | AN112: =Z112*X112*AD112*AI112 -> 0 | AO112: =AO111+AN112 -> 2061 | AP112: =X112*AD112*AI112 -> 0 | AQ112: =IF(AN112>0,1,0) -> 0 | AR112: 0 | AS112: =AA112*AR112 -> 0 | AT112: =AT111+AS112 -> 2570 | AU112: =IF(AS112>0,1,0) -> 0 | AV112: =IF(AS112<>0,1,0) -> 0 | AW112: =AR112*Q112 -> 0 | AX112: =AX111+AW112 -> 3136 | AY112: =IF(AW112>0,1,0) -> 0 | AZ112: =IF(AW112<>0,1,0) -> 0 | BA112: 1 | BB112: =BA112*AW112 -> 0 | BC112: =IF(BB112<>0,1,0) -> 0 | BD112: =IF(BB112>0,1,0) -> 0 | BE112: =AW112*AD112 -> 0 | BF112: =BF111+BE112 -> 2817 | BG112: =IF(BE112<>0,1,0) -> 0 | BH112: =IF(BE112>0,1,0) -> 0 | BI112: =AS112*AD112 -> 0 | BJ112: =BJ111+BI112 -> 2325 | BK112: =IF(BI112<>0,1,0) -> 0 | BL112: =IF(BI112>0,1,0) -> 0
A113: =IF(D113<>0,1,0) -> 1 | B113: 39629 | C113: 19 | D113: 140.5 | E113: 0 | F113: 140.55 | G113: 140.55 | H113: 140.08 | I113: 140.55 | J113: 142.44 | K113: 140.04 | L113: 0 | M113: 140.05 | N113: =ABS((G113-D113)*100) -> 5 | O113: =ABS((D113-H113)*100) -> 42 | P113: =((D113-J113)*100) -> -194 | Q113: =IF($E$3<N113,$E$3-$M$3,-O113-$M$3) -> -46 | R113: =R112+Q113 -> 2789 | S113: =IF(Q113>0,1,0) -> 0 | T113: =IF(C113>$R$3,IF(C113<$R$4,Q113,0),0) -> 0 | U113: =U112+T113 -> 2880 | V113: =IF(T113<>0,1,0) -> 0 | W113: =IF(T113>0,1,0) -> 0 | X113: =IF(N113>$Z$4,1,0) -> 0 | Y113: =IF(E113=0,(F113-D113)*100,(D114-K114)*100) -> 5 | Z113: =IF(N113>=($Z$4+$AA$4),$AA$4-$M$3,IF(N113>=$Z$4,-$Z$4-O113,0)) -> 0 | AA113: =X113*Z113 -> 0 | AB113: =AB112+AA113 -> 2676 | AC113: =IF(AA113>0,1,0) -> 0 | AD113: =IF(C113>$R$3,IF(C113<$R$4,1,0),0) -> 0 | AE113: =AA113*AD113 -> 0 | AF113: =AF112+AE113 -> 2694 | AG113: =X113*AD113 -> 0 | AH113: =IF(AE113>0,1,0) -> 0 | AI113: 0 | AJ113: =AA113*AI113 -> 0 | AK113: =IF(AJ113>0,1,0) -> 0 | AL113: =AI113*X113 -> 0 | AM113: =AM112+AJ113 -> 2043 | AN113: =Z113*X113*AD113*AI113 -> 0 | AO113: =AO112+AN113 -> 2061 | AP113: =X113*AD113*AI113 -> 0 | AQ113: =IF(AN113>0,1,0) -> 0 | AR113: 1 | AS113: =AA113*AR113 -> 0 | AT113: =AT112+AS113 -> 2570 | AU113: =IF(AS113>0,1,0) -> 0 | AV113: =IF(AS113<>0,1,0) -> 0 | AW113: =AR113*Q113 -> -46 | AX113: =AX112+AW113 -> 3090 | AY113: =IF(AW113>0,1,0) -> 0 | AZ113: =IF(AW113<>0,1,0) -> 1 | BA113: 0 | BB113: =BA113*AW113 -> 0 | BC113: =IF(BB113<>0,1,0) -> 0 | BD113: =IF(BB113>0,1,0) -> 0 | BE113: =AW113*AD113 -> 0 | BF113: =BF112+BE113 -> 2817 | BG113: =IF(BE113<>0,1,0) -> 0 | BH113: =IF(BE113>0,1,0) -> 0 | BI113: =AS113*AD113 -> 0 | BJ113: =BJ112+BI113 -> 2325 | BK113: =IF(BI113<>0,1,0) -> 0 | BL113: =IF(BI113>0,1,0) -> 0
A114: =IF(D114<>0,1,0) -> 1 | B114: 39629 | C114: 20 | D114: 140.05 | E114: 1 | F114: 140.96 | G114: 140.04 | H114: 140.55 | I114: 138.94 | J114: 142.24 | K114: 138.94 | L114: 0 | M114: 140.52 | N114: =ABS((G114-D114)*100) -> 1 | O114: =ABS((D114-H114)*100) -> 50 | P114: =((D114-J114)*100) -> -219 | Q114: =IF($E$3<N114,$E$3-$M$3,-O114-$M$3) -> -54 | R114: =R113+Q114 -> 2735 | S114: =IF(Q114>0,1,0) -> 0 | T114: =IF(C114>$R$3,IF(C114<$R$4,Q114,0),0) -> 0 | U114: =U113+T114 -> 2880 | V114: =IF(T114<>0,1,0) -> 0 | W114: =IF(T114>0,1,0) -> 0 | X114: =IF(N114>$Z$4,1,0) -> 0 | Y114: =IF(E114=0,(F114-D114)*100,(D115-K115)*100) -> 38 | Z114: =IF(N114>=($Z$4+$AA$4),$AA$4-$M$3,IF(N114>=$Z$4,-$Z$4-O114,0)) -> 0 | AA114: =X114*Z114 -> 0 | AB114: =AB113+AA114 -> 2676 | AC114: =IF(AA114>0,1,0) -> 0 | AD114: =IF(C114>$R$3,IF(C114<$R$4,1,0),0) -> 0 | AE114: =AA114*AD114 -> 0 | AF114: =AF113+AE114 -> 2694 | AG114: =X114*AD114 -> 0 | AH114: =IF(AE114>0,1,0) -> 0 | AI114: 1 | AJ114: =AA114*AI114 -> 0 | AK114: =IF(AJ114>0,1,0) -> 0 | AL114: =AI114*X114 -> 0 | AM114: =AM113+AJ114 -> 2043 | AN114: =Z114*X114*AD114*AI114 -> 0 | AO114: =AO113+AN114 -> 2061 | AP114: =X114*AD114*AI114 -> 0 | AQ114: =IF(AN114>0,1,0) -> 0 | AR114: 0 | AS114: =AA114*AR114 -> 0 | AT114: =AT113+AS114 -> 2570 | AU114: =IF(AS114>0,1,0) -> 0 | AV114: =IF(AS114<>0,1,0) -> 0 | AW114: =AR114*Q114 -> 0 | AX114: =AX113+AW114 -> 3090 | AY114: =IF(AW114>0,1,0) -> 0 | AZ114: =IF(AW114<>0,1,0) -> 0 | BA114: 1 | BB114: =BA114*AW114 -> 0 | BC114: =IF(BB114<>0,1,0) -> 0 | BD114: =IF(BB114>0,1,0) -> 0 | BE114: =AW114*AD114 -> 0 | BF114: =BF113+BE114 -> 2817 | BG114: =IF(BE114<>0,1,0) -> 0 | BH114: =IF(BE114>0,1,0) -> 0 | BI114: =AS114*AD114 -> 0 | BJ114: =BJ113+BI114 -> 2325 | BK114: =IF(BI114<>0,1,0) -> 0 | BL114: =IF(BI114>0,1,0) -> 0
A115: =IF(D115<>0,1,0) -> 1 | B115: 39630 | C115: 0 | D115: 140.52 | E115: 0 | F115: 143.21 | G115: 145.79 | H115: 138.94 | I115: 145.79 | J115: 141.88 | K115: 140.14 | L115: 1 | M115: 141.25 | N115: =ABS((G115-D115)*100) -> 527 | O115: =ABS((D115-H115)*100) -> 158 | P115: =((D115-J115)*100) -> -136 | Q115: =IF($E$3<N115,$E$3-$M$3,-O115-$M$3) -> 196 | R115: =R114+Q115 -> 2931 | S115: =IF(Q115>0,1,0) -> 1 | T115: =IF(C115>$R$3,IF(C115<$R$4,Q115,0),0) -> 0 | U115: =U114+T115 -> 2880 | V115: =IF(T115<>0,1,0) -> 0 | W115: =IF(T115>0,1,0) -> 0 | X115: =IF(N115>$Z$4,1,0) -> 1 | Y115: =IF(E115=0,(F115-D115)*100,(D116-K116)*100) -> 269 | Z115: =IF(N115>=($Z$4+$AA$4),$AA$4-$M$3,IF(N115>=$Z$4,-$Z$4-O115,0)) -> 156 | AA115: =X115*Z115 -> 156 | AB115: =AB114+AA115 -> 2832 | AC115: =IF(AA115>0,1,0) -> 1 | AD115: =IF(C115>$R$3,IF(C115<$R$4,1,0),0) -> 0 | AE115: =AA115*AD115 -> 0 | AF115: =AF114+AE115 -> 2694 | AG115: =X115*AD115 -> 0 | AH115: =IF(AE115>0,1,0) -> 0 | AI115: 1 | AJ115: =AA115*AI115 -> 156 | AK115: =IF(AJ115>0,1,0) -> 1 | AL115: =AI115*X115 -> 1 | AM115: =AM114+AJ115 -> 2199 | AN115: =Z115*X115*AD115*AI115 -> 0 | AO115: =AO114+AN115 -> 2061 | AP115: =X115*AD115*AI115 -> 0 | AQ115: =IF(AN115>0,1,0) -> 0 | AR115: 1 | AS115: =AA115*AR115 -> 156 | AT115: =AT114+AS115 -> 2726 | AU115: =IF(AS115>0,1,0) -> 1 | AV115: =IF(AS115<>0,1,0) -> 1 | AW115: =AR115*Q115 -> 196 | AX115: =AX114+AW115 -> 3286 | AY115: =IF(AW115>0,1,0) -> 1 | AZ115: =IF(AW115<>0,1,0) -> 1 | BA115: 0 | BB115: =BA115*AW115 -> 0 | BC115: =IF(BB115<>0,1,0) -> 0 | BD115: =IF(BB115>0,1,0) -> 0 | BE115: =AW115*AD115 -> 0 | BF115: =BF114+BE115 -> 2817 | BG115: =IF(BE115<>0,1,0) -> 0 | BH115: =IF(BE115>0,1,0) -> 0 | BI115: =AS115*AD115 -> 0 | BJ115: =BJ114+BI115 -> 2325 | BK115: =IF(BI115<>0,1,0) -> 0 | BL115: =IF(BI115>0,1,0) -> 0
A116: =IF(D116<>0,1,0) -> 1 | B116: 39631 | C116: 9 | D116: 141.25 | E116: 1 | F116: 142.49 | G116: 140.33 | H116: 142.14 | I116: 140.33 | J116: 140.27 | K116: 140.29 | L116: 1 | M116: 141.56 | N116: =ABS((G116-D116)*100) -> 92 | O116: =ABS((D116-H116)*100) -> 89 | P116: =((D116-J116)*100) -> 98 | Q116: =IF($E$3<N116,$E$3-$M$3,-O116-$M$3) -> -93 | R116: =R115+Q116 -> 2838 | S116: =IF(Q116>0,1,0) -> 0 | T116: =IF(C116>$R$3,IF(C116<$R$4,Q116,0),0) -> -93 | U116: =U115+T116 -> 2787 | V116: =IF(T116<>0,1,0) -> 1 | W116: =IF(T116>0,1,0) -> 0 | X116: =IF(N116>$Z$4,1,0) -> 1 | Y116: =IF(E116=0,(F116-D116)*100,(D117-K117)*100) -> 1 | Z116: =IF(N116>=($Z$4+$AA$4),$AA$4-$M$3,IF(N116>=$Z$4,-$Z$4-O116,0)) -> -119 | AA116: =X116*Z116 -> -119 | AB116: =AB115+AA116 -> 2713 | AC116: =IF(AA116>0,1,0) -> 0 | AD116: =IF(C116>$R$3,IF(C116<$R$4,1,0),0) -> 1 | AE116: =AA116*AD116 -> -119 | AF116: =AF115+AE116 -> 2575 | AG116: =X116*AD116 -> 1 | AH116: =IF(AE116>0,1,0) -> 0 | AI116: 1 | AJ116: =AA116*AI116 -> -119 | AK116: =IF(AJ116>0,1,0) -> 0 | AL116: =AI116*X116 -> 1 | AM116: =AM115+AJ116 -> 2080 | AN116: =Z116*X116*AD116*AI116 -> -119 | AO116: =AO115+AN116 -> 1942 | AP116: =X116*AD116*AI116 -> 1 | AQ116: =IF(AN116>0,1,0) -> 0 | AR116: 0 | AS116: =AA116*AR116 -> 0 | AT116: =AT115+AS116 -> 2726 | AU116: =IF(AS116>0,1,0) -> 0 | AV116: =IF(AS116<>0,1,0) -> 0 | AW116: =AR116*Q116 -> 0 | AX116: =AX115+AW116 -> 3286 | AY116: =IF(AW116>0,1,0) -> 0 | AZ116: =IF(AW116<>0,1,0) -> 0 | BA116: 0 | BB116: =BA116*AW116 -> 0 | BC116: =IF(BB116<>0,1,0) -> 0 | BD116: =IF(BB116>0,1,0) -> 0 | BE116: =AW116*AD116 -> 0 | BF116: =BF115+BE116 -> 2817 | BG116: =IF(BE116<>0,1,0) -> 0 | BH116: =IF(BE116>0,1,0) -> 0 | BI116: =AS116*AD116 -> 0 | BJ116: =BJ115+BI116 -> 2325 | BK116: =IF(BI116<>0,1,0) -> 0 | BL116: =IF(BI116>0,1,0) -> 0
A117: =IF(D117<>0,1,0) -> 1 | B117: 39631 | C117: 14 | D117: 141.56 | E117: 0 | F117: 145.79 | G117: 145.79 | H117: 140.29 | I117: 145.79 | J117: 140.33 | K117: 141.55 | L117: 1 | M117: 143.93 | N117: =ABS((G117-D117)*100) -> 423 | O117: =ABS((D117-H117)*100) -> 127 | P117: =((D117-J117)*100) -> 123 | Q117: =IF($E$3<N117,$E$3-$M$3,-O117-$M$3) -> 196 | R117: =R116+Q117 -> 3034 | S117: =IF(Q117>0,1,0) -> 1 | T117: =IF(C117>$R$3,IF(C117<$R$4,Q117,0),0) -> 196 | U117: =U116+T117 -> 2983 | V117: =IF(T117<>0,1,0) -> 1 | W117: =IF(T117>0,1,0) -> 1 | X117: =IF(N117>$Z$4,1,0) -> 1 | Y117: =IF(E117=0,(F117-D117)*100,(D118-K118)*100) -> 423 | Z117: =IF(N117>=($Z$4+$AA$4),$AA$4-$M$3,IF(N117>=$Z$4,-$Z$4-O117,0)) -> 156 | AA117: =X117*Z117 -> 156 | AB117: =AB116+AA117 -> 2869 | AC117: =IF(AA117>0,1,0) -> 1 | AD117: =IF(C117>$R$3,IF(C117<$R$4,1,0),0) -> 1 | AE117: =AA117*AD117 -> 156 | AF117: =AF116+AE117 -> 2731 | AG117: =X117*AD117 -> 1 | AH117: =IF(AE117>0,1,0) -> 1 | AI117: 1 | AJ117: =AA117*AI117 -> 156 | AK117: =IF(AJ117>0,1,0) -> 1 | AL117: =AI117*X117 -> 1 | AM117: =AM116+AJ117 -> 2236 | AN117: =Z117*X117*AD117*AI117 -> 156 | AO117: =AO116+AN117 -> 2098 | AP117: =X117*AD117*AI117 -> 1 | AQ117: =IF(AN117>0,1,0) -> 1 | AR117: 1 | AS117: =AA117*AR117 -> 156 | AT117: =AT116+AS117 -> 2882 | AU117: =IF(AS117>0,1,0) -> 1 | AV117: =IF(AS117<>0,1,0) -> 1 | AW117: =AR117*Q117 -> 196 | AX117: =AX116+AW117 -> 3482 | AY117: =IF(AW117>0,1,0) -> 1 | AZ117: =IF(AW117<>0,1,0) -> 1 | BA117: 1 | BB117: =BA117*AW117 -> 196 | BC117: =IF(BB117<>0,1,0) -> 1 | BD117: =IF(BB117>0,1,0) -> 1 | BE117: =AW117*AD117 -> 196 | BF117: =BF116+BE117 -> 3013 | BG117: =IF(BE117<>0,1,0) -> 1 | BH117: =IF(BE117>0,1,0) -> 1 | BI117: =AS117*AD117 -> 156 | BJ117: =BJ116+BI117 -> 2481 | BK117: =IF(BI117<>0,1,0) -> 1 | BL117: =IF(BI117>0,1,0) -> 1
A118: =IF(D118<>0,1,0) -> 1 | B118: 39633 | C118: 10 | D118: 143.93 | E118: 1 | F118: 144.39 | G118: 143.88 | H118: 144.52 | I118: 143.88 | J118: 145.65 | K118: 143.88 | L118: 1 | M118: 144.06 | N118: =ABS((G118-D118)*100) -> 5 | O118: =ABS((D118-H118)*100) -> 59 | P118: =((D118-J118)*100) -> -172 | Q118: =IF($E$3<N118,$E$3-$M$3,-O118-$M$3) -> -63 | R118: =R117+Q118 -> 2971 | S118: =IF(Q118>0,1,0) -> 0 | T118: =IF(C118>$R$3,IF(C118<$R$4,Q118,0),0) -> -63 | U118: =U117+T118 -> 2920 | V118: =IF(T118<>0,1,0) -> 1 | W118: =IF(T118>0,1,0) -> 0 | X118: =IF(N118>$Z$4,1,0) -> 0 | Y118: =IF(E118=0,(F118-D118)*100,(D119-K119)*100) -> 37 | Z118: =IF(N118>=($Z$4+$AA$4),$AA$4-$M$3,IF(N118>=$Z$4,-$Z$4-O118,0)) -> 0 | AA118: =X118*Z118 -> 0 | AB118: =AB117+AA118 -> 2869 | AC118: =IF(AA118>0,1,0) -> 0 | AD118: =IF(C118>$R$3,IF(C118<$R$4,1,0),0) -> 1 | AE118: =AA118*AD118 -> 0 | AF118: =AF117+AE118 -> 2731 | AG118: =X118*AD118 -> 0 | AH118: =IF(AE118>0,1,0) -> 0 | AI118: 1 | AJ118: =AA118*AI118 -> 0 | AK118: =IF(AJ118>0,1,0) -> 0 | AL118: =AI118*X118 -> 0 | AM118: =AM117+AJ118 -> 2236 | AN118: =Z118*X118*AD118*AI118 -> 0 | AO118: =AO117+AN118 -> 2098 | AP118: =X118*AD118*AI118 -> 0 | AQ118: =IF(AN118>0,1,0) -> 0 | AR118: 0 | AS118: =AA118*AR118 -> 0 | AT118: =AT117+AS118 -> 2882 | AU118: =IF(AS118>0,1,0) -> 0 | AV118: =IF(AS118<>0,1,0) -> 0 | AW118: =AR118*Q118 -> 0 | AX118: =AX117+AW118 -> 3482 | AY118: =IF(AW118>0,1,0) -> 0 | AZ118: =IF(AW118<>0,1,0) -> 0 | BA118: 1 | BB118: =BA118*AW118 -> 0 | BC118: =IF(BB118<>0,1,0) -> 0 | BD118: =IF(BB118>0,1,0) -> 0 | BE118: =AW118*AD118 -> 0 | BF118: =BF117+BE118 -> 3013 | BG118: =IF(BE118<>0,1,0) -> 0 | BH118: =IF(BE118>0,1,0) -> 0 | BI118: =AS118*AD118 -> 0 | BJ118: =BJ117+BI118 -> 2481 | BK118: =IF(BI118<>0,1,0) -> 0 | BL118: =IF(BI118>0,1,0) -> 0
A119: =IF(D119<>0,1,0) -> 1 | B119: 39633 | C119: 12 | D119: 144.06 | E119: 0 | F119: 144.55 | G119: 144.55 | H119: 143.9 | I119: 144.55 | J119: 145.58 | K119: 143.69 | L119: 0 | M119: 143.84 | N119: =ABS((G119-D119)*100) -> 49 | O119: =ABS((D119-H119)*100) -> 16 | P119: =((D119-J119)*100) -> -152 | Q119: =IF($E$3<N119,$E$3-$M$3,-O119-$M$3) -> -20 | R119: =R118+Q119 -> 2951 | S119: =IF(Q119>0,1,0) -> 0 | T119: =IF(C119>$R$3,IF(C119<$R$4,Q119,0),0) -> -20 | U119: =U118+T119 -> 2900 | V119: =IF(T119<>0,1,0) -> 1 | W119: =IF(T119>0,1,0) -> 0 | X119: =IF(N119>$Z$4,1,0) -> 1 | Y119: =IF(E119=0,(F119-D119)*100,(D120-K120)*100) -> 49 | Z119: =IF(N119>=($Z$4+$AA$4),$AA$4-$M$3,IF(N119>=$Z$4,-$Z$4-O119,0)) -> -46 | AA119: =X119*Z119 -> -46 | AB119: =AB118+AA119 -> 2823 | AC119: =IF(AA119>0,1,0) -> 0 | AD119: =IF(C119>$R$3,IF(C119<$R$4,1,0),0) -> 1 | AE119: =AA119*AD119 -> -46 | AF119: =AF118+AE119 -> 2685 | AG119: =X119*AD119 -> 1 | AH119: =IF(AE119>0,1,0) -> 0 | AI119: 0 | AJ119: =AA119*AI119 -> 0 | AK119: =IF(AJ119>0,1,0) -> 0 | AL119: =AI119*X119 -> 0 | AM119: =AM118+AJ119 -> 2236 | AN119: =Z119*X119*AD119*AI119 -> 0 | AO119: =AO118+AN119 -> 2098 | AP119: =X119*AD119*AI119 -> 0 | AQ119: =IF(AN119>0,1,0) -> 0 | AR119: 1 | AS119: =AA119*AR119 -> -46 | AT119: =AT118+AS119 -> 2836 | AU119: =IF(AS119>0,1,0) -> 0 | AV119: =IF(AS119<>0,1,0) -> 1 | AW119: =AR119*Q119 -> -20 | AX119: =AX118+AW119 -> 3462 | AY119: =IF(AW119>0,1,0) -> 0 | AZ119: =IF(AW119<>0,1,0) -> 1 | BA119: 0 | BB119: =BA119*AW119 -> 0 | BC119: =IF(BB119<>0,1,0) -> 0 | BD119: =IF(BB119>0,1,0) -> 0 | BE119: =AW119*AD119 -> -20 | BF119: =BF118+BE119 -> 2993 | BG119: =IF(BE119<>0,1,0) -> 1 | BH119: =IF(BE119>0,1,0) -> 0 | BI119: =AS119*AD119 -> -46 | BJ119: =BJ118+BI119 -> 2435 | BK119: =IF(BI119<>0,1,0) -> 1 | BL119: =IF(BI119>0,1,0) -> 0
A120: =IF(D120<>0,1,0) -> 1 | B120: 39633 | C120: 16 | D120: 143.84 | E120: 1 | F120: 143.94 | G120: 135.12 | H120: 144.25 | I120: 135.12 | J120: 145.41 | K120: 135.12 | L120: 0 | M120: 137.51 | N120: =ABS((G120-D120)*100) -> 872 | O120: =ABS((D120-H120)*100) -> 41 | P120: =((D120-J120)*100) -> -157 | Q120: =IF($E$3<N120,$E$3-$M$3,-O120-$M$3) -> 196 | R120: =R119+Q120 -> 3147 | S120: =IF(Q120>0,1,0) -> 1 | T120: =IF(C120>$R$3,IF(C120<$R$4,Q120,0),0) -> 196 | U120: =U119+T120 -> 3096 | V120: =IF(T120<>0,1,0) -> 1 | W120: =IF(T120>0,1,0) -> 1 | X120: =IF(N120>$Z$4,1,0) -> 1 | Y120: =IF(E120=0,(F120-D120)*100,(D121-K121)*100) -> 66 | Z120: =IF(N120>=($Z$4+$AA$4),$AA$4-$M$3,IF(N120>=$Z$4,-$Z$4-O120,0)) -> 156 | AA120: =X120*Z120 -> 156 | AB120: =AB119+AA120 -> 2979 | AC120: =IF(AA120>0,1,0) -> 1 | AD120: =IF(C120>$R$3,IF(C120<$R$4,1,0),0) -> 1 | AE120: =AA120*AD120 -> 156 | AF120: =AF119+AE120 -> 2841 | AG120: =X120*AD120 -> 1 | AH120: =IF(AE120>0,1,0) -> 1 | AI120: 1 | AJ120: =AA120*AI120 -> 156 | AK120: =IF(AJ120>0,1,0) -> 1 | AL120: =AI120*X120 -> 1 | AM120: =AM119+AJ120 -> 2392 | AN120: =Z120*X120*AD120*AI120 -> 156 | AO120: =AO119+AN120 -> 2254 | AP120: =X120*AD120*AI120 -> 1 | AQ120: =IF(AN120>0,1,0) -> 1 | AR120: 0 | AS120: =AA120*AR120 -> 0 | AT120: =AT119+AS120 -> 2836 | AU120: =IF(AS120>0,1,0) -> 0 | AV120: =IF(AS120<>0,1,0) -> 0 | AW120: =AR120*Q120 -> 0 | AX120: =AX119+AW120 -> 3462 | AY120: =IF(AW120>0,1,0) -> 0 | AZ120: =IF(AW120<>0,1,0) -> 0 | BA120: 1 | BB120: =BA120*AW120 -> 0 | BC120: =IF(BB120<>0,1,0) -> 0 | BD120: =IF(BB120>0,1,0) -> 0 | BE120: =AW120*AD120 -> 0 | BF120: =BF119+BE120 -> 2993 | BG120: =IF(BE120<>0,1,0) -> 0 | BH120: =IF(BE120>0,1,0) -> 0 | BI120: =AS120*AD120 -> 0 | BJ120: =BJ119+BI120 -> 2435 | BK120: =IF(BI120<>0,1,0) -> 0 | BL120: =IF(BI120>0,1,0) -> 0
A121: =IF(D121<>0,1,0) -> 1 | B121: 39639 | C121: 14 | D121: 137.51 | E121: 0 | F121: 137.86 | G121: 147.24 | H121: 136.66 | I121: 147.24 | J121: 135.62 | K121: 136.85 | L121: 0 | M121: 137.05 | N121: =ABS((G121-D121)*100) -> 973 | O121: =ABS((D121-H121)*100) -> 85 | P121: =((D121-J121)*100) -> 189 | Q121: =IF($E$3<N121,$E$3-$M$3,-O121-$M$3) -> 196 | R121: =R120+Q121 -> 3343 | S121: =IF(Q121>0,1,0) -> 1 | T121: =IF(C121>$R$3,IF(C121<$R$4,Q121,0),0) -> 196 | U121: =U120+T121 -> 3292 | V121: =IF(T121<>0,1,0) -> 1 | W121: =IF(T121>0,1,0) -> 1 | X121: =IF(N121>$Z$4,1,0) -> 1 | Y121: =IF(E121=0,(F121-D121)*100,(D122-K122)*100) -> 35 | Z121: =IF(N121>=($Z$4+$AA$4),$AA$4-$M$3,IF(N121>=$Z$4,-$Z$4-O121,0)) -> 156 | AA121: =X121*Z121 -> 156 | AB121: =AB120+AA121 -> 3135 | AC121: =IF(AA121>0,1,0) -> 1 | AD121: =IF(C121>$R$3,IF(C121<$R$4,1,0),0) -> 1 | AE121: =AA121*AD121 -> 156 | AF121: =AF120+AE121 -> 2997 | AG121: =X121*AD121 -> 1 | AH121: =IF(AE121>0,1,0) -> 1 | AI121: 1 | AJ121: =AA121*AI121 -> 156 | AK121: =IF(AJ121>0,1,0) -> 1 | AL121: =AI121*X121 -> 1 | AM121: =AM120+AJ121 -> 2548 | AN121: =Z121*X121*AD121*AI121 -> 156 | AO121: =AO120+AN121 -> 2410 | AP121: =X121*AD121*AI121 -> 1 | AQ121: =IF(AN121>0,1,0) -> 1 | AR121: 0 | AS121: =AA121*AR121 -> 0 | AT121: =AT120+AS121 -> 2836 | AU121: =IF(AS121>0,1,0) -> 0 | AV121: =IF(AS121<>0,1,0) -> 0 | AW121: =AR121*Q121 -> 0 | AX121: =AX120+AW121 -> 3462 | AY121: =IF(AW121>0,1,0) -> 0 | AZ121: =IF(AW121<>0,1,0) -> 0 | BA121: 1 | BB121: =BA121*AW121 -> 0 | BC121: =IF(BB121<>0,1,0) -> 0 | BD121: =IF(BB121>0,1,0) -> 0 | BE121: =AW121*AD121 -> 0 | BF121: =BF120+BE121 -> 2993 | BG121: =IF(BE121<>0,1,0) -> 0 | BH121: =IF(BE121>0,1,0) -> 0 | BI121: =AS121*AD121 -> 0 | BJ121: =BJ120+BI121 -> 2435 | BK121: =IF(BI121<>0,1,0) -> 0 | BL121: =IF(BI121>0,1,0) -> 0
A122: =IF(D122<>0,1,0) -> 1 | B122: 39639 | C122: 15 | D122: 137.05 | E122: 1 | F122: 138 | G122: 136.98 | H122: 137.86 | I122: 136.98 | J122: 135.88 | K122: 136.98 | L122: 1 | M122: 137.59 | N122: =ABS((G122-D122)*100) -> 7 | O122: =ABS((D122-H122)*100) -> 81 | P122: =((D122-J122)*100) -> 117 | Q122: =IF($E$3<N122,$E$3-$M$3,-O122-$M$3) -> -85 | R122: =R121+Q122 -> 3258 | S122: =IF(Q122>0,1,0) -> 0 | T122: =IF(C122>$R$3,IF(C122<$R$4,Q122,0),0) -> -85 | U122: =U121+T122 -> 3207 | V122: =IF(T122<>0,1,0) -> 1 | W122: =IF(T122>0,1,0) -> 0 | X122: =IF(N122>$Z$4,1,0) -> 0 | Y122: =IF(E122=0,(F122-D122)*100,(D123-K123)*100) -> 51 | Z122: =IF(N122>=($Z$4+$AA$4),$AA$4-$M$3,IF(N122>=$Z$4,-$Z$4-O122,0)) -> 0 | AA122: =X122*Z122 -> 0 | AB122: =AB121+AA122 -> 3135 | AC122: =IF(AA122>0,1,0) -> 0 | AD122: =IF(C122>$R$3,IF(C122<$R$4,1,0),0) -> 1 | AE122: =AA122*AD122 -> 0 | AF122: =AF121+AE122 -> 2997 | AG122: =X122*AD122 -> 0 | AH122: =IF(AE122>0,1,0) -> 0 | AI122: 0 | AJ122: =AA122*AI122 -> 0 | AK122: =IF(AJ122>0,1,0) -> 0 | AL122: =AI122*X122 -> 0 | AM122: =AM121+AJ122 -> 2548 | AN122: =Z122*X122*AD122*AI122 -> 0 | AO122: =AO121+AN122 -> 2410 | AP122: =X122*AD122*AI122 -> 0 | AQ122: =IF(AN122>0,1,0) -> 0 | AR122: 1 | AS122: =AA122*AR122 -> 0 | AT122: =AT121+AS122 -> 2836 | AU122: =IF(AS122>0,1,0) -> 0 | AV122: =IF(AS122<>0,1,0) -> 0 | AW122: =AR122*Q122 -> -85 | AX122: =AX121+AW122 -> 3377 | AY122: =IF(AW122>0,1,0) -> 0 | AZ122: =IF(AW122<>0,1,0) -> 1 | BA122: 0 | BB122: =BA122*AW122 -> 0 | BC122: =IF(BB122<>0,1,0) -> 0 | BD122: =IF(BB122>0,1,0) -> 0 | BE122: =AW122*AD122 -> -85 | BF122: =BF121+BE122 -> 2908 | BG122: =IF(BE122<>0,1,0) -> 1 | BH122: =IF(BE122>0,1,0) -> 0 | BI122: =AS122*AD122 -> 0 | BJ122: =BJ121+BI122 -> 2435 | BK122: =IF(BI122<>0,1,0) -> 0 | BL122: =IF(BI122>0,1,0) -> 0
A123: =IF(D123<>0,1,0) -> 1 | B123: 39639 | C123: 16 | D123: 137.59 | E123: 0 | F123: 147.24 | G123: 147.24 | H123: 136.98 | I123: 147.24 | J123: 136.12 | K123: 137.08 | L123: 1 | M123: 142.22 | N123: =ABS((G123-D123)*100) -> 965 | O123: =ABS((D123-H123)*100) -> 61 | P123: =((D123-J123)*100) -> 147 | Q123: =IF($E$3<N123,$E$3-$M$3,-O123-$M$3) -> 196 | R123: =R122+Q123 -> 3454 | S123: =IF(Q123>0,1,0) -> 1 | T123: =IF(C123>$R$3,IF(C123<$R$4,Q123,0),0) -> 196 | U123: =U122+T123 -> 3403 | V123: =IF(T123<>0,1,0) -> 1 | W123: =IF(T123>0,1,0) -> 1 | X123: =IF(N123>$Z$4,1,0) -> 1 | Y123: =IF(E123=0,(F123-D123)*100,(D124-K124)*100) -> 965 | Z123: =IF(N123>=($Z$4+$AA$4),$AA$4-$M$3,IF(N123>=$Z$4,-$Z$4-O123,0)) -> 156 | AA123: =X123*Z123 -> 156 | AB123: =AB122+AA123 -> 3291 | AC123: =IF(AA123>0,1,0) -> 1 | AD123: =IF(C123>$R$3,IF(C123<$R$4,1,0),0) -> 1 | AE123: =AA123*AD123 -> 156 | AF123: =AF122+AE123 -> 3153 | AG123: =X123*AD123 -> 1 | AH123: =IF(AE123>0,1,0) -> 1 | AI123: 1 | AJ123: =AA123*AI123 -> 156 | AK123: =IF(AJ123>0,1,0) -> 1 | AL123: =AI123*X123 -> 1 | AM123: =AM122+AJ123 -> 2704 | AN123: =Z123*X123*AD123*AI123 -> 156 | AO123: =AO122+AN123 -> 2566 | AP123: =X123*AD123*AI123 -> 1 | AQ123: =IF(AN123>0,1,0) -> 1 | AR123: 0 | AS123: =AA123*AR123 -> 0 | AT123: =AT122+AS123 -> 2836 | AU123: =IF(AS123>0,1,0) -> 0 | AV123: =IF(AS123<>0,1,0) -> 0 | AW123: =AR123*Q123 -> 0 | AX123: =AX122+AW123 -> 3377 | AY123: =IF(AW123>0,1,0) -> 0 | AZ123: =IF(AW123<>0,1,0) -> 0 | BA123: 1 | BB123: =BA123*AW123 -> 0 | BC123: =IF(BB123<>0,1,0) -> 0 | BD123: =IF(BB123>0,1,0) -> 0 | BE123: =AW123*AD123 -> 0 | BF123: =BF122+BE123 -> 2908 | BG123: =IF(BE123<>0,1,0) -> 0 | BH123: =IF(BE123>0,1,0) -> 0 | BI123: =AS123*AD123 -> 0 | BJ123: =BJ122+BI123 -> 2435 | BK123: =IF(BI123<>0,1,0) -> 0 | BL123: =IF(BI123>0,1,0) -> 0
A124: =IF(D124<>0,1,0) -> 1 | B124: 39644 | C124: 14 | D124: 142.22 | E124: 1 | F124: 142.25 | G124: 35 | H124: 145.81 | I124: 35 | J124: 146.63 | K124: 128.96 | L124: 0 | M124: 132.22 | N124: =ABS((G124-D124)*100) -> 10722 | O124: =ABS((D124-H124)*100) -> 359 | P124: =((D124-J124)*100) -> -441 | Q124: =IF($E$3<N124,$E$3-$M$3,-O124-$M$3) -> 196 | R124: =R123+Q124 -> 3650 | S124: =IF(Q124>0,1,0) -> 1 | T124: =IF(C124>$R$3,IF(C124<$R$4,Q124,0),0) -> 196 | U124: =U123+T124 -> 3599 | V124: =IF(T124<>0,1,0) -> 1 | W124: =IF(T124>0,1,0) -> 1 | X124: =IF(N124>$Z$4,1,0) -> 1 | Y124: =IF(E124=0,(F124-D124)*100,(D125-K125)*100) -> 56 | Z124: =IF(N124>=($Z$4+$AA$4),$AA$4-$M$3,IF(N124>=$Z$4,-$Z$4-O124,0)) -> 156 | AA124: =X124*Z124 -> 156 | AB124: =AB123+AA124 -> 3447 | AC124: =IF(AA124>0,1,0) -> 1 | AD124: =IF(C124>$R$3,IF(C124<$R$4,1,0),0) -> 1 | AE124: =AA124*AD124 -> 156 | AF124: =AF123+AE124 -> 3309 | AG124: =X124*AD124 -> 1 | AH124: =IF(AE124>0,1,0) -> 1 | AI124: 1 | AJ124: =AA124*AI124 -> 156 | AK124: =IF(AJ124>0,1,0) -> 1 | AL124: =AI124*X124 -> 1 | AM124: =AM123+AJ124 -> 2860 | AN124: =Z124*X124*AD124*AI124 -> 156 | AO124: =AO123+AN124 -> 2722 | AP124: =X124*AD124*AI124 -> 1 | AQ124: =IF(AN124>0,1,0) -> 1 | AR124: 0 | AS124: =AA124*AR124 -> 0 | AT124: =AT123+AS124 -> 2836 | AU124: =IF(AS124>0,1,0) -> 0 | AV124: =IF(AS124<>0,1,0) -> 0 | AW124: =AR124*Q124 -> 0 | AX124: =AX123+AW124 -> 3377 | AY124: =IF(AW124>0,1,0) -> 0 | AZ124: =IF(AW124<>0,1,0) -> 0 | BA124: 1 | BB124: =BA124*AW124 -> 0 | BC124: =IF(BB124<>0,1,0) -> 0 | BD124: =IF(BB124>0,1,0) -> 0 | BE124: =AW124*AD124 -> 0 | BF124: =BF123+BE124 -> 2908 | BG124: =IF(BE124<>0,1,0) -> 0 | BH124: =IF(BE124>0,1,0) -> 0 | BI124: =AS124*AD124 -> 0 | BJ124: =BJ123+BI124 -> 2435 | BK124: =IF(BI124<>0,1,0) -> 0 | BL124: =IF(BI124>0,1,0) -> 0
... A166: =IF(D166<>0,1,0) -> 1 | B166: 39686 | C166: 16 | D166: 115.68 | E166: 1 | F166: 116.86 | G166: 115.41 | H166: 116.3 | I166: 115.41 | J166: 113.14 | K166: 115.41 | L166: 1 | M166: 116.68 | N166: =ABS((G166-D166)*100) -> 27 | O166: =ABS((D166-H166)*100) -> 62 | P166: =((D166-J166)*100) -> 254 | Q166: =IF($E$3<N166,$E$3-$M$3,-O166-$M$3) -> -66 | R166: =R165+Q166 -> 3874 | S166: =IF(Q166>0,1,0) -> 0 | T166: =IF(C166>$R$3,IF(C166<$R$4,Q166,0),0) -> -66 | U166: =U165+T166 -> 4542 | V166: =IF(T166<>0,1,0) -> 1 | W166: =IF(T166>0,1,0) -> 0 | X166: =IF(N166>$Z$4,1,0) -> 0 | Y166: =IF(E166=0,(F166-D166)*100,(D167-K167)*100) -> 123 | Z166: =IF(N166>=($Z$4+$AA$4),$AA$4-$M$3,IF(N166>=$Z$4,-$Z$4-O166,0)) -> 0 | AA166: =X166*Z166 -> 0 | AB166: =AB165+AA166 -> 4082 | AC166: =IF(AA166>0,1,0) -> 0 | AD166: =IF(C166>$R$3,IF(C166<$R$4,1,0),0) -> 1 | AE166: =AA166*AD166 -> 0 | AF166: =AF165+AE166 -> 4679 | AG166: =X166*AD166 -> 0 | AH166: =IF(AE166>0,1,0) -> 0 | AI166: 0 | AJ166: =AA166*AI166 -> 0 | AK166: =IF(AJ166>0,1,0) -> 0 | AL166: =AI166*X166 -> 0 | AM166: =AM165+AJ166 -> 3306 | AN166: =Z166*X166*AD166*AI166 -> 0 | AO166: =AO165+AN166 -> 3848 | AP166: =X166*AD166*AI166 -> 0 | AQ166: =IF(AN166>0,1,0) -> 0 | AR166: 1 | AS166: =AA166*AR166 -> 0 | AT166: =AT165+AS166 -> 3546 | AU166: =IF(AS166>0,1,0) -> 0 | AV166: =IF(AS166<>0,1,0) -> 0 | AW166: =AR166*Q166 -> -66 | AX166: =AX165+AW166 -> 3678 | AY166: =IF(AW166>0,1,0) -> 0 | AZ166: =IF(AW166<>0,1,0) -> 1 | BA166: 0 | BB166: =BA166*AW166 -> 0 | BC166: =IF(BB166<>0,1,0) -> 0 | BD166: =IF(BB166>0,1,0) -> 0 | BE166: =AW166*AD166 -> -66 | BF166: =BF165+BE166 -> 3242 | BG166: =IF(BE166<>0,1,0) -> 1 | BH166: =IF(BE166>0,1,0) -> 0 | BI166: =AS166*AD166 -> 0 | BJ166: =BJ165+BI166 -> 3230 | BK166: =IF(BI166<>0,1,0) -> 0 | BL166: =IF(BI166>0,1,0) -> 0
A167: =IF(D167<>0,1,0) -> 1 | B167: 39686 | C167: 17 | D167: 116.68 | E167: 0 | F167: 116.86 | G167: 120.36 | H167: 115.41 | I167: 120.36 | J167: 113.33 | K167: 115.45 | L167: 0 | M167: 115.45 | N167: =ABS((G167-D167)*100) -> 368 | O167: =ABS((D167-H167)*100) -> 127 | P167: =((D167-J167)*100) -> 335 | Q167: =IF($E$3<N167,$E$3-$M$3,-O167-$M$3) -> 196 | R167: =R166+Q167 -> 4070 | S167: =IF(Q167>0,1,0) -> 1 | T167: =IF(C167>$R$3,IF(C167<$R$4,Q167,0),0) -> 196 | U167: =U166+T167 -> 4738 | V167: =IF(T167<>0,1,0) -> 1 | W167: =IF(T167>0,1,0) -> 1 | X167: 0 | Y167: =IF(E167=0,(F167-D167)*100,(D168-K168)*100) -> 18 | Z167: =IF(N167>=($Z$4+$AA$4),$AA$4-$M$3,IF(N167>=$Z$4,-$Z$4-O167,0)) -> 156 | AA167: =X167*Z167 -> 0 | AB167: =AB166+AA167 -> 4082 | AC167: =IF(AA167>0,1,0) -> 0 | AD167: =IF(C167>$R$3,IF(C167<$R$4,1,0),0) -> 1 | AE167: =AA167*AD167 -> 0 | AF167: =AF166+AE167 -> 4679 | AG167: =X167*AD167 -> 0 | AH167: =IF(AE167>0,1,0) -> 0 | AI167: 1 | AJ167: =AA167*AI167 -> 0 | AK167: =IF(AJ167>0,1,0) -> 0 | AL167: =AI167*X167 -> 0 | AM167: =AM166+AJ167 -> 3306 | AN167: =Z167*X167*AD167*AI167 -> 0 | AO167: =AO166+AN167 -> 3848 | AP167: =X167*AD167*AI167 -> 0 | AQ167: =IF(AN167>0,1,0) -> 0 | AR167: 0 | AS167: =AA167*AR167 -> 0 | AT167: =AT166+AS167 -> 3546 | AU167: =IF(AS167>0,1,0) -> 0 | AV167: =IF(AS167<>0,1,0) -> 0 | AW167: =AR167*Q167 -> 0 | AX167: =AX166+AW167 -> 3678 | AY167: =IF(AW167>0,1,0) -> 0 | AZ167: =IF(AW167<>0,1,0) -> 0 | BA167: 1 | BB167: =BA167*AW167 -> 0 | BC167: =IF(BB167<>0,1,0) -> 0 | BD167: =IF(BB167>0,1,0) -> 0 | BE167: =AW167*AD167 -> 0 | BF167: =BF166+BE167 -> 3242 | BG167: =IF(BE167<>0,1,0) -> 0 | BH167: =IF(BE167>0,1,0) -> 0 | BI167: =AS167*AD167 -> 0 | BJ167: =BJ166+BI167 -> 3230 | BK167: =IF(BI167<>0,1,0) -> 0 | BL167: =IF(BI167>0,1,0) -> 0
A168: =IF(D168<>0,1,0) -> 1 | B168: 39686 | C168: 22 | D168: 115.45 | E168: 1 | F168: 116.66 | G168: 115.45 | H168: 115.45 | I168: 115.45 | J168: 114.16 | K168: 115.45 | L168: 1 | M168: 116.4 | N168: =ABS((G168-D168)*100) -> 0 | O168: =ABS((D168-H168)*100) -> 0 | P168: =((D168-J168)*100) -> 129 | Q168: =IF($E$3<N168,$E$3-$M$3,-O168-$M$3) -> -4 | R168: =R167+Q168 -> 4066 | S168: =IF(Q168>0,1,0) -> 0 | T168: =IF(C168>$R$3,IF(C168<$R$4,Q168,0),0) -> 0 | U168: =U167+T168 -> 4738 | V168: =IF(T168<>0,1,0) -> 0 | W168: =IF(T168>0,1,0) -> 0 | X168: =IF(N168>$Z$4,1,0) -> 0 | Y168: =IF(E168=0,(F168-D168)*100,(D169-K169)*100) -> 231 | Z168: =IF(N168>=($Z$4+$AA$4),$AA$4-$M$3,IF(N168>=$Z$4,-$Z$4-O168,0)) -> 0 | AA168: =X168*Z168 -> 0 | AB168: =AB167+AA168 -> 4082 | AC168: =IF(AA168>0,1,0) -> 0 | AD168: =IF(C168>$R$3,IF(C168<$R$4,1,0),0) -> 0 | AE168: =AA168*AD168 -> 0 | AF168: =AF167+AE168 -> 4679 | AG168: =X168*AD168 -> 0 | AH168: =IF(AE168>0,1,0) -> 0 | AI168: 1 | AJ168: =AA168*AI168 -> 0 | AK168: =IF(AJ168>0,1,0) -> 0 | AL168: =AI168*X168 -> 0 | AM168: =AM167+AJ168 -> 3306 | AN168: =Z168*X168*AD168*AI168 -> 0 | AO168: =AO167+AN168 -> 3848 | AP168: =X168*AD168*AI168 -> 0 | AQ168: =IF(AN168>0,1,0) -> 0 | AR168: 1 | AS168: =AA168*AR168 -> 0 | AT168: =AT167+AS168 -> 3546 | AU168: =IF(AS168>0,1,0) -> 0 | AV168: =IF(AS168<>0,1,0) -> 0 | AW168: =AR168*Q168 -> -4 | AX168: =AX167+AW168 -> 3674 | AY168: =IF(AW168>0,1,0) -> 0 | AZ168: =IF(AW168<>0,1,0) -> 1 | BA168: 0 | BB168: =BA168*AW168 -> 0 | BC168: =IF(BB168<>0,1,0) -> 0 | BD168: =IF(BB168>0,1,0) -> 0 | BE168: =AW168*AD168 -> 0 | BF168: =BF167+BE168 -> 3242 | BG168: =IF(BE168<>0,1,0) -> 0 | BH168: =IF(BE168>0,1,0) -> 0 | BI168: =AS168*AD168 -> 0 | BJ168: =BJ167+BI168 -> 3230 | BK168: =IF(BI168<>0,1,0) -> 0 | BL168: =IF(BI168>0,1,0) -> 0
A169: =IF(D169<>0,1,0) -> 1 | B169: 39687 | C169: 0 | D169: 116.4 | E169: 0 | F169: 120.36 | G169: 117.71 | H169: 116.03 | I169: 120.36 | J169: 114.31 | K169: 114.09 | L169: 0 | M169: 115.02 | N169: =ABS((G169-D169)*100) -> 131 | O169: =ABS((D169-H169)*100) -> 37 | P169: =((D169-J169)*100) -> 209 | Q169: =IF($E$3<N169,$E$3-$M$3,-O169-$M$3) -> -41 | R169: =R168+Q169 -> 4025 | S169: =IF(Q169>0,1,0) -> 0 | T169: =IF(C169>$R$3,IF(C169<$R$4,Q169,0),0) -> 0 | U169: =U168+T169 -> 4738 | V169: =IF(T169<>0,1,0) -> 0 | W169: =IF(T169>0,1,0) -> 0 | X169: =IF(N169>$Z$4,1,0) -> 1 | Y169: =IF(E169=0,(F169-D169)*100,(D170-K170)*100) -> 396 | Z169: =IF(N169>=($Z$4+$AA$4),$AA$4-$M$3,IF(N169>=$Z$4,-$Z$4-O169,0)) -> -67 | AA169: =X169*Z169 -> -67 | AB169: =AB168+AA169 -> 4015 | AC169: =IF(AA169>0,1,0) -> 0 | AD169: =IF(C169>$R$3,IF(C169<$R$4,1,0),0) -> 0 | AE169: =AA169*AD169 -> 0 | AF169: =AF168+AE169 -> 4679 | AG169: =X169*AD169 -> 0 | AH169: =IF(AE169>0,1,0) -> 0 | AI169: 1 | AJ169: =AA169*AI169 -> -67 | AK169: =IF(AJ169>0,1,0) -> 0 | AL169: =AI169*X169 -> 1 | AM169: =AM168+AJ169 -> 3239 | AN169: =Z169*X169*AD169*AI169 -> 0 | AO169: =AO168+AN169 -> 3848 | AP169: =X169*AD169*AI169 -> 0 | AQ169: =IF(AN169>0,1,0) -> 0 | AR169: 1 | AS169: =AA169*AR169 -> -67 | AT169: =AT168+AS169 -> 3479 | AU169: =IF(AS169>0,1,0) -> 0 | AV169: =IF(AS169<>0,1,0) -> 1 | AW169: =AR169*Q169 -> -41 | AX169: =AX168+AW169 -> 3633 | AY169: =IF(AW169>0,1,0) -> 0 | AZ169: =IF(AW169<>0,1,0) -> 1 | BA169: 1 | BB169: =BA169*AW169 -> -41 | BC169: =IF(BB169<>0,1,0) -> 1 | BD169: =IF(BB169>0,1,0) -> 0 | BE169: =AW169*AD169 -> 0 | BF169: =BF168+BE169 -> 3242 | BG169: =IF(BE169<>0,1,0) -> 0 | BH169: =IF(BE169>0,1,0) -> 0 | BI169: =AS169*AD169 -> 0 | BJ169: =BJ168+BI169 -> 3230 | BK169: =IF(BI169<>0,1,0) -> 0 | BL169: =IF(BI169>0,1,0) -> 0
A170: =IF(D170<>0,1,0) -> 1 | B170: 39688 | C170: 15 | D170: 115.02 | E170: 1 | F170: 117.34 | G170: 114.77 | H170: 118.12 | I170: 114.77 | J170: 120.36 | K170: 114.77 | L170: 1 | M170: 117.09 | N170: =ABS((G170-D170)*100) -> 25 | O170: =ABS((D170-H170)*100) -> 310 | P170: =((D170-J170)*100) -> -534 | Q170: =IF($E$3<N170,$E$3-$M$3,-O170-$M$3) -> -314 | R170: =R169+Q170 -> 3711 | S170: =IF(Q170>0,1,0) -> 0 | T170: =IF(C170>$R$3,IF(C170<$R$4,Q170,0),0) -> -314 | U170: =U169+T170 -> 4424 | V170: =IF(T170<>0,1,0) -> 1 | W170: =IF(T170>0,1,0) -> 0 | X170: =IF(N170>$Z$4,1,0) -> 0 | Y170: =IF(E170=0,(F170-D170)*100,(D171-K171)*100) -> 63 | Z170: =IF(N170>=($Z$4+$AA$4),$AA$4-$M$3,IF(N170>=$Z$4,-$Z$4-O170,0)) -> 0 | AA170: =X170*Z170 -> 0 | AB170: =AB169+AA170 -> 4015 | AC170: =IF(AA170>0,1,0) -> 0 | AD170: =IF(C170>$R$3,IF(C170<$R$4,1,0),0) -> 1 | AE170: =AA170*AD170 -> 0 | AF170: =AF169+AE170 -> 4679 | AG170: =X170*AD170 -> 0 | AH170: =IF(AE170>0,1,0) -> 0 | AI170: 1 | AJ170: =AA170*AI170 -> 0 | AK170: =IF(AJ170>0,1,0) -> 0 | AL170: =AI170*X170 -> 0 | AM170: =AM169+AJ170 -> 3239 | AN170: =Z170*X170*AD170*AI170 -> 0 | AO170: =AO169+AN170 -> 3848 | AP170: =X170*AD170*AI170 -> 0 | AQ170: =IF(AN170>0,1,0) -> 0 | AR170: 1 | AS170: =AA170*AR170 -> 0 | AT170: =AT169+AS170 -> 3479 | AU170: =IF(AS170>0,1,0) -> 0 | AV170: =IF(AS170<>0,1,0) -> 0 | AW170: =AR170*Q170 -> -314 | AX170: =AX169+AW170 -> 3319 | AY170: =IF(AW170>0,1,0) -> 0 | AZ170: =IF(AW170<>0,1,0) -> 1 | BA170: 1 | BB170: =BA170*AW170 -> -314 | BC170: =IF(BB170<>0,1,0) -> 1 | BD170: =IF(BB170>0,1,0) -> 0 | BE170: =AW170*AD170 -> -314 | BF170: =BF169+BE170 -> 2928 | BG170: =IF(BE170<>0,1,0) -> 1 | BH170: =IF(BE170>0,1,0) -> 0 | BI170: =AS170*AD170 -> 0 | BJ170: =BJ169+BI170 -> 3230 | BK170: =IF(BI170<>0,1,0) -> 0 | BL170: =IF(BI170>0,1,0) -> 0
A171: =IF(D171<>0,1,0) -> 1 | B171: 39689 | C171: 10 | D171: 117.09 | E171: 0 | F171: 117.14 | G171: 117.14 | H171: 116.69 | I171: 120.36 | J171: 114.09 | K171: 116.46 | L171: 0 | M171: 116.53 | N171: =ABS((G171-D171)*100) -> 5 | O171: =ABS((D171-H171)*100) -> 40 | P171: =((D171-J171)*100) -> 300 | Q171: =IF($E$3<N171,$E$3-$M$3,-O171-$M$3) -> -44 | R171: =R170+Q171 -> 3667 | S171: =IF(Q171>0,1,0) -> 0 | T171: =IF(C171>$R$3,IF(C171<$R$4,Q171,0),0) -> -44 | U171: =U170+T171 -> 4380 | V171: =IF(T171<>0,1,0) -> 1 | W171: =IF(T171>0,1,0) -> 0 | X171: =IF(N171>$Z$4,1,0) -> 0 | Y171: =IF(E171=0,(F171-D171)*100,(D172-K172)*100) -> 5 | Z171: =IF(N171>=($Z$4+$AA$4),$AA$4-$M$3,IF(N171>=$Z$4,-$Z$4-O171,0)) -> 0 | AA171: =X171*Z171 -> 0 | AB171: =AB170+AA171 -> 4015 | AC171: =IF(AA171>0,1,0) -> 0 | AD171: =IF(C171>$R$3,IF(C171<$R$4,1,0),0) -> 1 | AE171: =AA171*AD171 -> 0 | AF171: =AF170+AE171 -> 4679 | AG171: =X171*AD171 -> 0 | AH171: =IF(AE171>0,1,0) -> 0 | AI171: 1 | AJ171: =AA171*AI171 -> 0 | AK171: =IF(AJ171>0,1,0) -> 0 | AL171: =AI171*X171 -> 0 | AM171: =AM170+AJ171 -> 3239 | AN171: =Z171*X171*AD171*AI171 -> 0 | AO171: =AO170+AN171 -> 3848 | AP171: =X171*AD171*AI171 -> 0 | AQ171: =IF(AN171>0,1,0) -> 0 | AR171: 1 | AS171: =AA171*AR171 -> 0 | AT171: =AT170+AS171 -> 3479 | AU171: =IF(AS171>0,1,0) -> 0 | AV171: =IF(AS171<>0,1,0) -> 0 | AW171: =AR171*Q171 -> -44 | AX171: =AX170+AW171 -> 3275 | AY171: =IF(AW171>0,1,0) -> 0 | AZ171: =IF(AW171<>0,1,0) -> 1 | BA171: 1 | BB171: =BA171*AW171 -> -44 | BC171: =IF(BB171<>0,1,0) -> 1 | BD171: =IF(BB171>0,1,0) -> 0 | BE171: =AW171*AD171 -> -44 | BF171: =BF170+BE171 -> 2884 | BG171: =IF(BE171<>0,1,0) -> 1 | BH171: =IF(BE171>0,1,0) -> 0 | BI171: =AS171*AD171 -> 0 | BJ171: =BJ170+BI171 -> 3230 | BK171: =IF(BI171<>0,1,0) -> 0 | BL171: =IF(BI171>0,1,0) -> 0
A172: =IF(D172<>0,1,0) -> 1 | B172: 39689 | C172: 11 | D172: 116.53 | E172: 1 | F172: 117.89 | G172: 116.54 | H172: 117.14 | I172: 116.54 | J172: 114.16 | K172: 116.54 | L172: 1 | M172: 117.89 | N172: =ABS((G172-D172)*100) -> 1 | O172: =ABS((D172-H172)*100) -> 61 | P172: =((D172-J172)*100) -> 237 | Q172: =IF($E$3<N172,$E$3-$M$3,-O172-$M$3) -> -65 | R172: =R171+Q172 -> 3602 | S172: =IF(Q172>0,1,0) -> 0 | T172: =IF(C172>$R$3,IF(C172<$R$4,Q172,0),0) -> -65 | U172: =U171+T172 -> 4315 | V172: =IF(T172<>0,1,0) -> 1 | W172: =IF(T172>0,1,0) -> 0 | X172: =IF(N172>$Z$4,1,0) -> 0 | Y172: =IF(E172=0,(F172-D172)*100,(D173-K173)*100) -> 170 | Z172: =IF(N172>=($Z$4+$AA$4),$AA$4-$M$3,IF(N172>=$Z$4,-$Z$4-O172,0)) -> 0 | AA172: =X172*Z172 -> 0 | AB172: =AB171+AA172 -> 4015 | AC172: =IF(AA172>0,1,0) -> 0 | AD172: =IF(C172>$R$3,IF(C172<$R$4,1,0),0) -> 1 | AE172: =AA172*AD172 -> 0 | AF172: =AF171+AE172 -> 4679 | AG172: =X172*AD172 -> 0 | AH172: =IF(AE172>0,1,0) -> 0 | AI172: 1 | AJ172: =AA172*AI172 -> 0 | AK172: =IF(AJ172>0,1,0) -> 0 | AL172: =AI172*X172 -> 0 | AM172: =AM171+AJ172 -> 3239 | AN172: =Z172*X172*AD172*AI172 -> 0 | AO172: =AO171+AN172 -> 3848 | AP172: =X172*AD172*AI172 -> 0 | AQ172: =IF(AN172>0,1,0) -> 0 | AR172: 1 | AS172: =AA172*AR172 -> 0 | AT172: =AT171+AS172 -> 3479 | AU172: =IF(AS172>0,1,0) -> 0 | AV172: =IF(AS172<>0,1,0) -> 0 | AW172: =AR172*Q172 -> -65 | AX172: =AX171+AW172 -> 3210 | AY172: =IF(AW172>0,1,0) -> 0 | AZ172: =IF(AW172<>0,1,0) -> 1 | BA172: 0 | BB172: =BA172*AW172 -> 0 | BC172: =IF(BB172<>0,1,0) -> 0 | BD172: =IF(BB172>0,1,0) -> 0 | BE172: =AW172*AD172 -> -65 | BF172: =BF171+BE172 -> 2819 | BG172: =IF(BE172<>0,1,0) -> 1 | BH172: =IF(BE172>0,1,0) -> 0 | BI172: =AS172*AD172 -> 0 | BJ172: =BJ171+BI172 -> 3230 | BK172: =IF(BI172<>0,1,0) -> 0 | BL172: =IF(BI172>0,1,0) -> 0
A173: =IF(D173<>0,1,0) -> 1 | B173: 39689 | C173: 12 | D173: 117.89 | E173: 0 | F173: 118.7 | G173: 118.7 | H173: 116.54 | I173: 118.7 | J173: 114.22 | K173: 116.19 | L173: 0 | M173: 116.44 | N173: =ABS((G173-D173)*100) -> 81 | O173: =ABS((D173-H173)*100) -> 135 | P173: =((D173-J173)*100) -> 367 | Q173: =IF($E$3<N173,$E$3-$M$3,-O173-$M$3) -> -139 | R173: =R172+Q173 -> 3463 | S173: =IF(Q173>0,1,0) -> 0 | T173: =IF(C173>$R$3,IF(C173<$R$4,Q173,0),0) -> -139 | U173: =U172+T173 -> 4176 | V173: =IF(T173<>0,1,0) -> 1 | W173: =IF(T173>0,1,0) -> 0 | X173: =IF(N173>$Z$4,1,0) -> 1 | Y173: =IF(E173=0,(F173-D173)*100,(D174-K174)*100) -> 81 | Z173: =IF(N173>=($Z$4+$AA$4),$AA$4-$M$3,IF(N173>=$Z$4,-$Z$4-O173,0)) -> -165 | AA173: =X173*Z173 -> -165 | AB173: =AB172+AA173 -> 3850 | AC173: =IF(AA173>0,1,0) -> 0 | AD173: =IF(C173>$R$3,IF(C173<$R$4,1,0),0) -> 1 | AE173: =AA173*AD173 -> -165 | AF173: =AF172+AE173 -> 4514 | AG173: =X173*AD173 -> 1 | AH173: =IF(AE173>0,1,0) -> 0 | AI173: 1 | AJ173: =AA173*AI173 -> -165 | AK173: =IF(AJ173>0,1,0) -> 0 | AL173: =AI173*X173 -> 1 | AM173: =AM172+AJ173 -> 3074 | AN173: =Z173*X173*AD173*AI173 -> -165 | AO173: =AO172+AN173 -> 3683 | AP173: =X173*AD173*AI173 -> 1 | AQ173: =IF(AN173>0,1,0) -> 0 | AR173: 1 | AS173: =AA173*AR173 -> -165 | AT173: =AT172+AS173 -> 3314 | AU173: =IF(AS173>0,1,0) -> 0 | AV173: =IF(AS173<>0,1,0) -> 1 | AW173: =AR173*Q173 -> -139 | AX173: =AX172+AW173 -> 3071 | AY173: =IF(AW173>0,1,0) -> 0 | AZ173: =IF(AW173<>0,1,0) -> 1 | BA173: 1 | BB173: =BA173*AW173 -> -139 | BC173: =IF(BB173<>0,1,0) -> 1 | BD173: =IF(BB173>0,1,0) -> 0 | BE173: =AW173*AD173 -> -139 | BF173: =BF172+BE173 -> 2680 | BG173: =IF(BE173<>0,1,0) -> 1 | BH173: =IF(BE173>0,1,0) -> 0 | BI173: =AS173*AD173 -> -165 | BJ173: =BJ172+BI173 -> 3065 | BK173: =IF(BI173<>0,1,0) -> 1 | BL173: =IF(BI173>0,1,0) -> 0
A174: =IF(D174<>0,1,0) -> 1 | B174: 39689 | C174: 16 | D174: 116.44 | E174: 1 | F174: 117.15 | G174: 90.4 | H174: 117.62 | I174: 90.4 | J174: 115.1 | K174: 105.52 | L174: 1 | M174: 110.35 | N174: =ABS((G174-D174)*100) -> 2604 | O174: =ABS((D174-H174)*100) -> 118 | P174: =((D174-J174)*100) -> 134 | Q174: =IF($E$3<N174,$E$3-$M$3,-O174-$M$3) -> 196 | R174: =R173+Q174 -> 3659 | S174: =IF(Q174>0,1,0) -> 1 | T174: =IF(C174>$R$3,IF(C174<$R$4,Q174,0),0) -> 196 | U174: =U173+T174 -> 4372 | V174: =IF(T174<>0,1,0) -> 1 | W174: =IF(T174>0,1,0) -> 1 | X174: =IF(N174>$Z$4,1,0) -> 1 | Y174: =IF(E174=0,(F174-D174)*100,(D175-K175)*100) -> 82 | Z174: =IF(N174>=($Z$4+$AA$4),$AA$4-$M$3,IF(N174>=$Z$4,-$Z$4-O174,0)) -> 156 | AA174: =X174*Z174 -> 156 | AB174: =AB173+AA174 -> 4006 | AC174: =IF(AA174>0,1,0) -> 1 | AD174: =IF(C174>$R$3,IF(C174<$R$4,1,0),0) -> 1 | AE174: =AA174*AD174 -> 156 | AF174: =AF173+AE174 -> 4670 | AG174: =X174*AD174 -> 1 | AH174: =IF(AE174>0,1,0) -> 1 | AI174: 1 | AJ174: =AA174*AI174 -> 156 | AK174: =IF(AJ174>0,1,0) -> 1 | AL174: =AI174*X174 -> 1 | AM174: =AM173+AJ174 -> 3230 | AN174: =Z174*X174*AD174*AI174 -> 156 | AO174: =AO173+AN174 -> 3839 | AP174: =X174*AD174*AI174 -> 1 | AQ174: =IF(AN174>0,1,0) -> 1 | AR174: 1 | AS174: =AA174*AR174 -> 156 | AT174: =AT173+AS174 -> 3470 | AU174: =IF(AS174>0,1,0) -> 1 | AV174: =IF(AS174<>0,1,0) -> 1 | AW174: =AR174*Q174 -> 196 | AX174: =AX173+AW174 -> 3267 | AY174: =IF(AW174>0,1,0) -> 1 | AZ174: =IF(AW174<>0,1,0) -> 1 | BA174: 0 | BB174: =BA174*AW174 -> 0 | BC174: =IF(BB174<>0,1,0) -> 0 | BD174: =IF(BB174>0,1,0) -> 0 | BE174: =AW174*AD174 -> 196 | BF174: =BF173+BE174 -> 2876 | BG174: =IF(BE174<>0,1,0) -> 1 | BH174: =IF(BE174>0,1,0) -> 1 | BI174: =AS174*AD174 -> 156 | BJ174: =BJ173+BI174 -> 3221 | BK174: =IF(BI174<>0,1,0) -> 1 | BL174: =IF(BI174>0,1,0) -> 1
A175: =IF(D175<>0,1,0) -> 1 | B175: 39695 | C175: 8 | D175: 110.35 | E175: 0 | F175: 110.56 | G175: 110.56 | H175: 109.58 | I175: 110.56 | J175: 108.64 | K175: 109.53 | L175: 0 | M175: 109.76 | N175: =ABS((G175-D175)*100) -> 21 | O175: =ABS((D175-H175)*100) -> 77 | P175: =((D175-J175)*100) -> 171 | Q175: =IF($E$3<N175,$E$3-$M$3,-O175-$M$3) -> -81 | R175: =R174+Q175 -> 3578 | S175: =IF(Q175>0,1,0) -> 0 | T175: =IF(C175>$R$3,IF(C175<$R$4,Q175,0),0) -> -81 | U175: =U174+T175 -> 4291 | V175: =IF(T175<>0,1,0) -> 1 | W175: =IF(T175>0,1,0) -> 0 | X175: =IF(N175>$Z$4,1,0) -> 0 | Y175: =IF(E175=0,(F175-D175)*100,(D176-K176)*100) -> 21 | Z175: =IF(N175>=($Z$4+$AA$4),$AA$4-$M$3,IF(N175>=$Z$4,-$Z$4-O175,0)) -> 0 | AA175: =X175*Z175 -> 0 | AB175: =AB174+AA175 -> 4006 | AC175: =IF(AA175>0,1,0) -> 0 | AD175: =IF(C175>$R$3,IF(C175<$R$4,1,0),0) -> 1 | AE175: =AA175*AD175 -> 0 | AF175: =AF174+AE175 -> 4670 | AG175: =X175*AD175 -> 0 | AH175: =IF(AE175>0,1,0) -> 0 | AI175: 1 | AJ175: =AA175*AI175 -> 0 | AK175: =IF(AJ175>0,1,0) -> 0 | AL175: =AI175*X175 -> 0 | AM175: =AM174+AJ175 -> 3230 | AN175: =Z175*X175*AD175*AI175 -> 0 | AO175: =AO174+AN175 -> 3839 | AP175: =X175*AD175*AI175 -> 0 | AQ175: =IF(AN175>0,1,0) -> 0 | AR175: 0 | AS175: =AA175*AR175 -> 0 | AT175: =AT174+AS175 -> 3470 | AU175: =IF(AS175>0,1,0) -> 0 | AV175: =IF(AS175<>0,1,0) -> 0 | AW175: =AR175*Q175 -> 0 | AX175: =AX174+AW175 -> 3267 | AY175: =IF(AW175>0,1,0) -> 0 | AZ175: =IF(AW175<>0,1,0) -> 0 | BA175: 1 | BB175: =BA175*AW175 -> 0 | BC175: =IF(BB175<>0,1,0) -> 0 | BD175: =IF(BB175>0,1,0) -> 0 | BE175: =AW175*AD175 -> 0 | BF175: =BF174+BE175 -> 2876 | BG175: =IF(BE175<>0,1,0) -> 0 | BH175: =IF(BE175>0,1,0) -> 0 | BI175: =AS175*AD175 -> 0 | BJ175: =BJ174+BI175 -> 3221 | BK175: =IF(BI175<>0,1,0) -> 0 | BL175: =IF(BI175>0,1,0) -> 0
A176: =IF(D176<>0,1,0) -> 1 | B176: 39695 | C176: 11 | D176: 109.76 | E176: 1 | F176: 110.21 | G176: 109.34 | H176: 110.17 | I176: 109.34 | J176: 109.12 | K176: 105.16 | L176: 0 | M176: 108.75 | N176: =ABS((G176-D176)*100) -> 42 | O176: =ABS((D176-H176)*100) -> 41 | P176: =((D176-J176)*100) -> 64 | Q176: =IF($E$3<N176,$E$3-$M$3,-O176-$M$3) -> -45 | R176: =R175+Q176 -> 3533 | S176: =IF(Q176>0,1,0) -> 0 | T176: =IF(C176>$R$3,IF(C176<$R$4,Q176,0),0) -> -45 | U176: =U175+T176 -> 4246 | V176: =IF(T176<>0,1,0) -> 1 | W176: =IF(T176>0,1,0) -> 0 | X176: =IF(N176>$Z$4,1,0) -> 1 | Y176: =IF(E176=0,(F176-D176)*100,(D177-K177)*100) -> 107 | Z176: =IF(N176>=($Z$4+$AA$4),$AA$4-$M$3,IF(N176>=$Z$4,-$Z$4-O176,0)) -> -71 | AA176: =X176*Z176 -> -71 | AB176: =AB175+AA176 -> 3935 | AC176: =IF(AA176>0,1,0) -> 0 | AD176: =IF(C176>$R$3,IF(C176<$R$4,1,0),0) -> 1 | AE176: =AA176*AD176 -> -71 | AF176: =AF175+AE176 -> 4599 | AG176: =X176*AD176 -> 1 | AH176: =IF(AE176>0,1,0) -> 0 | AI176: 0 | AJ176: =AA176*AI176 -> 0 | AK176: =IF(AJ176>0,1,0) -> 0 | AL176: =AI176*X176 -> 0 | AM176: =AM175+AJ176 -> 3230 | AN176: =Z176*X176*AD176*AI176 -> 0 | AO176: =AO175+AN176 -> 3839 | AP176: =X176*AD176*AI176 -> 0 | AQ176: =IF(AN176>0,1,0) -> 0 | AR176: 1 | AS176: =AA176*AR176 -> -71 | AT176: =AT175+AS176 -> 3399 | AU176: =IF(AS176>0,1,0) -> 0 | AV176: =IF(AS176<>0,1,0) -> 1 | AW176: =AR176*Q176 -> -45 | AX176: =AX175+AW176 -> 3222 | AY176: =IF(AW176>0,1,0) -> 0 | AZ176: =IF(AW176<>0,1,0) -> 1 | BA176: 0 | BB176: =BA176*AW176 -> 0 | BC176: =IF(BB176<>0,1,0) -> 0 | BD176: =IF(BB176>0,1,0) -> 0 | BE176: =AW176*AD176 -> -45 | BF176: =BF175+BE176 -> 2831 | BG176: =IF(BE176<>0,1,0) -> 1 | BH176: =IF(BE176>0,1,0) -> 0 | BI176: =AS176*AD176 -> -71 | BJ176: =BJ175+BI176 -> 3150 | BK176: =IF(BI176<>0,1,0) -> 1 | BL176: =IF(BI176>0,1,0) -> 0
A177: =IF(D177<>0,1,0) -> 1 | B177: 39699 | C177: 0 | D177: 108.75 | E177: 0 | F177: 109.07 | G177: 109.07 | H177: 108.11 | I177: 109.07 | J177: 105.16 | K177: 107.68 | L177: 0 | M177: 107.78 | N177: =ABS((G177-D177)*100) -> 32 | O177: =ABS((D177-H177)*100) -> 64 | P177: =((D177-J177)*100) -> 359 | Q177: =IF($E$3<N177,$E$3-$M$3,-O177-$M$3) -> -68 | R177: =R176+Q177 -> 3465 | S177: =IF(Q177>0,1,0) -> 0 | T177: =IF(C177>$R$3,IF(C177<$R$4,Q177,0),0) -> 0 | U177: =U176+T177 -> 4246 | V177: =IF(T177<>0,1,0) -> 0 | W177: =IF(T177>0,1,0) -> 0 | X177: =IF(N177>$Z$4,1,0) -> 1 | Y177: =IF(E177=0,(F177-D177)*100,(D178-K178)*100) -> 32 | Z177: =IF(N177>=($Z$4+$AA$4),$AA$4-$M$3,IF(N177>=$Z$4,-$Z$4-O177,0)) -> -94 | AA177: =X177*Z177 -> -94 | AB177: =AB176+AA177 -> 3841 | AC177: =IF(AA177>0,1,0) -> 0 | AD177: =IF(C177>$R$3,IF(C177<$R$4,1,0),0) -> 0 | AE177: =AA177*AD177 -> 0 | AF177: =AF176+AE177 -> 4599 | AG177: =X177*AD177 -> 0 | AH177: =IF(AE177>0,1,0) -> 0 | AI177: 1 | AJ177: =AA177*AI177 -> -94 | AK177: =IF(AJ177>0,1,0) -> 0 | AL177: =AI177*X177 -> 1 | AM177: =AM176+AJ177 -> 3136 | AN177: =Z177*X177*AD177*AI177 -> 0 | AO177: =AO176+AN177 -> 3839 | AP177: =X177*AD177*AI177 -> 0 | AQ177: =IF(AN177>0,1,0) -> 0 | AR177: 0 | AS177: =AA177*AR177 -> 0 | AT177: =AT176+AS177 -> 3399 | AU177: =IF(AS177>0,1,0) -> 0 | AV177: =IF(AS177<>0,1,0) -> 0 | AW177: =AR177*Q177 -> 0 | AX177: =AX176+AW177 -> 3222 | AY177: =IF(AW177>0,1,0) -> 0 | AZ177: =IF(AW177<>0,1,0) -> 0 | BA177: 1 | BB177: =BA177*AW177 -> 0 | BC177: =IF(BB177<>0,1,0) -> 0 | BD177: =IF(BB177>0,1,0) -> 0 | BE177: =AW177*AD177 -> 0 | BF177: =BF176+BE177 -> 2831 | BG177: =IF(BE177<>0,1,0) -> 0 | BH177: =IF(BE177>0,1,0) -> 0 | BI177: =AS177*AD177 -> 0 | BJ177: =BJ176+BI177 -> 3150 | BK177: =IF(BI177<>0,1,0) -> 0 | BL177: =IF(BI177>0,1,0) -> 0
A178: =IF(D178<>0,1,0) -> 1 | B178: 39699 | C178: 6 | D178: 107.78 | E178: 1 | F178: 108.34 | G178: 90.4 | H178: 108.5 | I178: 90.4 | J178: 105.74 | K178: 107.71 | L178: 1 | M178: 108.17 | N178: =ABS((G178-D178)*100) -> 1738 | O178: =ABS((D178-H178)*100) -> 72 | P178: =((D178-J178)*100) -> 204 | Q178: =IF($E$3<N178,$E$3-$M$3,-O178-$M$3) -> 196 | R178: =R177+Q178 -> 3661 | S178: =IF(Q178>0,1,0) -> 1 | T178: =IF(C178>$R$3,IF(C178<$R$4,Q178,0),0) -> 196 | U178: =U177+T178 -> 4442 | V178: =IF(T178<>0,1,0) -> 1 | W178: =IF(T178>0,1,0) -> 1 | X178: 0 | Y178: =IF(E178=0,(F178-D178)*100,(D179-K179)*100) -> 105 | Z178: =IF(N178>=($Z$4+$AA$4),$AA$4-$M$3,IF(N178>=$Z$4,-$Z$4-O178,0)) -> 156 | AA178: =X178*Z178 -> 0 | AB178: =AB177+AA178 -> 3841 | AC178: =IF(AA178>0,1,0) -> 0 | AD178: =IF(C178>$R$3,IF(C178<$R$4,1,0),0) -> 1 | AE178: =AA178*AD178 -> 0 | AF178: =AF177+AE178 -> 4599 | AG178: =X178*AD178 -> 0 | AH178: =IF(AE178>0,1,0) -> 0 | AI178: 1 | AJ178: =AA178*AI178 -> 0 | AK178: =IF(AJ178>0,1,0) -> 0 | AL178: =AI178*X178 -> 0 | AM178: =AM177+AJ178 -> 3136 | AN178: =Z178*X178*AD178*AI178 -> 0 | AO178: =AO177+AN178 -> 3839 | AP178: =X178*AD178*AI178 -> 0 | AQ178: =IF(AN178>0,1,0) -> 0 | AR178: 1 | AS178: =AA178*AR178 -> 0 | AT178: =AT177+AS178 -> 3399 | AU178: =IF(AS178>0,1,0) -> 0 | AV178: =IF(AS178<>0,1,0) -> 0 | AW178: =AR178*Q178 -> 196 | AX178: =AX177+AW178 -> 3418 | AY178: =IF(AW178>0,1,0) -> 1 | AZ178: =IF(AW178<>0,1,0) -> 1 | BA178: 0 | BB178: =BA178*AW178 -> 0 | BC178: =IF(BB178<>0,1,0) -> 0 | BD178: =IF(BB178>0,1,0) -> 0 | BE178: =AW178*AD178 -> 196 | BF178: =BF177+BE178 -> 3027 | BG178: =IF(BE178<>0,1,0) -> 1 | BH178: =IF(BE178>0,1,0) -> 1 | BI178: =AS178*AD178 -> 0 | BJ178: =BJ177+BI178 -> 3150 | BK178: =IF(BI178<>0,1,0) -> 0 | BL178: =IF(BI178>0,1,0) -> 0
A179: =IF(D179<>0,1,0) -> 1 | B179: 39699 | C179: 7 | D179: 108.17 | E179: 0 | F179: 108.2 | G179: 108.2 | H179: 107.71 | I179: 108.2 | J179: 105.87 | K179: 107.12 | L179: 0 | M179: 107.63 | N179: =ABS((G179-D179)*100) -> 3 | O179: =ABS((D179-H179)*100) -> 46 | P179: =((D179-J179)*100) -> 230 | Q179: =IF($E$3<N179,$E$3-$M$3,-O179-$M$3) -> -50 | R179: =R178+Q179 -> 3611 | S179: =IF(Q179>0,1,0) -> 0 | T179: =IF(C179>$R$3,IF(C179<$R$4,Q179,0),0) -> -50 | U179: =U178+T179 -> 4392 | V179: =IF(T179<>0,1,0) -> 1 | W179: =IF(T179>0,1,0) -> 0 | X179: =IF(N179>$Z$4,1,0) -> 0 | Y179: =IF(E179=0,(F179-D179)*100,(D180-K180)*100) -> 3 | Z179: =IF(N179>=($Z$4+$AA$4),$AA$4-$M$3,IF(N179>=$Z$4,-$Z$4-O179,0)) -> 0 | AA179: =X179*Z179 -> 0 | AB179: =AB178+AA179 -> 3841 | AC179: =IF(AA179>0,1,0) -> 0 | AD179: =IF(C179>$R$3,IF(C179<$R$4,1,0),0) -> 1 | AE179: =AA179*AD179 -> 0 | AF179: =AF178+AE179 -> 4599 | AG179: =X179*AD179 -> 0 | AH179: =IF(AE179>0,1,0) -> 0 | AI179: 0 | AJ179: =AA179*AI179 -> 0 | AK179: =IF(AJ179>0,1,0) -> 0 | AL179: =AI179*X179 -> 0 | AM179: =AM178+AJ179 -> 3136 | AN179: =Z179*X179*AD179*AI179 -> 0 | AO179: =AO178+AN179 -> 3839 | AP179: =X179*AD179*AI179 -> 0 | AQ179: =IF(AN179>0,1,0) -> 0 | AR179: 0 | AS179: =AA179*AR179 -> 0 | AT179: =AT178+AS179 -> 3399 | AU179: =IF(AS179>0,1,0) -> 0 | AV179: =IF(AS179<>0,1,0) -> 0 | AW179: =AR179*Q179 -> 0 | AX179: =AX178+AW179 -> 3418 | AY179: =IF(AW179>0,1,0) -> 0 | AZ179: =IF(AW179<>0,1,0) -> 0 | BA179: 1 | BB179: =BA179*AW179 -> 0 | BC179: =IF(BB179<>0,1,0) -> 0 | BD179: =IF(BB179>0,1,0) -> 0 | BE179: =AW179*AD179 -> 0 | BF179: =BF178+BE179 -> 3027 | BG179: =IF(BE179<>0,1,0) -> 0 | BH179: =IF(BE179>0,1,0) -> 0 | BI179: =AS179*AD179 -> 0 | BJ179: =BJ178+BI179 -> 3150 | BK179: =IF(BI179<>0,1,0) -> 0 | BL179: =IF(BI179>0,1,0) -> 0
A180: =IF(D180<>0,1,0) -> 1 | B180: 39699 | C180: 8 | D180: 107.63 | E180: 1 | F180: 107.97 | G180: 90.4 | H180: 108.2 | I180: 90.4 | J180: 106 | K180: 90.4 | L180: 0 | M180: 95.57 | N180: =ABS((G180-D180)*100) -> 1723 | O180: =ABS((D180-H180)*100) -> 57 | P180: =((D180-J180)*100) -> 163 | Q180: =IF($E$3<N180,$E$3-$M$3,-O180-$M$3) -> 196 | R180: =R179+Q180 -> 3807 | S180: =IF(Q180>0,1,0) -> 1 | T180: =IF(C180>$R$3,IF(C180<$R$4,Q180,0),0) -> 196 | U180: =U179+T180 -> 4588 | V180: =IF(T180<>0,1,0) -> 1 | W180: =IF(T180>0,1,0) -> 1 | X180: =IF(N180>$Z$4,1,0) -> 1 | Y180: =IF(E180=0,(F180-D180)*100,(D181-K181)*100) -> 26 | Z180: =IF(N180>=($Z$4+$AA$4),$AA$4-$M$3,IF(N180>=$Z$4,-$Z$4-O180,0)) -> 156 | AA180: =X180*Z180 -> 156 | AB180: =AB179+AA180 -> 3997 | AC180: =IF(AA180>0,1,0) -> 1 | AD180: =IF(C180>$R$3,IF(C180<$R$4,1,0),0) -> 1 | AE180: =AA180*AD180 -> 156 | AF180: =AF179+AE180 -> 4755 | AG180: =X180*AD180 -> 1 | AH180: =IF(AE180>0,1,0) -> 1 | AI180: 1 | AJ180: =AA180*AI180 -> 156 | AK180: =IF(AJ180>0,1,0) -> 1 | AL180: =AI180*X180 -> 1 | AM180: =AM179+AJ180 -> 3292 | AN180: =Z180*X180*AD180*AI180 -> 156 | AO180: =AO179+AN180 -> 3995 | AP180: =X180*AD180*AI180 -> 1 | AQ180: =IF(AN180>0,1,0) -> 1 | AR180: 1 | AS180: =AA180*AR180 -> 156 | AT180: =AT179+AS180 -> 3555 | AU180: =IF(AS180>0,1,0) -> 1 | AV180: =IF(AS180<>0,1,0) -> 1 | AW180: =AR180*Q180 -> 196 | AX180: =AX179+AW180 -> 3614 | AY180: =IF(AW180>0,1,0) -> 1 | AZ180: =IF(AW180<>0,1,0) -> 1 | BA180: 0 | BB180: =BA180*AW180 -> 0 | BC180: =IF(BB180<>0,1,0) -> 0 | BD180: =IF(BB180>0,1,0) -> 0 | BE180: =AW180*AD180 -> 196 | BF180: =BF179+BE180 -> 3223 | BG180: =IF(BE180<>0,1,0) -> 1 | BH180: =IF(BE180>0,1,0) -> 1 | BI180: =AS180*AD180 -> 156 | BJ180: =BJ179+BI180 -> 3306 | BK180: =IF(BI180<>0,1,0) -> 1 | BL180: =IF(BI180>0,1,0) -> 1
A181: =IF(D181<>0,1,0) -> 1 | B181: 39708 | C181: 17 | D181: 95.57 | E181: 0 | F181: 110.39 | G181: 110.39 | H181: 92.61 | I181: 110.39 | J181: 91.07 | K181: 95.31 | L181: 1 | M181: 104.94 | N181: =ABS((G181-D181)*100) -> 1482 | O181: =ABS((D181-H181)*100) -> 296 | P181: =((D181-J181)*100) -> 450 | Q181: =IF($E$3<N181,$E$3-$M$3,-O181-$M$3) -> 196 | R181: =R180+Q181 -> 4003 | S181: =IF(Q181>0,1,0) -> 1 | T181: =IF(C181>$R$3,IF(C181<$R$4,Q181,0),0) -> 196 | U181: =U180+T181 -> 4784 | V181: =IF(T181<>0,1,0) -> 1 | W181: =IF(T181>0,1,0) -> 1 | X181: =IF(N181>$Z$4,1,0) -> 1 | Y181: =IF(E181=0,(F181-D181)*100,(D182-K182)*100) -> 1482 | Z181: =IF(N181>=($Z$4+$AA$4),$AA$4-$M$3,IF(N181>=$Z$4,-$Z$4-O181,0)) -> 156 | AA181: =X181*Z181 -> 156 | AB181: =AB180+AA181 -> 4153 | AC181: =IF(AA181>0,1,0) -> 1 | AD181: =IF(C181>$R$3,IF(C181<$R$4,1,0),0) -> 1 | AE181: =AA181*AD181 -> 156 | AF181: =AF180+AE181 -> 4911 | AG181: =X181*AD181 -> 1 | AH181: =IF(AE181>0,1,0) -> 1 | AI181: 1 | AJ181: =AA181*AI181 -> 156 | AK181: =IF(AJ181>0,1,0) -> 1 | AL181: =AI181*X181 -> 1 | AM181: =AM180+AJ181 -> 3448 | AN181: =Z181*X181*AD181*AI181 -> 156 | AO181: =AO180+AN181 -> 4151 | AP181: =X181*AD181*AI181 -> 1 | AQ181: =IF(AN181>0,1,0) -> 1 | AR181: 0 | AS181: =AA181*AR181 -> 0 | AT181: =AT180+AS181 -> 3555 | AU181: =IF(AS181>0,1,0) -> 0 | AV181: =IF(AS181<>0,1,0) -> 0 | AW181: =AR181*Q181 -> 0 | AX181: =AX180+AW181 -> 3614 | AY181: =IF(AW181>0,1,0) -> 0 | AZ181: =IF(AW181<>0,1,0) -> 0 | BA181: 1 | BB181: =BA181*AW181 -> 0 | BC181: =IF(BB181<>0,1,0) -> 0 | BD181: =IF(BB181>0,1,0) -> 0 | BE181: =AW181*AD181 -> 0 | BF181: =BF180+BE181 -> 3223 | BG181: =IF(BE181<>0,1,0) -> 0 | BH181: =IF(BE181>0,1,0) -> 0 | BI181: =AS181*AD181 -> 0 | BJ181: =BJ180+BI181 -> 3306 | BK181: =IF(BI181<>0,1,0) -> 0 | BL181: =IF(BI181>0,1,0) -> 0
A182: =IF(D182<>0,1,0) -> 1 | B182: 39714 | C182: 17 | D182: 104.94 | E182: 1 | F182: 107.22 | G182: 104.92 | H182: 105.61 | I182: 104.92 | J182: 109.27 | K182: 104.92 | L182: 1 | M182: 106.92 | N182: =ABS((G182-D182)*100) -> 2 | O182: =ABS((D182-H182)*100) -> 67 | P182: =((D182-J182)*100) -> -433 | Q182: =IF($E$3<N182,$E$3-$M$3,-O182-$M$3) -> -71 | R182: =R181+Q182 -> 3932 | S182: =IF(Q182>0,1,0) -> 0 | T182: =IF(C182>$R$3,IF(C182<$R$4,Q182,0),0) -> -71 | U182: =U181+T182 -> 4713 | V182: =IF(T182<>0,1,0) -> 1 | W182: =IF(T182>0,1,0) -> 0 | X182: =IF(N182>$Z$4,1,0) -> 0 | Y182: =IF(E182=0,(F182-D182)*100,(D183-K183)*100) -> 171 | Z182: =IF(N182>=($Z$4+$AA$4),$AA$4-$M$3,IF(N182>=$Z$4,-$Z$4-O182,0)) -> 0 | AA182: =X182*Z182 -> 0 | AB182: =AB181+AA182 -> 4153 | AC182: =IF(AA182>0,1,0) -> 0 | AD182: =IF(C182>$R$3,IF(C182<$R$4,1,0),0) -> 1 | AE182: =AA182*AD182 -> 0 | AF182: =AF181+AE182 -> 4911 | AG182: =X182*AD182 -> 0 | AH182: =IF(AE182>0,1,0) -> 0 | AI182: 1 | AJ182: =AA182*AI182 -> 0 | AK182: =IF(AJ182>0,1,0) -> 0 | AL182: =AI182*X182 -> 0 | AM182: =AM181+AJ182 -> 3448 | AN182: =Z182*X182*AD182*AI182 -> 0 | AO182: =AO181+AN182 -> 4151 | AP182: =X182*AD182*AI182 -> 0 | AQ182: =IF(AN182>0,1,0) -> 0 | AR182: 0 | AS182: =AA182*AR182 -> 0 | AT182: =AT181+AS182 -> 3555 | AU182: =IF(AS182>0,1,0) -> 0 | AV182: =IF(AS182<>0,1,0) -> 0 | AW182: =AR182*Q182 -> 0 | AX182: =AX181+AW182 -> 3614 | AY182: =IF(AW182>0,1,0) -> 0 | AZ182: =IF(AW182<>0,1,0) -> 0 | BA182: 1 | BB182: =BA182*AW182 -> 0 | BC182: =IF(BB182<>0,1,0) -> 0 | BD182: =IF(BB182>0,1,0) -> 0 | BE182: =AW182*AD182 -> 0 | BF182: =BF181+BE182 -> 3223 | BG182: =IF(BE182<>0,1,0) -> 0 | BH182: =IF(BE182>0,1,0) -> 0 | BI182: =AS182*AD182 -> 0 | BJ182: =BJ181+BI182 -> 3306 | BK182: =IF(BI182<>0,1,0) -> 0 | BL182: =IF(BI182>0,1,0) -> 0
A183: =IF(D183<>0,1,0) -> 1 | B183: 39714 | C183: 18 | D183: 106.92 | E183: 0 | F183: 109.44 | G183: 109.44 | H183: 104.92 | I183: 109.44 | J183: 108.96 | K183: 105.21 | L183: 0 | M183: 106.29 | N183: =ABS((G183-D183)*100) -> 252 | O183: =ABS((D183-H183)*100) -> 200 | P183: =((D183-J183)*100) -> -204 | Q183: =IF($E$3<N183,$E$3-$M$3,-O183-$M$3) -> 196 | R183: =R182+Q183 -> 4128 | S183: =IF(Q183>0,1,0) -> 1 | T183: =IF(C183>$R$3,IF(C183<$R$4,Q183,0),0) -> 0 | U183: =U182+T183 -> 4713 | V183: =IF(T183<>0,1,0) -> 0 | W183: =IF(T183>0,1,0) -> 0 | X183: =IF(N183>$Z$4,1,0) -> 1 | Y183: =IF(E183=0,(F183-D183)*100,(D184-K184)*100) -> 252 | Z183: =IF(N183>=($Z$4+$AA$4),$AA$4-$M$3,IF(N183>=$Z$4,-$Z$4-O183,0)) -> 156 | AA183: =X183*Z183 -> 156 | AB183: =AB182+AA183 -> 4309 | AC183: =IF(AA183>0,1,0) -> 1 | AD183: =IF(C183>$R$3,IF(C183<$R$4,1,0),0) -> 0 | AE183: =AA183*AD183 -> 0 | AF183: =AF182+AE183 -> 4911 | AG183: =X183*AD183 -> 0 | AH183: =IF(AE183>0,1,0) -> 0 | AI183: 1 | AJ183: =AA183*AI183 -> 156 | AK183: =IF(AJ183>0,1,0) -> 1 | AL183: =AI183*X183 -> 1 | AM183: =AM182+AJ183 -> 3604 | AN183: =Z183*X183*AD183*AI183 -> 0 | AO183: =AO182+AN183 -> 4151 | AP183: =X183*AD183*AI183 -> 0 | AQ183: =IF(AN183>0,1,0) -> 0 | AR183: 1 | AS183: =AA183*AR183 -> 156 | AT183: =AT182+AS183 -> 3711 | AU183: =IF(AS183>0,1,0) -> 1 | AV183: =IF(AS183<>0,1,0) -> 1 | AW183: =AR183*Q183 -> 196 | AX183: =AX182+AW183 -> 3810 | AY183: =IF(AW183>0,1,0) -> 1 | AZ183: =IF(AW183<>0,1,0) -> 1 | BA183: 0 | BB183: =BA183*AW183 -> 0 | BC183: =IF(BB183<>0,1,0) -> 0 | BD183: =IF(BB183>0,1,0) -> 0 | BE183: =AW183*AD183 -> 0 | BF183: =BF182+BE183 -> 3223 | BG183: =IF(BE183<>0,1,0) -> 0 | BH183: =IF(BE183>0,1,0) -> 0 | BI183: =AS183*AD183 -> 0 | BJ183: =BJ182+BI183 -> 3306 | BK183: =IF(BI183<>0,1,0) -> 0 | BL183: =IF(BI183>0,1,0) -> 0
A184: =IF(D184<>0,1,0) -> 1 | B184: 39715 | C184: 17 | D184: 106.29 | E184: 1 | F184: 107.2 | G184: 104.81 | H184: 106.87 | I184: 90.4 | J184: 109.36 | K184: 104.81 | L184: 1 | M184: 106.39 | N184: =ABS((G184-D184)*100) -> 148 | O184: =ABS((D184-H184)*100) -> 58 | P184: =((D184-J184)*100) -> -307 | Q184: =IF($E$3<N184,$E$3-$M$3,-O184-$M$3) -> -62 | R184: =R183+Q184 -> 4066 | S184: =IF(Q184>0,1,0) -> 0 | T184: =IF(C184>$R$3,IF(C184<$R$4,Q184,0),0) -> -62 | U184: =U183+T184 -> 4651 | V184: =IF(T184<>0,1,0) -> 1 | W184: =IF(T184>0,1,0) -> 0 | X184: =IF(N184>$Z$4,1,0) -> 1 | Y184: =IF(E184=0,(F184-D184)*100,(D185-K185)*100) -> 76 | Z184: =IF(N184>=($Z$4+$AA$4),$AA$4-$M$3,IF(N184>=$Z$4,-$Z$4-O184,0)) -> -88 | AA184: =X184*Z184 -> -88 | AB184: =AB183+AA184 -> 4221 | AC184: =IF(AA184>0,1,0) -> 0 | AD184: =IF(C184>$R$3,IF(C184<$R$4,1,0),0) -> 1 | AE184: =AA184*AD184 -> -88 | AF184: =AF183+AE184 -> 4823 | AG184: =X184*AD184 -> 1 | AH184: =IF(AE184>0,1,0) -> 0 | AI184: 1 | AJ184: =AA184*AI184 -> -88 | AK184: =IF(AJ184>0,1,0) -> 0 | AL184: =AI184*X184 -> 1 | AM184: =AM183+AJ184 -> 3516 | AN184: =Z184*X184*AD184*AI184 -> -88 | AO184: =AO183+AN184 -> 4063 | AP184: =X184*AD184*AI184 -> 1 | AQ184: =IF(AN184>0,1,0) -> 0 | AR184: 0 | AS184: =AA184*AR184 -> 0 | AT184: =AT183+AS184 -> 3711 | AU184: =IF(AS184>0,1,0) -> 0 | AV184: =IF(AS184<>0,1,0) -> 0 | AW184: =AR184*Q184 -> 0 | AX184: =AX183+AW184 -> 3810 | AY184: =IF(AW184>0,1,0) -> 0 | AZ184: =IF(AW184<>0,1,0) -> 0 | BA184: 1 | BB184: =BA184*AW184 -> 0 | BC184: =IF(BB184<>0,1,0) -> 0 | BD184: =IF(BB184>0,1,0) -> 0 | BE184: =AW184*AD184 -> 0 | BF184: =BF183+BE184 -> 3223 | BG184: =IF(BE184<>0,1,0) -> 0 | BH184: =IF(BE184>0,1,0) -> 0 | BI184: =AS184*AD184 -> 0 | BJ184: =BJ183+BI184 -> 3306 | BK184: =IF(BI184<>0,1,0) -> 0 | BL184: =IF(BI184>0,1,0) -> 0
A185: =IF(D185<>0,1,0) -> 1 | B185: 39716 | C185: 5 | D185: 106.39 | E185: 0 | F185: 106.44 | G185: 106.44 | H185: 106.03 | I185: 106.44 | J185: 107.9 | K185: 105.63 | L185: 0 | M185: 106.29 | N185: =ABS((G185-D185)*100) -> 5 | O185: =ABS((D185-H185)*100) -> 36 | P185: =((D185-J185)*100) -> -151 | Q185: =IF($E$3<N185,$E$3-$M$3,-O185-$M$3) -> -40 | R185: =R184+Q185 -> 4026 | S185: =IF(Q185>0,1,0) -> 0 | T185: =IF(C185>$R$3,IF(C185<$R$4,Q185,0),0) -> 0 | U185: =U184+T185 -> 4651 | V185: =IF(T185<>0,1,0) -> 0 | W185: =IF(T185>0,1,0) -> 0 | X185: =IF(N185>$Z$4,1,0) -> 0 | Y185: =IF(E185=0,(F185-D185)*100,(D186-K186)*100) -> 5 | Z185: =IF(N185>=($Z$4+$AA$4),$AA$4-$M$3,IF(N185>=$Z$4,-$Z$4-O185,0)) -> 0 | AA185: =X185*Z185 -> 0 | AB185: =AB184+AA185 -> 4221 | AC185: =IF(AA185>0,1,0) -> 0 | AD185: =IF(C185>$R$3,IF(C185<$R$4,1,0),0) -> 0 | AE185: =AA185*AD185 -> 0 | AF185: =AF184+AE185 -> 4823 | AG185: =X185*AD185 -> 0 | AH185: =IF(AE185>0,1,0) -> 0 | AI185: 1 | AJ185: =AA185*AI185 -> 0 | AK185: =IF(AJ185>0,1,0) -> 0 | AL185: =AI185*X185 -> 0 | AM185: =AM184+AJ185 -> 3516 | AN185: =Z185*X185*AD185*AI185 -> 0 | AO185: =AO184+AN185 -> 4063 | AP185: =X185*AD185*AI185 -> 0 | AQ185: =IF(AN185>0,1,0) -> 0 | AR185: 1 | AS185: =AA185*AR185 -> 0 | AT185: =AT184+AS185 -> 3711 | AU185: =IF(AS185>0,1,0) -> 0 | AV185: =IF(AS185<>0,1,0) -> 0 | AW185: =AR185*Q185 -> -40 | AX185: =AX184+AW185 -> 3770 | AY185: =IF(AW185>0,1,0) -> 0 | AZ185: =IF(AW185<>0,1,0) -> 1 | BA185: 0 | BB185: =BA185*AW185 -> 0 | BC185: =IF(BB185<>0,1,0) -> 0 | BD185: =IF(BB185>0,1,0) -> 0 | BE185: =AW185*AD185 -> 0 | BF185: =BF184+BE185 -> 3223 | BG185: =IF(BE185<>0,1,0) -> 0 | BH185: =IF(BE185>0,1,0) -> 0 | BI185: =AS185*AD185 -> 0 | BJ185: =BJ184+BI185 -> 3306 | BK185: =IF(BI185<>0,1,0) -> 0 | BL185: =IF(BI185>0,1,0) -> 0
A186: =IF(D186<>0,1,0) -> 1 | B186: 39716 | C186: 6 | D186: 106.29 | E186: 1 | F186: 108.61 | G186: 105.83 | H186: 106.44 | I186: 103.24 | J186: 107.78 | K186: 103.24 | L186: 1 | M186: 107.96 | N186: =ABS((G186-D186)*100) -> 46 | O186: =ABS((D186-H186)*100) -> 15 | P186: =((D186-J186)*100) -> -149 | Q186: =IF($E$3<N186,$E$3-$M$3,-O186-$M$3) -> -19 | R186: =R185+Q186 -> 4007 | S186: =IF(Q186>0,1,0) -> 0 | T186: =IF(C186>$R$3,IF(C186<$R$4,Q186,0),0) -> -19 | U186: =U185+T186 -> 4632 | V186: =IF(T186<>0,1,0) -> 1 | W186: =IF(T186>0,1,0) -> 0 | X186: =IF(N186>$Z$4,1,0) -> 1 | Y186: =IF(E186=0,(F186-D186)*100,(D187-K187)*100) -> 172 | Z186: =IF(N186>=($Z$4+$AA$4),$AA$4-$M$3,IF(N186>=$Z$4,-$Z$4-O186,0)) -> -45 | AA186: =X186*Z186 -> -45 | AB186: =AB185+AA186 -> 4176 | AC186: =IF(AA186>0,1,0) -> 0 | AD186: =IF(C186>$R$3,IF(C186<$R$4,1,0),0) -> 1 | AE186: =AA186*AD186 -> -45 | AF186: =AF185+AE186 -> 4778 | AG186: =X186*AD186 -> 1 | AH186: =IF(AE186>0,1,0) -> 0 | AI186: 0 | AJ186: =AA186*AI186 -> 0 | AK186: =IF(AJ186>0,1,0) -> 0 | AL186: =AI186*X186 -> 0 | AM186: =AM185+AJ186 -> 3516 | AN186: =Z186*X186*AD186*AI186 -> 0 | AO186: =AO185+AN186 -> 4063 | AP186: =X186*AD186*AI186 -> 0 | AQ186: =IF(AN186>0,1,0) -> 0 | AR186: 0 | AS186: =AA186*AR186 -> 0 | AT186: =AT185+AS186 -> 3711 | AU186: =IF(AS186>0,1,0) -> 0 | AV186: =IF(AS186<>0,1,0) -> 0 | AW186: =AR186*Q186 -> 0 | AX186: =AX185+AW186 -> 3770 | AY186: =IF(AW186>0,1,0) -> 0 | AZ186: =IF(AW186<>0,1,0) -> 0 | BA186: 1 | BB186: =BA186*AW186 -> 0 | BC186: =IF(BB186<>0,1,0) -> 0 | BD186: =IF(BB186>0,1,0) -> 0 | BE186: =AW186*AD186 -> 0 | BF186: =BF185+BE186 -> 3223 | BG186: =IF(BE186<>0,1,0) -> 0 | BH186: =IF(BE186>0,1,0) -> 0 | BI186: =AS186*AD186 -> 0 | BJ186: =BJ185+BI186 -> 3306 | BK186: =IF(BI186<>0,1,0) -> 0 | BL186: =IF(BI186>0,1,0) -> 0
A187: =IF(D187<>0,1,0) -> 1 | B187: 39716 | C187: 16 | D187: 107.96 | E187: 0 | F187: 108.14 | G187: 108.17 | H187: 105.49 | I187: 108.17 | J187: 103.3 | K187: 106.24 | L187: 0 | M187: 106.23 | N187: =ABS((G187-D187)*100) -> 21 | O187: =ABS((D187-H187)*100) -> 247 | P187: =((D187-J187)*100) -> 466 | Q187: =IF($E$3<N187,$E$3-$M$3,-O187-$M$3) -> -251 | R187: =R186+Q187 -> 3756 | S187: =IF(Q187>0,1,0) -> 0 | T187: =IF(C187>$R$3,IF(C187<$R$4,Q187,0),0) -> -251 | U187: =U186+T187 -> 4381 | V187: =IF(T187<>0,1,0) -> 1 | W187: =IF(T187>0,1,0) -> 0 | X187: =IF(N187>$Z$4,1,0) -> 0 | Y187: =IF(E187=0,(F187-D187)*100,(D188-K188)*100) -> 18 | Z187: =IF(N187>=($Z$4+$AA$4),$AA$4-$M$3,IF(N187>=$Z$4,-$Z$4-O187,0)) -> 0 | AA187: =X187*Z187 -> 0 | AB187: =AB186+AA187 -> 4176 | AC187: =IF(AA187>0,1,0) -> 0 | AD187: =IF(C187>$R$3,IF(C187<$R$4,1,0),0) -> 1 | AE187: =AA187*AD187 -> 0 | AF187: =AF186+AE187 -> 4778 | AG187: =X187*AD187 -> 0 | AH187: =IF(AE187>0,1,0) -> 0 | AI187: 1 | AJ187: =AA187*AI187 -> 0 | AK187: =IF(AJ187>0,1,0) -> 0 | AL187: =AI187*X187 -> 0 | AM187: =AM186+AJ187 -> 3516 | AN187: =Z187*X187*AD187*AI187 -> 0 | AO187: =AO186+AN187 -> 4063 | AP187: =X187*AD187*AI187 -> 0 | AQ187: =IF(AN187>0,1,0) -> 0 | AR187: 1 | AS187: =AA187*AR187 -> 0 | AT187: =AT186+AS187 -> 3711 | AU187: =IF(AS187>0,1,0) -> 0 | AV187: =IF(AS187<>0,1,0) -> 0 | AW187: =AR187*Q187 -> -251 | AX187: =AX186+AW187 -> 3519 | AY187: =IF(AW187>0,1,0) -> 0 | AZ187: =IF(AW187<>0,1,0) -> 1 | BA187: 1 | BB187: =BA187*AW187 -> -251 | BC187: =IF(BB187<>0,1,0) -> 1 | BD187: =IF(BB187>0,1,0) -> 0 | BE187: =AW187*AD187 -> -251 | BF187: =BF186+BE187 -> 2972 | BG187: =IF(BE187<>0,1,0) -> 1 | BH187: =IF(BE187>0,1,0) -> 0 | BI187: =AS187*AD187 -> 0 | BJ187: =BJ186+BI187 -> 3306 | BK187: =IF(BI187<>0,1,0) -> 0 | BL187: =IF(BI187>0,1,0) -> 0
A188: =IF(D188<>0,1,0) -> 1 | B188: 39717 | C188: 6 | D188: 106.32 | E188: 1 | F188: 107.1 | G188: 106 | H188: 106.58 | I188: 106 | J188: 105.49 | K188: 104.24 | L188: 1 | M188: 106.9 | N188: =ABS((G188-D188)*100) -> 32 | O188: =ABS((D188-H188)*100) -> 26 | P188: =((D188-J188)*100) -> 83 | Q188: =IF($E$3<N188,$E$3-$M$3,-O188-$M$3) -> -30 | R188: =R187+Q188 -> 3726 | S188: =IF(Q188>0,1,0) -> 0 | T188: =IF(C188>$R$3,IF(C188<$R$4,Q188,0),0) -> -30 | U188: =U187+T188 -> 4351 | V188: =IF(T188<>0,1,0) -> 1 | W188: =IF(T188>0,1,0) -> 0 | X188: =IF(N188>$Z$4,1,0) -> 1 | Y188: =IF(E188=0,(F188-D188)*100,(D189-K189)*100) -> 79 | Z188: =IF(N188>=($Z$4+$AA$4),$AA$4-$M$3,IF(N188>=$Z$4,-$Z$4-O188,0)) -> -56 | AA188: =X188*Z188 -> -56 | AB188: =AB187+AA188 -> 4120 | AC188: =IF(AA188>0,1,0) -> 0 | AD188: =IF(C188>$R$3,IF(C188<$R$4,1,0),0) -> 1 | AE188: =AA188*AD188 -> -56 | AF188: =AF187+AE188 -> 4722 | AG188: =X188*AD188 -> 1 | AH188: =IF(AE188>0,1,0) -> 0 | AI188: 1 | AJ188: =AA188*AI188 -> -56 | AK188: =IF(AJ188>0,1,0) -> 0 | AL188: =AI188*X188 -> 1 | AM188: =AM187+AJ188 -> 3460 | AN188: =Z188*X188*AD188*AI188 -> -56 | AO188: =AO187+AN188 -> 4007 | AP188: =X188*AD188*AI188 -> 1 | AQ188: =IF(AN188>0,1,0) -> 0 | AR188: 0 | AS188: =AA188*AR188 -> 0 | AT188: =AT187+AS188 -> 3711 | AU188: =IF(AS188>0,1,0) -> 0 | AV188: =IF(AS188<>0,1,0) -> 0 | AW188: =AR188*Q188 -> 0 | AX188: =AX187+AW188 -> 3519 | AY188: =IF(AW188>0,1,0) -> 0 | AZ188: =IF(AW188<>0,1,0) -> 0 | BA188: 0 | BB188: =BA188*AW188 -> 0 | BC188: =IF(BB188<>0,1,0) -> 0 | BD188: =IF(BB188>0,1,0) -> 0 | BE188: =AW188*AD188 -> 0 | BF188: =BF187+BE188 -> 2972 | BG188: =IF(BE188<>0,1,0) -> 0 | BH188: =IF(BE188>0,1,0) -> 0 | BI188: =AS188*AD188 -> 0 | BJ188: =BJ187+BI188 -> 3306 | BK188: =IF(BI188<>0,1,0) -> 0 | BL188: =IF(BI188>0,1,0) -> 0
...

Sheet ELS_EMA200
B3: capital inicial | D3: 10000 | F3: max. Palanca | G3: 3
B4: capital total | E4: DD%MAX | F4: Barriles
B5: =SUM(B6:B1000)+D3 -> 46564.3 | E5: =MAX(E6:E527) -> 0.23559218 | F5: =SUM(F6:F1000) -> 523450
A6: =Datos!AS7 -> 156 | B6: =F6*A6/100 -> 1996.8 | C6: =D3+B6 -> 11996.8 | D6: =MAX($C$6:C6) -> 11996.8 | E6: =(D6-C6)/D6 -> 0 | F6: =INT(($D$3*$G$3/Datos!O7+Datos!$Z$4+Datos!$M$3)/10)*10 -> 1280
A7: =Datos!AS8 -> 0 | B7: =F7*A7/100 -> 0 | C7: =C6+B7 -> 11996.8 | D7: =MAX($C$6:C7) -> 11996.8 | E7: =(D7-C7)/D7 -> 0 | F7: =INT((C6*$G$3/(Datos!O7+Datos!$Z$4+Datos!$M$3))/10)*10 -> 620
A8: =Datos!AS9 -> -141 | B8: =F8*A8/100 -> -564 | C8: =C7+B8 -> 11432.8 | D8: =MAX($C$6:C8) -> 11996.8 | E8: =(D8-C8)/D8 -> 0.047012537 | F8: =INT((C7*$G$3/(Datos!O8+Datos!$Z$4+Datos!$M$3))/10)*10 -> 400
A9: =Datos!AS10 -> 0 | B9: =F9*A9/100 -> 0 | C9: =C8+B9 -> 11432.8 | D9: =MAX($C$6:C9) -> 11996.8 | E9: =(D9-C9)/D9 -> 0.047012537 | F9: =INT((C8*$G$3/(Datos!O9+Datos!$Z$4+Datos!$M$3))/10)*10 -> 230
A10: =Datos!AS11 -> -49 | B10: =F10*A10/100 -> -298.9 | C10: =C9+B10 -> 11133.9 | D10: =MAX($C$6:C10) -> 11996.8 | E10: =(D10-C10)/D10 -> 0.071927514 | F10: =INT((C9*$G$3/(Datos!O10+Datos!$Z$4+Datos!$M$3))/10)*10 -> 610
A11: =Datos!AS12 -> 0 | B11: =F11*A11/100 -> 0 | C11: =C10+B11 -> 11133.9 | D11: =MAX($C$6:C11) -> 11996.8 | E11: =(D11-C11)/D11 -> 0.071927514 | F11: =INT((C10*$G$3/(Datos!O11+Datos!$Z$4+Datos!$M$3))/10)*10 -> 630
A12: =Datos!AS13 -> 156 | B12: =F12*A12/100 -> 312 | C12: =C11+B12 -> 11445.9 | D12: =MAX($C$6:C12) -> 11996.8 | E12: =(D12-C12)/D12 -> 0.045920579 | F12: =INT((C11*$G$3/(Datos!O12+Datos!$Z$4+Datos!$M$3))/10)*10 -> 200
A13: =Datos!AS14 -> 0 | B13: =F13*A13/100 -> 0 | C13: =C12+B13 -> 11445.9 | D13: =MAX($C$6:C13) -> 11996.8 | E13: =(D13-C13)/D13 -> 0.045920579 | F13: =INT((C12*$G$3/(Datos!O13+Datos!$Z$4+Datos!$M$3))/10)*10 -> 330
A14: =Datos!AS15 -> 0 | B14: =F14*A14/100 -> 0 | C14: =C13+B14 -> 11445.9 | D14: =MAX($C$6:C14) -> 11996.8 | E14: =(D14-C14)/D14 -> 0.045920579 | F14: =INT((C13*$G$3/(Datos!O14+Datos!$Z$4+Datos!$M$3))/10)*10 -> 410
A15: =Datos!AS16 -> 0 | B15: =F15*A15/100 -> 0 | C15: =C14+B15 -> 11445.9 | D15: =MAX($C$6:C15) -> 11996.8 | E15: =(D15-C15)/D15 -> 0.045920579 | F15: =INT((C14*$G$3/(Datos!O15+Datos!$Z$4+Datos!$M$3))/10)*10 -> 350
A16: =Datos!AS17 -> 156 | B16: =F16*A16/100 -> 702 | C16: =C15+B16 -> 12147.9 | D16: =MAX($C$6:C16) -> 12147.9 | E16: =(D16-C16)/D16 -> 0 | F16: =INT((C15*$G$3/(Datos!O16+Datos!$Z$4+Datos!$M$3))/10)*10 -> 450
A17: =Datos!AS18 -> 0 | B17: =F17*A17/100 -> 0 | C17: =C16+B17 -> 12147.9 | D17: =MAX($C$6:C17) -> 12147.9 | E17: =(D17-C17)/D17 -> 0 | F17: =INT((C16*$G$3/(Datos!O17+Datos!$Z$4+Datos!$M$3))/10)*10 -> 150
A18: =Datos!AS19 -> 156 | B18: =F18*A18/100 -> 312 | C18: =C17+B18 -> 12459.9 | D18: =MAX($C$6:C18) -> 12459.9 | E18: =(D18-C18)/D18 -> 0 | F18: =INT((C17*$G$3/(Datos!O18+Datos!$Z$4+Datos!$M$3))/10)*10 -> 200
... A506: =Datos!AS507 -> 156 | B506: =F506*A506/100 -> 920.4 | C506: =C505+B506 -> 46564.3 | D506: =MAX($C$6:C506) -> 50403.2 | E506: =(D506-C506)/D506 -> 0.076163815 | F506: =INT((C505*$G$3/(Datos!O506+Datos!$Z$4+Datos!$M$3))/10)*10 -> 590

Sheet ELS
B3: capital inicial | D3: 10000 | F3: max. Palanca | G3: 2
B4: capital total | E4: DD%MAX | F4: Barriles
B5: =SUM(B6:B1000)+D3 -> 29591.6 | E5: =MAX(E6:E527) -> 0.23616764 | F5: =SUM(F6:F1000) -> 209710
A6: =Datos!AA7 -> 156 | B6: =F6*A6/100 -> 1341.6 | C6: =D3+B6 -> 11341.6 | D6: =MAX($C$6:C6) -> 11341.6 | E6: =(D6-C6)/D6 -> 0 | F6: =INT(($D$3*$G$3/Datos!O7+Datos!Z4+Datos!M3)/10)*10 -> 860
A7: =Datos!AA8 -> -84 | B7: =F7*A7/100 -> -210 | C7: =C6+B7 -> 11131.6 | D7: =MAX($C$6:C7) -> 11341.6 | E7: =(D7-C7)/D7 -> 0.018515906 | F7: =INT((C6*$G$3/(Datos!O8+Datos!$Z$4+Datos!$M$3))/10)*10 -> 250
A8: =Datos!AA9 -> -141 | B8: =F8*A8/100 -> -211.5 | C8: =C7+B8 -> 10920.1 | D8: =MAX($C$6:C8) -> 11341.6 | E8: =(D8-C8)/D8 -> 0.037164069 | F8: =INT((C7*$G$3/(Datos!O9+Datos!$Z$4+Datos!$M$3))/10)*10 -> 150
A9: =Datos!AA10 -> 0 | B9: =F9*A9/100 -> 0 | C9: =C8+B9 -> 10920.1 | D9: =MAX($C$6:C9) -> 11341.6 | E9: =(D9-C9)/D9 -> 0.037164069 | F9: =INT((C8*$G$3/(Datos!O10+Datos!$Z$4+Datos!$M$3))/10)*10 -> 390
A10: =Datos!AA11 -> -49 | B10: =F10*A10/100 -> -200.9 | C10: =C9+B10 -> 10719.2 | D10: =MAX($C$6:C10) -> 11341.6 | E10: =(D10-C10)/D10 -> 0.054877619 | F10: =INT((C9*$G$3/(Datos!O11+Datos!$Z$4+Datos!$M$3))/10)*10 -> 410
A11: =Datos!AA12 -> 156 | B11: =F11*A11/100 -> 187.2 | C11: =C10+B11 -> 10906.4 | D11: =MAX($C$6:C11) -> 11341.6 | E11: =(D11-C11)/D11 -> 0.038372011 | F11: =INT((C10*$G$3/(Datos!O12+Datos!$Z$4+Datos!$M$3))/10)*10 -> 120
A12: =Datos!AA13 -> 156 | B12: =F12*A12/100 -> 327.6 | C12: =C11+B12 -> 11234 | D12: =MAX($C$6:C12) -> 11341.6 | E12: =(D12-C12)/D12 -> 0.0094871976 | F12: =INT((C11*$G$3/(Datos!O13+Datos!$Z$4+Datos!$M$3))/10)*10 -> 210
A13: =Datos!AA14 -> 0 | B13: =F13*A13/100 -> 0 | C13: =C12+B13 -> 11234 | D13: =MAX($C$6:C13) -> 11341.6 | E13: =(D13-C13)/D13 -> 0.0094871976 | F13: =INT((C12*$G$3/(Datos!O14+Datos!$Z$4+Datos!$M$3))/10)*10 -> 270
A14: =Datos!AA15 -> 0 | B14: =F14*A14/100 -> 0 | C14: =C13+B14 -> 11234 | D14: =MAX($C$6:C14) -> 11341.6 | E14: =(D14-C14)/D14 -> 0.0094871976 | F14: =INT((C13*$G$3/(Datos!O15+Datos!$Z$4+Datos!$M$3))/10)*10 -> 230
A15: =Datos!AA16 -> 0 | B15: =F15*A15/100 -> 0 | C15: =C14+B15 -> 11234 | D15: =MAX($C$6:C15) -> 11341.6 | E15: =(D15-C15)/D15 -> 0.0094871976 | F15: =INT((C14*$G$3/(Datos!O16+Datos!$Z$4+Datos!$M$3))/10)*10 -> 290
A16: =Datos!AA17 -> 156 | B16: =F16*A16/100 -> 140.4 | C16: =C15+B16 -> 11374.4 | D16: =MAX($C$6:C16) -> 11374.4 | E16: =(D16-C16)/D16 -> 0 | F16: =INT((C15*$G$3/(Datos!O17+Datos!$Z$4+Datos!$M$3))/10)*10 -> 90
A17: =Datos!AA18 -> 0 | B17: =F17*A17/100 -> 0 | C17: =C16+B17 -> 11374.4 | D17: =MAX($C$6:C17) -> 11374.4 | E17: =(D17-C17)/D17 -> 0 | F17: =INT((C16*$G$3/(Datos!O18+Datos!$Z$4+Datos!$M$3))/10)*10 -> 120
A18: =Datos!AA19 -> 156 | B18: =F18*A18/100 -> 218.4 | C18: =C17+B18 -> 11592.8 | D18: =MAX($C$6:C18) -> 11592.8 | E18: =(D18-C18)/D18 -> 0 | F18: =INT((C17*$G$3/(Datos!O19+Datos!$Z$4+Datos!$M$3))/10)*10 -> 140
... A506: =Datos!AA507 -> 156 | B506: =F506*A506/100 -> 452.4 | C506: =C505+B506 -> 29591.6 | D506: =MAX($C$6:C506) -> 32996.9 | E506: =(D506-C506)/D506 -> 0.1032006 | F506: =INT((C505*$G$3/(Datos!O507+Datos!$Z$4+Datos!$M$3))/10)*10 -> 290

Sheet ELS_SMA3_horario
B3: capital inicial | D3: 10000 | F3: max. Palanca | G3: 4
B4: capital total | E4: DD%MAX | F4: Barriles
B5: =SUM(B6:B1000)+D3 -> 123097.9 | E5: =MAX(E6:E527) -> 0.24073253 | F5: =SUM(F6:F1000) -> 1183500
A6: =Datos!AN7 -> 156 | B6: =F6*A6/100 -> 2652 | C6: =D3+B6 -> 12652 | D6: =MAX($C$6:C6) -> 12652 | E6: =(D6-C6)/D6 -> 0 | F6: =INT(($D$3*$G$3/Datos!O7+Datos!Z4+Datos!M3)/10)*10 -> 1700
A7: =Datos!AN8 -> -84 | B7: =F7*A7/100 -> -478.8 | C7: =C6+B7 -> 12173.2 | D7: =MAX($C$6:C7) -> 12652 | E7: =(D7-C7)/D7 -> 0.037843819 | F7: =INT((C6*$G$3/(Datos!O8+Datos!$Z$4+Datos!$M$3))/10)*10 -> 570
A8: =Datos!AN9 -> -141 | B8: =F8*A8/100 -> -465.3 | C8: =C7+B8 -> 11707.9 | D8: =MAX($C$6:C8) -> 12652 | E8: =(D8-C8)/D8 -> 0.074620613 | F8: =INT((C7*$G$3/(Datos!O9+Datos!$Z$4+Datos!$M$3))/10)*10 -> 330
A9: =Datos!AN10 -> 0 | B9: =F9*A9/100 -> 0 | C9: =C8+B9 -> 11707.9 | D9: =MAX($C$6:C9) -> 12652 | E9: =(D9-C9)/D9 -> 0.074620613 | F9: =INT((C8*$G$3/(Datos!O10+Datos!$Z$4+Datos!$M$3))/10)*10 -> 830
A10: =Datos!AN11 -> 0 | B10: =F10*A10/100 -> 0 | C10: =C9+B10 -> 11707.9 | D10: =MAX($C$6:C10) -> 12652 | E10: =(D10-C10)/D10 -> 0.074620613 | F10: =INT((C9*$G$3/(Datos!O11+Datos!$Z$4+Datos!$M$3))/10)*10 -> 880
A11: =Datos!AN12 -> 156 | B11: =F11*A11/100 -> 436.8 | C11: =C10+B11 -> 12144.7 | D11: =MAX($C$6:C11) -> 12652 | E11: =(D11-C11)/D11 -> 0.040096427 | F11: =INT((C10*$G$3/(Datos!O12+Datos!$Z$4+Datos!$M$3))/10)*10 -> 280
A12: =Datos!AN13 -> 156 | B12: =F12*A12/100 -> 748.8 | C12: =C11+B12 -> 12893.5 | D12: =MAX($C$6:C12) -> 12893.5 | E12: =(D12-C12)/D12 -> 0 | F12: =INT((C11*$G$3/(Datos!O13+Datos!$Z$4+Datos!$M$3))/10)*10 -> 480
A13: =Datos!AN14 -> 0 | B13: =F13*A13/100 -> 0 | C13: =C12+B13 -> 12893.5 | D13: =MAX($C$6:C13) -> 12893.5 | E13: =(D13-C13)/D13 -> 0 | F13: =INT((C12*$G$3/(Datos!O14+Datos!$Z$4+Datos!$M$3))/10)*10 -> 620
A14: =Datos!AN15 -> 0 | B14: =F14*A14/100 -> 0 | C14: =C13+B14 -> 12893.5 | D14: =MAX($C$6:C14) -> 12893.5 | E14: =(D14-C14)/D14 -> 0 | F14: =INT((C13*$G$3/(Datos!O15+Datos!$Z$4+Datos!$M$3))/10)*10 -> 530
A15: =Datos!AN16 -> 0 | B15: =F15*A15/100 -> 0 | C15: =C14+B15 -> 12893.5 | D15: =MAX($C$6:C15) -> 12893.5 | E15: =(D15-C15)/D15 -> 0 | F15: =INT((C14*$G$3/(Datos!O16+Datos!$Z$4+Datos!$M$3))/10)*10 -> 670
A16: =Datos!AN17 -> 156 | B16: =F16*A16/100 -> 343.2 | C16: =C15+B16 -> 13236.7 | D16: =MAX($C$6:C16) -> 13236.7 | E16: =(D16-C16)/D16 -> 0 | F16: =INT((C15*$G$3/(Datos!O17+Datos!$Z$4+Datos!$M$3))/10)*10 -> 220
A17: =Datos!AN18 -> 0 | B17: =F17*A17/100 -> 0 | C17: =C16+B17 -> 13236.7 | D17: =MAX($C$6:C17) -> 13236.7 | E17: =(D17-C17)/D17 -> 0 | F17: =INT((C16*$G$3/(Datos!O18+Datos!$Z$4+Datos!$M$3))/10)*10 -> 300
A18: =Datos!AN19 -> 156 | B18: =F18*A18/100 -> 514.8 | C18: =C17+B18 -> 13751.5 | D18: =MAX($C$6:C18) -> 13751.5 | E18: =(D18-C18)/D18 -> 0 | F18: =INT((C17*$G$3/(Datos!O19+Datos!$Z$4+Datos!$M$3))/10)*10 -> 330
... A506: =Datos!AN507 -> 156 | B506: =F506*A506/100 -> 3728.4 | C506: =C505+B506 -> 123097.9 | D506: =MAX($C$6:C506) -> 123097.9 | E506: =(D506-C506)/D506 -> 0 | F506: =INT((C505*$G$3/(Datos!O507+Datos!$Z$4+Datos!$M$3))/10)*10 -> 2390
