Workbook

Sheet Datos
T2: normal horario | X2: ELS | AD2: ELS_horario | AJ2: ELS_SMA3 | AO2: ELS_SMA3_horario | AR2: ELS_EMA200 | AW2: EMA200 | BA2: SAR | BE2: EMA200_horario | BI2: ELS_EMA200_Horario
D3: TP | E3: 200 | J3: SL | K3: 50 | L3: Spread | M3: 4 | Q3: H.inicio | R3: 5 | T3: media | U3: =Q6/A6 -> 6.259481 | Z3: ELS | AA3: TP | AB3: SL | AV3: =AU6/AV6 -> 0.53448276
N4: PIP | Q4: H.fin | R4: 18 | Z4: 30 | AA4: 160 | AB4: 100 | AC4: =AC6/X6 -> 0.50461538 | AH4: =AH6/AG6 -> 0.548 | AK4: =AK6/AL6 -> 0.52329749 | AQ4: =AQ6/AP6 -> 0.57674419 | AZ4: =AY6/AZ6 -> 0.34241245 | BD4: =BD6/BC6 -> 0.39516129 | BH4: =BH6/BG6 -> 0.38341969 | BL4: =BL6/BK6 -> 0.56934307
B5: DIA | C5: HORA | D5: CRUCE | E5: Buy(0) Sell(1) | F5: MAX | G5: MAX_Prev | H5: SL | I5: Max_Prev_A | J5: SAR | K5: MIN | L5: ORDEN(Max(0),Min(1)) | M5: CIERRE | N5: MAX | O5: SL | P5: SAR | R5: Aciertos | S5: =S6/A6 -> 0.32335329 | W5: =W6/V6 -> 0.36118598 | BA5: SAR
A6: =SUM(A7:A1001) -> 501 | N6: =SUM(N7:N1001) -> 172708 | O6: =SUM(O7:O1001) -> 47336 | P6: =SUM(P7:P1001) -> 17195 | Q6: =SUM(Q7:Q1001) -> 3136 | S6: =SUM(S7:S1001) -> 162 | T6: =SUM(T7:T1001) -> 4543 | V6: =SUM(V7:V1001) -> 371 | W6: =SUM(W7:W1001) -> 134 | X6: =SUM(X7:X1001) -> 325 | Y6: MxV | Z6: =SUM(Z7:Z1001) -> 7947 | AA6: =SUM(AA7:AA1001) -> 6834 | AC6: =SUM(AC7:AC1001) -> 164 | AD6: =SUM(AD7:AD1001) -> 371 | AE6: =SUM(AE7:AE1001) -> 8344 | AG6: =SUM(AG7:AG1001) -> 250 | AH6: =SUM(AH7:AH1001) -> 137 | AI6: =SUM(AI7:AI1000) -> 429 | AJ6: =SUM(AJ7:AJ1000) -> 6839 | AK6: =SUM(AK7:AK1000) -> 146 | AL6: =SUM(AL7:AL1000) -> 279 | AN6: =SUM(AN7:AN1000) -> 8337 | AP6: =SUM(AP7:AP1000) -> 215 | AQ6: =SUM(AQ7:AQ1000) -> 124 | AR6: EMA200 | AS6: =SUM(AS7:AS1000) -> 4799 | AU6: =SUM(AU7:AU1000) -> 93 | AV6: =SUM(AV7:AV1000) -> 174 | AW6: =SUM(AW7:AW1000) -> 2474 | AY6: =SUM(AY7:AY1000) -> 88 | AZ6: =SUM(AZ7:AZ1000) -> 257 | BA6: =SUM(BA7:BA1000) -> 305 | BB6: =SUM(BB7:BB1000) -> 1909 | BC6: =SUM(BC7:BC1000) -> 124 | BD6: =SUM(BD7:BD1000) -> 49 | BE6: =SUM(BE7:BE1000) -> 3045 | BG6: =SUM(BG7:BG1000) -> 193 | BH6: =SUM(BH7:BH1000) -> 74 | BI6: =SUM(BI7:BI1000) -> 5099 | BK6: =SUM(BK7:BK1000) -> 137 | BL6: =SUM(BL7:BL1000) -> 78
A7: 1 | B7: 39506 | C7: 12 | D7: 99.97 | E7: 0 | F7: 103.07 | G7: 103.07 | H7: 99.73 | I7: 110.93 | J7: 98.89 | K7: 99.94 | L7: 0 | M7: 101.56 | N7: =ABS((G7-D7)*100) -> 310 | O7: =ABS((D7-H7)*100) -> 24 | P7: =((D7-J7)*100) -> 108 | Q7: =IF($E$3<N7,$E$3-$M$3,-O7-$M$3) -> 196 | R7: =Q7 -> 196 | S7: =IF(Q7>0,1,0) -> 1 | T7: =IF(C7>$R$3,IF(C7<$R$4,Q7,0),0) -> 196 | U7: =T7 -> 196 | V7: =IF(T7<>0,1,0) -> 1 | W7: =IF(T7>0,1,0) -> 1 | X7: =IF(N7>$Z$4,1,0) -> 1 | Y7: =IF(E7=0,(F7-D7)*100,(D8-K8)*100) -> 310 | Z7: =IF(N7>=($Z$4+$AA$4),$AA$4-$M$3,IF(N7>=$Z$4,-$Z$4-O7,0)) -> 156 | AA7: =X7*Z7 -> 156 | AB7: =AA7 -> 156 | AC7: =IF(AA7>0,1,0) -> 1 | AD7: =IF(C7>$R$3,IF(C7<$R$4,1,0),0) -> 1 | AE7: =AA7*AD7 -> 156 | AF7: =AE7 -> 156 | AG7: =X7*AD7 -> 1 | AH7: =IF(AE7>0,1,0) -> 1 | AI7: 1 | AJ7: =AA7*AI7 -> 156 | AK7: =IF(AJ7>0,1,0) -> 1 | AL7: =AI7*X7 -> 1 | AM7: =AJ7 -> 156 | AN7: =Z7*X7*AD7*AI7 -> 156 | AO7: =AN7 -> 156 | AP7: =X7*AD7*AI7 -> 1 | AQ7: =IF(AN7>0,1,0) -> 1 | AR7: 1 | AS7: =AA7*AR7 -> 156 | AT7: =AS7 -> 156 | AU7: =IF(AS7>0,1,0) -> 1 | AV7: =IF(AS7<>0,1,0) -> 1 | AW7: =AR7*Q7 -> 196 | AX7: =AW7 -> 196 | AY7: =IF(AW7>0,1,0) -> 1 | AZ7: =IF(AW7<>0,1,0) -> 1 | BA7: 1 | BB7: =BA7*AW7 -> 196 | BC7: =IF(BB7<>0,1,0) -> 1 | BD7: =IF(BB7>0,1,0) -> 1 | BE7: =AW7*AD7 -> 196 | BF7: =BE7 -> 196 | BG7: =IF(BE7<>0,1,0) -> 1 | BH7: =IF(BE7>0,1,0) -> 1 | BI7: =AS7*AD7 -> 156 | BJ7: =BI7 -> 156 | BK7: =IF(BI7<>0,1,0) -> 1 | BL7: =IF(BI7>0,1,0) -> 1
A8: 1 | B8: 39510 | C8: 10 | D8: 101.17 | E8: 1 | F8: 102.56 | G8: 100.76 | H8: 101.71 | I8: 100.76 | J8: 102.55 | K8: 100.76 | L8: 1 | M8: 102.29 | N8: =ABS((G8-D8)*100) -> 41 | O8: =ABS((D8-H8)*100) -> 54 | P8: =((D8-J8)*100) -> -138 | Q8: =IF($E$3<N8,$E$3-$M$3,-O8-$M$3) -> -58 | R8: =R7+Q8 -> 138 | S8: =IF(Q8>0,1,0) -> 0 | T8: =IF(C8>$R$3,IF(C8<$R$4,Q8,0),0) -> -58 | U8: =U7+T8 -> 138 | V8: =IF(T8<>0,1,0) -> 1 | W8: =IF(T8>0,1,0) -> 0 | X8: =IF(N8>$Z$4,1,0) -> 1 | Y8: =IF(E8=0,(F8-D8)*100,(D9-K9)*100) -> 76 | Z8: =IF(N8>=($Z$4+$AA$4),$AA$4-$M$3,IF(N8>=$Z$4,-$Z$4-O8,0)) -> -84 | AA8: =X8*Z8 -> -84 | AB8: =AB7+AA8 -> 72 | AC8: =IF(AA8>0,1,0) -> 0 | AD8: =IF(C8>$R$3,IF(C8<$R$4,1,0),0) -> 1 | AE8: =AA8*AD8 -> -84 | AF8: =AF7+AE8 -> 72 | AG8: =X8*AD8 -> 1 | AH8: =IF(AE8>0,1,0) -> 0 | AI8: 1 | AJ8: =AA8*AI8 -> -84 | AK8: =IF(AJ8>0,1,0) -> 0 | AL8: =AI8*X8 -> 1 | AM8: =AM7+AJ8 -> 72 | AN8: =Z8*X8*AD8*AI8 -> -84 | AO8: =AO7+AN8 -> 72 | AP8: =X8*AD8*AI8 -> 1 | AQ8: =IF(AN8>0,1,0) -> 0 | AR8: 0 | AS8: =AA8*AR8 -> 0 | AT8: =AT7+AS8 -> 156 | AU8: =IF(AS8>0,1,0) -> 0 | AV8: =IF(AS8<>0,1,0) -> 0 | AW8: =AR8*Q8 -> 0 | AX8: =AX7+AW8 -> 196 | AY8: =IF(AW8>0,1,0) -> 0 | AZ8: =IF(AW8<>0,1,0) -> 0 | BA8: 1 | BB8: =BA8*AW8 -> 0 | BC8: =IF(BB8<>0,1,0) -> 0 | BD8: =IF(BB8>0,1,0) -> 0 | BE8: =AW8*AD8 -> 0 | BF8: =BF7+BE8 -> 196 | BG8: =IF(BE8<>0,1,0) -> 0 | BH8: =IF(BE8>0,1,0) -> 0 | BI8: =AS8*AD8 -> 0 | BJ8: =BJ7+BI8 -> 156 | BK8: =IF(BI8<>0,1,0) -> 0 | BL8: =IF(BI8>0,1,0) -> 0
A9: 1 | B9: 39510 | C9: 13 | D9: 102.29 | E9: 0 | F9: 103.91 | G9: 103.91 | H9: 101.18 | I9: 103.91 | J9: 100.76 | K9: 101.53 | L9: 0 | M9: 102.05 | N9: =ABS((G9-D9)*100) -> 162 | O9: =ABS((D9-H9)*100) -> 111 | P9: =((D9-J9)*100) -> 153 | Q9: =IF($E$3<N9,$E$3-$M$3,-O9-$M$3) -> -115 | R9: =R8+Q9 -> 23 | S9: =IF(Q9>0,1,0) -> 0 | T9: =IF(C9>$R$3,IF(C9<$R$4,Q9,0),0) -> -115 | U9: =U8+T9 -> 23 | V9: =IF(T9<>0,1,0) -> 1 | W9: =IF(T9>0,1,0) -> 0 | X9: =IF(N9>$Z$4,1,0) -> 1 | Y9: =IF(E9=0,(F9-D9)*100,(D10-K10)*100) -> 162 | Z9: =IF(N9>=($Z$4+$AA$4),$AA$4-$M$3,IF(N9>=$Z$4,-$Z$4-O9,0)) -> -141 | AA9: =X9*Z9 -> -141 | AB9: =AB8+AA9 -> -69 | AC9: =IF(AA9>0,1,0) -> 0 | AD9: =IF(C9>$R$3,IF(C9<$R$4,1,0),0) -> 1 | AE9: =AA9*AD9 -> -141 | AF9: =AF8+AE9 -> -69 | AG9: =X9*AD9 -> 1 | AH9: =IF(AE9>0,1,0) -> 0 | AI9: 1 | AJ9: =AA9*AI9 -> -141 | AK9: =IF(AJ9>0,1,0) -> 0 | AL9: =AI9*X9 -> 1 | AM9: =AM8+AJ9 -> -69 | AN9: =Z9*X9*AD9*AI9 -> -141 | AO9: =AO8+AN9 -> -69 | AP9: =X9*AD9*AI9 -> 1 | AQ9: =IF(AN9>0,1,0) -> 0 | AR9: 1 | AS9: =AA9*AR9 -> -141 | AT9: =AT8+AS9 -> 15 | AU9: =IF(AS9>0,1,0) -> 0 | AV9: =IF(AS9<>0,1,0) -> 1 | AW9: =AR9*Q9 -> -115 | AX9: =AX8+AW9 -> 81 | AY9: =IF(AW9>0,1,0) -> 0 | AZ9: =IF(AW9<>0,1,0) -> 1 | BA9: 1 | BB9: =BA9*AW9 -> -115 | BC9: =IF(BB9<>0,1,0) -> 1 | BD9: =IF(BB9>0,1,0) -> 0 | BE9: =AW9*AD9 -> -115 | BF9: =BF8+BE9 -> 81 | BG9: =IF(BE9<>0,1,0) -> 1 | BH9: =IF(BE9>0,1,0) -> 0 | BI9: =AS9*AD9 -> -141 | BJ9: =BJ8+BI9 -> 15 | BK9: =IF(BI9<>0,1,0) -> 1 | BL9: =IF(BI9>0,1,0) -> 0
A10: 1 | B10: 39511 | C10: 9 | D10: 102.05 | E10: 1 | F10: 102.25 | G10: 101.91 | H10: 102.27 | I10: 98.85 | J10: 103.76 | K10: 101.91 | L10: 1 | M10: 102.1 | N10: =ABS((G10-D10)*100) -> 14 | O10: =ABS((D10-H10)*100) -> 22 | P10: =((D10-J10)*100) -> -171 | Q10: =IF($E$3<N10,$E$3-$M$3,-O10-$M$3) -> -26 | R10: =R9+Q10 -> -3 | S10: =IF(Q10>0,1,0) -> 0 | T10: =IF(C10>$R$3,IF(C10<$R$4,Q10,0),0) -> -26 | U10: =U9+T10 -> -3 | V10: =IF(T10<>0,1,0) -> 1 | W10: =IF(T10>0,1,0) -> 0 | X10: =IF(N10>$Z$4,1,0) -> 0 | Y10: =IF(E10=0,(F10-D10)*100,(D11-K11)*100) -> 14 | Z10: =IF(N10>=($Z$4+$AA$4),$AA$4-$M$3,IF(N10>=$Z$4,-$Z$4-O10,0)) -> 0 | AA10: =X10*Z10 -> 0 | AB10: =AB9+AA10 -> -69 | AC10: =IF(AA10>0,1,0) -> 0 | AD10: =IF(C10>$R$3,IF(C10<$R$4,1,0),0) -> 1 | AE10: =AA10*AD10 -> 0 | AF10: =AF9+AE10 -> -69 | AG10: =X10*AD10 -> 0 | AH10: =IF(AE10>0,1,0) -> 0 | AI10: 1 | AJ10: =AA10*AI10 -> 0 | AK10: =IF(AJ10>0,1,0) -> 0 | AL10: =AI10*X10 -> 0 | AM10: =AM9+AJ10 -> -69 | AN10: =Z10*X10*AD10*AI10 -> 0 | AO10: =AO9+AN10 -> -69 | AP10: =X10*AD10*AI10 -> 0 | AQ10: =IF(AN10>0,1,0) -> 0 | AR10: 0 | AS10: =AA10*AR10 -> 0 | AT10: =AT9+AS10 -> 15 | AU10: =IF(AS10>0,1,0) -> 0 | AV10: =IF(AS10<>0,1,0) -> 0 | AW10: =AR10*Q10 -> 0 | AX10: =AX9+AW10 -> 81 | AY10: =IF(AW10>0,1,0) -> 0 | AZ10: =IF(AW10<>0,1,0) -> 0 | BA10: 1 | BB10: =BA10*AW10 -> 0 | BC10: =IF(BB10<>0,1,0) -> 0 | BD10: =IF(BB10>0,1,0) -> 0 | BE10: =AW10*AD10 -> 0 | BF10: =BF9+BE10 -> 81 | BG10: =IF(BE10<>0,1,0) -> 0 | BH10: =IF(BE10>0,1,0) -> 0 | BI10: =AS10*AD10 -> 0 | BJ10: =BJ9+BI10 -> 15 | BK10: =IF(BI10<>0,1,0) -> 0 | BL10: =IF(BI10>0,1,0) -> 0
A11: 1 | B11: 39511 | C11: 10 | D11: 102.1 | E11: 0 | F11: 103.11 | G11: 103.11 | H11: 101.91 | I11: 103.11 | J11: 103.64 | K11: 101.96 | L11: 0 | M11: 101.96 | N11: =ABS((G11-D11)*100) -> 101 | O11: =ABS((D11-H11)*100) -> 19 | P11: =((D11-J11)*100) -> -154 | Q11: =IF($E$3<N11,$E$3-$M$3,-O11-$M$3) -> -23 | R11: =R10+Q11 -> -26 | S11: =IF(Q11>0,1,0) -> 0 | T11: =IF(C11>$R$3,IF(C11<$R$4,Q11,0),0) -> -23 | U11: =U10+T11 -> -26 | V11: =IF(T11<>0,1,0) -> 1 | W11: =IF(T11>0,1,0) -> 0 | X11: =IF(N11>$Z$4,1,0) -> 1 | Y11: =IF(E11=0,(F11-D11)*100,(D12-K12)*100) -> 101 | Z11: =IF(N11>=($Z$4+$AA$4),$AA$4-$M$3,IF(N11>=$Z$4,-$Z$4-O11,0)) -> -49 | AA11: =X11*Z11 -> -49 | AB11: =AB10+AA11 -> -118 | AC11: =IF(AA11>0,1,0) -> 0 | AD11: =IF(C11>$R$3,IF(C11<$R$4,1,0),0) -> 1 | AE11: =AA11*AD11 -> -49 | AF11: =AF10+AE11 -> -118 | AG11: =X11*AD11 -> 1 | AH11: =IF(AE11>0,1,0) -> 0 | AI11: 0 | AJ11: =AA11*AI11 -> 0 | AK11: =IF(AJ11>0,1,0) -> 0 | AL11: =AI11*X11 -> 0 | AM11: =AM10+AJ11 -> -69 | AN11: =Z11*X11*AD11*AI11 -> 0 | AO11: =AO10+AN11 -> -69 | AP11: =X11*AD11*AI11 -> 0 | AQ11: =IF(AN11>0,1,0) -> 0 | AR11: 1 | AS11: =AA11*AR11 -> -49 | AT11: =AT10+AS11 -> -34 | AU11: =IF(AS11>0,1,0) -> 0 | AV11: =IF(AS11<>0,1,0) -> 1 | AW11: =AR11*Q11 -> -23 | AX11: =AX10+AW11 -> 58 | AY11: =IF(AW11>0,1,0) -> 0 | AZ11: =IF(AW11<>0,1,0) -> 1 | BA11: 0 | BB11: =BA11*AW11 -> 0 | BC11: =IF(BB11<>0,1,0) -> 0 | BD11: =IF(BB11>0,1,0) -> 0 | BE11: =AW11*AD11 -> -23 | BF11: =BF10+BE11 -> 58 | BG11: =IF(BE11<>0,1,0) -> 1 | BH11: =IF(BE11>0,1,0) -> 0 | BI11: =AS11*AD11 -> -49 | BJ11: =BJ10+BI11 -> -34 | BK11: =IF(BI11<>0,1,0) -> 1 | BL11: =IF(BI11>0,1,0) -> 0
A12: 1 | B12: 39511 | C12: 14 | D12: 101.96 | E12: 1 | F12: 102.74 | G12: 98.85 | H12: 103.29 | I12: 98.85 | J12: 103.29 | K12: 98.85 | L12: 0 | M12: 101.36 | N12: =ABS((G12-D12)*100) -> 311 | O12: =ABS((D12-H12)*100) -> 133 | P12: =((D12-J12)*100) -> -133 | Q12: =IF($E$3<N12,$E$3-$M$3,-O12-$M$3) -> 196 | R12: =R11+Q12 -> 170 | S12: =IF(Q12>0,1,0) -> 1 | T12: =IF(C12>$R$3,IF(C12<$R$4,Q12,0),0) -> 196 | U12: =U11+T12 -> 170 | V12: =IF(T12<>0,1,0) -> 1 | W12: =IF(T12>0,1,0) -> 1 | X12: =IF(N12>$Z$4,1,0) -> 1 | Y12: =IF(E12=0,(F12-D12)*100,(D13-K13)*100) -> 6 | Z12: =IF(N12>=($Z$4+$AA$4),$AA$4-$M$3,IF(N12>=$Z$4,-$Z$4-O12,0)) -> 156 | AA12: =X12*Z12 -> 156 | AB12: =AB11+AA12 -> 38 | AC12: =IF(AA12>0,1,0) -> 1 | AD12: =IF(C12>$R$3,IF(C12<$R$4,1,0),0) -> 1 | AE12: =AA12*AD12 -> 156 | AF12: =AF11+AE12 -> 38 | AG12: =X12*AD12 -> 1 | AH12: =IF(AE12>0,1,0) -> 1 | AI12: 1 | AJ12: =AA12*AI12 -> 156 | AK12: =IF(AJ12>0,1,0) -> 1 | AL12: =AI12*X12 -> 1 | AM12: =AM11+AJ12 -> 87 | AN12: =Z12*X12*AD12*AI12 -> 156 | AO12: =AO11+AN12 -> 87 | AP12: =X12*AD12*AI12 -> 1 | AQ12: =IF(AN12>0,1,0) -> 1 | AR12: 0 | AS12: =AA12*AR12 -> 0 | AT12: =AT11+AS12 -> -34 | AU12: =IF(AS12>0,1,0) -> 0 | AV12: =IF(AS12<>0,1,0) -> 0 | AW12: =AR12*Q12 -> 0 | AX12: =AX11+AW12 -> 58 | AY12: =IF(AW12>0,1,0) -> 0 | AZ12: =IF(AW12<>0,1,0) -> 0 | BA12: 0 | BB12: =BA12*AW12 -> 0 | BC12: =IF(BB12<>0,1,0) -> 0 | BD12: =IF(BB12>0,1,0) -> 0 | BE12: =AW12*AD12 -> 0 | BF12: =BF11+BE12 -> 58 | BG12: =IF(BE12<>0,1,0) -> 0 | BH12: =IF(BE12>0,1,0) -> 0 | BI12: =AS12*AD12 -> 0 | BJ12: =BJ11+BI12 -> -34 | BK12: =IF(BI12<>0,1,0) -> 0 | BL12: =IF(BI12>0,1,0) -> 0
A13: 1 | B13: 39512 | C13: 14 | D13: 101.36 | E13: 0 | F13: 106.47 | G13: 110.93 | H13: 100.69 | I13: 110.93 | J13: 99.18 | K13: 101.3 | L13: 1 | M13: 104.38 | N13: =ABS((G13-D13)*100) -> 957 | O13: =ABS((D13-H13)*100) -> 67 | P13: =((D13-J13)*100) -> 218 | Q13: =IF($E$3<N13,$E$3-$M$3,-O13-$M$3) -> 196 | R13: =R12+Q13 -> 366 | S13: =IF(Q13>0,1,0) -> 1 | T13: =IF(C13>$R$3,IF(C13<$R$4,Q13,0),0) -> 196 | U13: =U12+T13 -> 366 | V13: =IF(T13<>0,1,0) -> 1 | W13: =IF(T13>0,1,0) -> 1 | X13: =IF(N13>$Z$4,1,0) -> 1 | Y13: =IF(E13=0,(F13-D13)*100,(D14-K14)*100) -> 511 | Z13: =IF(N13>=($Z$4+$AA$4),$AA$4-$M$3,IF(N13>=$Z$4,-$Z$4-O13,0)) -> 156 | AA13: =X13*Z13 -> 156 | AB13: =AB12+AA13 -> 194 | AC13: =IF(AA13>0,1,0) -> 1 | AD13: =IF(C13>$R$3,IF(C13<$R$4,1,0),0) -> 1 | AE13: =AA13*AD13 -> 156 | AF13: =AF12+AE13 -> 194 | AG13: =X13*AD13 -> 1 | AH13: =IF(AE13>0,1,0) -> 1 | AI13: 1 | AJ13: =AA13*AI13 -> 156 | AK13: =IF(AJ13>0,1,0) -> 1 | AL13: =AI13*X13 -> 1 | AM13: =AM12+AJ13 -> 243 | AN13: =Z13*X13*AD13*AI13 -> 156 | AO13: =AO12+AN13 -> 243 | AP13: =X13*AD13*AI13 -> 1 | AQ13: =IF(AN13>0,1,0) -> 1 | AR13: 1 | AS13: =AA13*AR13 -> 156 | AT13: =AT12+AS13 -> 122 | AU13: =IF(AS13>0,1,0) -> 1 | AV13: =IF(AS13<>0,1,0) -> 1 | AW13: =AR13*Q13 -> 196 | AX13: =AX12+AW13 -> 254 | AY13: =IF(AW13>0,1,0) -> 1 | AZ13: =IF(AW13<>0,1,0) -> 1 | BA13: 1 | BB13: =BA13*AW13 -> 196 | BC13: =IF(BB13<>0,1,0) -> 1 | BD13: =IF(BB13>0,1,0) -> 1 | BE13: =AW13*AD13 -> 196 | BF13: =BF12+BE13 -> 254 | BG13: =IF(BE13<>0,1,0) -> 1 | BH13: =IF(BE13>0,1,0) -> 1 | BI13: =AS13*AD13 -> 156 | BJ13: =BJ12+BI13 -> 122 | BK13: =IF(BI13<>0,1,0) -> 1 | BL13: =IF(BI13>0,1,0) -> 1
A14: 1 | B14: 39517 | C14: 10 | D14: 104.38 | E14: 1 | F14: 104.83 | G14: 104.17 | H14: 104.87 | I14: 104.17 | J14: 106.18 | K14: 104.13 | L14: 0 | M14: 104.75 | N14: =ABS((G14-D14)*100) -> 21 | O14: =ABS((D14-H14)*100) -> 49 | P14: =((D14-J14)*100) -> -180 | Q14: =IF($E$3<N14,$E$3-$M$3,-O14-$M$3) -> -53 | R14: =R13+Q14 -> 313 | S14: =IF(Q14>0,1,0) -> 0 | T14: =IF(C14>$R$3,IF(C14<$R$4,Q14,0),0) -> -53 | U14: =U13+T14 -> 313 | V14: =IF(T14<>0,1,0) -> 1 | W14: =IF(T14>0,1,0) -> 0 | X14: =IF(N14>$Z$4,1,0) -> 0 | Y14: =IF(E14=0,(F14-D14)*100,(D15-K15)*100) -> 68 | Z14: =IF(N14>=($Z$4+$AA$4),$AA$4-$M$3,IF(N14>=$Z$4,-$Z$4-O14,0)) -> 0 | AA14: =X14*Z14 -> 0 | AB14: =AB13+AA14 -> 194 | AC14: =IF(AA14>0,1,0) -> 0 | AD14: =IF(C14>$R$3,IF(C14<$R$4,1,0),0) -> 1 | AE14: =AA14*AD14 -> 0 | AF14: =AF13+AE14 -> 194 | AG14: =X14*AD14 -> 0 | AH14: =IF(AE14>0,1,0) -> 0 | AI14: 1 | AJ14: =AA14*AI14 -> 0 | AK14: =IF(AJ14>0,1,0) -> 0 | AL14: =AI14*X14 -> 0 | AM14: =AM13+AJ14 -> 243 | AN14: =Z14*X14*AD14*AI14 -> 0 | AO14: =AO13+AN14 -> 243 | AP14: =X14*AD14*AI14 -> 0 | AQ14: =IF(AN14>0,1,0) -> 0 | AR14: 0 | AS14: =AA14*AR14 -> 0 | AT14: =AT13+AS14 -> 122 | AU14: =IF(AS14>0,1,0) -> 0 | AV14: =IF(AS14<>0,1,0) -> 0 | AW14: =AR14*Q14 -> 0 | AX14: =AX13+AW14 -> 254 | AY14: =IF(AW14>0,1,0) -> 0 | AZ14: =IF(AW14<>0,1,0) -> 0 | BA14: 1 | BB14: =BA14*AW14 -> 0 | BC14: =IF(BB14<>0,1,0) -> 0 | BD14: =IF(BB14>0,1,0) -> 0 | BE14: =AW14*AD14 -> 0 | BF14: =BF13+BE14 -> 254 | BG14: =IF(BE14<>0,1,0) -> 0 | BH14: =IF(BE14>0,1,0) -> 0 | BI14: =AS14*AD14 -> 0 | BJ14: =BJ13+BI14 -> 122 | BK14: =IF(BI14<>0,1,0) -> 0 | BL14: =IF(BI14>0,1,0) -> 0
A15: 1 | B15: 39517 | C15: 12 | D15: 104.75 | E15: 0 | F15: 104.97 | G15: 104.97 | H15: 104.13 | I15: 110.93 | J15: 106.1 | K15: 104.07 | L15: 0 | M15: 104.55 | N15: =ABS((G15-D15)*100) -> 22 | O15: =ABS((D15-H15)*100) -> 62 | P15: =((D15-J15)*100) -> -135 | Q15: =IF($E$3<N15,$E$3-$M$3,-O15-$M$3) -> -66 | R15: =R14+Q15 -> 247 | S15: =IF(Q15>0,1,0) -> 0 | T15: =IF(C15>$R$3,IF(C15<$R$4,Q15,0),0) -> -66 | U15: =U14+T15 -> 247 | V15: =IF(T15<>0,1,0) -> 1 | W15: =IF(T15>0,1,0) -> 0 | X15: =IF(N15>$Z$4,1,0) -> 0 | Y15: =IF(E15=0,(F15-D15)*100,(D16-K16)*100) -> 22 | Z15: =IF(N15>=($Z$4+$AA$4),$AA$4-$M$3,IF(N15>=$Z$4,-$Z$4-O15,0)) -> 0 | AA15: =X15*Z15 -> 0 | AB15: =AB14+AA15 -> 194 | AC15: =IF(AA15>0,1,0) -> 0 | AD15: =IF(C15>$R$3,IF(C15<$R$4,1,0),0) -> 1 | AE15: =AA15*AD15 -> 0 | AF15: =AF14+AE15 -> 194 | AG15: =X15*AD15 -> 0 | AH15: =IF(AE15>0,1,0) -> 0 | AI15: 0 | AJ15: =AA15*AI15 -> 0 | AK15: =IF(AJ15>0,1,0) -> 0 | AL15: =AI15*X15 -> 0 | AM15: =AM14+AJ15 -> 243 | AN15: =Z15*X15*AD15*AI15 -> 0 | AO15: =AO14+AN15 -> 243 | AP15: =X15*AD15*AI15 -> 0 | AQ15: =IF(AN15>0,1,0) -> 0 | AR15: 1 | AS15: =AA15*AR15 -> 0 | AT15: =AT14+AS15 -> 122 | AU15: =IF(AS15>0,1,0) -> 0 | AV15: =IF(AS15<>0,1,0) -> 0 | AW15: =AR15*Q15 -> -66 | AX15: =AX14+AW15 -> 188 | AY15: =IF(AW15>0,1,0) -> 0 | AZ15: =IF(AW15<>0,1,0) -> 1 | BA15: 0 | BB15: =BA15*AW15 -> 0 | BC15: =IF(BB15<>0,1,0) -> 0 | BD15: =IF(BB15>0,1,0) -> 0 | BE15: =AW15*AD15 -> -66 | BF15: =BF14+BE15 -> 188 | BG15: =IF(BE15<>0,1,0) -> 1 | BH15: =IF(BE15>0,1,0) -> 0 | BI15: =AS15*AD15 -> 0 | BJ15: =BJ14+BI15 -> 122 | BK15: =IF(BI15<>0,1,0) -> 0 | BL15: =IF(BI15>0,1,0) -> 0
A16: 1 | B16: 39517 | C16: 13 | D16: 104.55 | E16: 1 | F16: 106.95 | G16: 104.42 | H16: 104.97 | I16: 104.42 | J16: 106.05 | K16: 104.42 | L16: 1 | M16: 106.41 | N16: =ABS((G16-D16)*100) -> 13 | O16: =ABS((D16-H16)*100) -> 42 | P16: =((D16-J16)*100) -> -150 | Q16: =IF($E$3<N16,$E$3-$M$3,-O16-$M$3) -> -46 | R16: =R15+Q16 -> 201 | S16: =IF(Q16>0,1,0) -> 0 | T16: =IF(C16>$R$3,IF(C16<$R$4,Q16,0),0) -> -46 | U16: =U15+T16 -> 201 | V16: =IF(T16<>0,1,0) -> 1 | W16: =IF(T16>0,1,0) -> 0 | X16: =IF(N16>$Z$4,1,0) -> 0 | Y16: =IF(E16=0,(F16-D16)*100,(D17-K17)*100) -> 21 | Z16: =IF(N16>=($Z$4+$AA$4),$AA$4-$M$3,IF(N16>=$Z$4,-$Z$4-O16,0)) -> 0 | AA16: =X16*Z16 -> 0 | AB16: =AB15+AA16 -> 194 | AC16: =IF(AA16>0,1,0) -> 0 | AD16: =IF(C16>$R$3,IF(C16<$R$4,1,0),0) -> 1 | AE16: =AA16*AD16 -> 0 | AF16: =AF15+AE16 -> 194 | AG16: =X16*AD16 -> 0 | AH16: =IF(AE16>0,1,0) -> 0 | AI16: 1 | AJ16: =AA16*AI16 -> 0 | AK16: =IF(AJ16>0,1,0) -> 0 | AL16: =AI16*X16 -> 0 | AM16: =AM15+AJ16 -> 243 | AN16: =Z16*X16*AD16*AI16 -> 0 | AO16: =AO15+AN16 -> 243 | AP16: =X16*AD16*AI16 -> 0 | AQ16: =IF(AN16>0,1,0) -> 0 | AR16: 0 | AS16: =AA16*AR16 -> 0 | AT16: =AT15+AS16 -> 122 | AU16: =IF(AS16>0,1,0) -> 0 | AV16: =IF(AS16<>0,1,0) -> 0 | AW16: =AR16*Q16 -> 0 | AX16: =AX15+AW16 -> 188 | AY16: =IF(AW16>0,1,0) -> 0 | AZ16: =IF(AW16<>0,1,0) -> 0 | BA16: 1 | BB16: =BA16*AW16 -> 0 | BC16: =IF(BB16<>0,1,0) -> 0 | BD16: =IF(BB16>0,1,0) -> 0 | BE16: =AW16*AD16 -> 0 | BF16: =BF15+BE16 -> 188 | BG16: =IF(BE16<>0,1,0) -> 0 | BH16: =IF(BE16>0,1,0) -> 0 | BI16: =AS16*AD16 -> 0 | BJ16: =BJ15+BI16 -> 122 | BK16: =IF(BI16<>0,1,0) -> 0 | BL16: =IF(BI16>0,1,0) -> 0
A17: 1 | B17: 39517 | C17: 14 | D17: 106.41 | E17: 0 | F17: 109.68 | G17: 110.93 | H17: 104.42 | I17: 110.93 | J17: 103.96 | K17: 106.2 | L17: 1 | M17: 107.71 | N17: =ABS((G17-D17)*100) -> 452 | O17: =ABS((D17-H17)*100) -> 199 | P17: =((D17-J17)*100) -> 245 | Q17: =IF($E$3<N17,$E$3-$M$3,-O17-$M$3) -> 196 | R17: =R16+Q17 -> 397 | S17: =IF(Q17>0,1,0) -> 1 | T17: =IF(C17>$R$3,IF(C17<$R$4,Q17,0),0) -> 196 | U17: =U16+T17 -> 397 | V17: =IF(T17<>0,1,0) -> 1 | W17: =IF(T17>0,1,0) -> 1 | X17: =IF(N17>$Z$4,1,0) -> 1 | Y17: =IF(E17=0,(F17-D17)*100,(D18-K18)*100) -> 327 | Z17: =IF(N17>=($Z$4+$AA$4),$AA$4-$M$3,IF(N17>=$Z$4,-$Z$4-O17,0)) -> 156 | AA17: =X17*Z17 -> 156 | AB17: =AB16+AA17 -> 350 | AC17: =IF(AA17>0,1,0) -> 1 | AD17: =IF(C17>$R$3,IF(C17<$R$4,1,0),0) -> 1 | AE17: =AA17*AD17 -> 156 | AF17: =AF16+AE17 -> 350 | AG17: =X17*AD17 -> 1 | AH17: =IF(AE17>0,1,0) -> 1 | AI17: 1 | AJ17: =AA17*AI17 -> 156 | AK17: =IF(AJ17>0,1,0) -> 1 | AL17: =AI17*X17 -> 1 | AM17: =AM16+AJ17 -> 399 | AN17: =Z17*X17*AD17*AI17 -> 156 | AO17: =AO16+AN17 -> 399 | AP17: =X17*AD17*AI17 -> 1 | AQ17: =IF(AN17>0,1,0) -> 1 | AR17: 1 | AS17: =AA17*AR17 -> 156 | AT17: =AT16+AS17 -> 278 | AU17: =IF(AS17>0,1,0) -> 1 | AV17: =IF(AS17<>0,1,0) -> 1 | AW17: =AR17*Q17 -> 196 | AX17: =AX16+AW17 -> 384 | AY17: =IF(AW17>0,1,0) -> 1 | AZ17: =IF(AW17<>0,1,0) -> 1 | BA17: 1 | BB17: =BA17*AW17 -> 196 | BC17: =IF(BB17<>0,1,0) -> 1 | BD17: =IF(BB17>0,1,0) -> 1 | BE17: =AW17*AD17 -> 196 | BF17: =BF16+BE17 -> 384 | BG17: =IF(BE17<>0,1,0) -> 1 | BH17: =IF(BE17>0,1,0) -> 1 | BI17: =AS17*AD17 -> 156 | BJ17: =BJ16+BI17 -> 278 | BK17: =IF(BI17<>0,1,0) -> 1 | BL17: =IF(BI17>0,1,0) -> 1
A18: 1 | B18: 39519 | C18: 14 | D18: 107.71 | E18: 1 | F18: 109.01 | G18: 107.61 | H18: 109.13 | I18: 107.61 | J18: 109.11 | K18: 107.61 | L18: 1 | M18: 108.83 | N18: =ABS((G18-D18)*100) -> 10 | O18: =ABS((D18-H18)*100) -> 142 | P18: =((D18-J18)*100) -> -140 | Q18: =IF($E$3<N18,$E$3-$M$3,-O18-$M$3) -> -146 | R18: =R17+Q18 -> 251 | S18: =IF(Q18>0,1,0) -> 0 | T18: =IF(C18>$R$3,IF(C18<$R$4,Q18,0),0) -> -146 | U18: =U17+T18 -> 251 | V18: =IF(T18<>0,1,0) -> 1 | W18: =IF(T18>0,1,0) -> 0 | X18: =IF(N18>$Z$4,1,0) -> 0 | Y18: =IF(E18=0,(F18-D18)*100,(D19-K19)*100) -> 29 | Z18: =IF(N18>=($Z$4+$AA$4),$AA$4-$M$3,IF(N18>=$Z$4,-$Z$4-O18,0)) -> 0 | AA18: =X18*Z18 -> 0 | AB18: =AB17+AA18 -> 350 | AC18: =IF(AA18>0,1,0) -> 0 | AD18: =IF(C18>$R$3,IF(C18<$R$4,1,0),0) -> 1 | AE18: =AA18*AD18 -> 0 | AF18: =AF17+AE18 -> 350 | AG18: =X18*AD18 -> 0 | AH18: =IF(AE18>0,1,0) -> 0 | AI18: 1 | AJ18: =AA18*AI18 -> 0 | AK18: =IF(AJ18>0,1,0) -> 0 | AL18: =AI18*X18 -> 0 | AM18: =AM17+AJ18 -> 399 | AN18: =Z18*X18*AD18*AI18 -> 0 | AO18: =AO17+AN18 -> 399 | AP18: =X18*AD18*AI18 -> 0 | AQ18: =IF(AN18>0,1,0) -> 0 | AR18: 0 | AS18: =AA18*AR18 -> 0 | AT18: =AT17+AS18 -> 278 | AU18: =IF(AS18>0,1,0) -> 0 | AV18: =IF(AS18<>0,1,0) -> 0 | AW18: =AR18*Q18 -> 0 | AX18: =AX17+AW18 -> 384 | AY18: =IF(AW18>0,1,0) -> 0 | AZ18: =IF(AW18<>0,1,0) -> 0 | BA18: 1 | BB18: =BA18*AW18 -> 0 | BC18: =IF(BB18<>0,1,0) -> 0 | BD18: =IF(BB18>0,1,0) -> 0 | BE18: =AW18*AD18 -> 0 | BF18: =BF17+BE18 -> 384 | BG18: =IF(BE18<>0,1,0) -> 0 | BH18: =IF(BE18>0,1,0) -> 0 | BI18: =AS18*AD18 -> 0 | BJ18: =BJ17+BI18 -> 278 | BK18: =IF(BI18<>0,1,0) -> 0 | BL18: =IF(BI18>0,1,0) -> 0
A19: 1 | B19: 39519 | C19: 15 | D19: 108.83 | E19: 0 | F19: 110.94 | G19: 110.93 | H19: 107.61 | I19: 110.93 | J19: 109.13 | K19: 108.54 | L19: 1 | M19: 108.98 | N19: =ABS((G19-D19)*100) -> 210 | O19: =ABS((D19-H19)*100) -> 122 | P19: =((D19-J19)*100) -> -30 | Q19: =IF($E$3<N19,$E$3-$M$3,-O19-$M$3) -> 196 | R19: =R18+Q19 -> 447 | S19: =IF(Q19>0,1,0) -> 1 | T19: =IF(C19>$R$3,IF(C19<$R$4,Q19,0),0) -> 196 | U19: =U18+T19 -> 447 | V19: =IF(T19<>0,1,0) -> 1 | W19: =IF(T19>0,1,0) -> 1 | X19: =IF(N19>$Z$4,1,0) -> 1 | Y19: =IF(E19=0,(F19-D19)*100,(D20-K20)*100) -> 211 | Z19: =IF(N19>=($Z$4+$AA$4),$AA$4-$M$3,IF(N19>=$Z$4,-$Z$4-O19,0)) -> 156 | AA19: =X19*Z19 -> 156 | AB19: =AB18+AA19 -> 506 | AC19: =IF(AA19>0,1,0) -> 1 | AD19: =IF(C19>$R$3,IF(C19<$R$4,1,0),0) -> 1 | AE19: =AA19*AD19 -> 156 | AF19: =AF18+AE19 -> 506 | AG19: =X19*AD19 -> 1 | AH19: =IF(AE19>0,1,0) -> 1 | AI19: 1 | AJ19: =AA19*AI19 -> 156 | AK19: =IF(AJ19>0,1,0) -> 1 | AL19: =AI19*X19 -> 1 | AM19: =AM18+AJ19 -> 555 | AN19: =Z19*X19*AD19*AI19 -> 156 | AO19: =AO18+AN19 -> 555 | AP19: =X19*AD19*AI19 -> 1 | AQ19: =IF(AN19>0,1,0) -> 1 | AR19: 1 | AS19: =AA19*AR19 -> 156 | AT19: =AT18+AS19 -> 434 | AU19: =IF(AS19>0,1,0) -> 1 | AV19: =IF(AS19<>0,1,0) -> 1 | AW19: =AR19*Q19 -> 196 | AX19: =AX18+AW19 -> 580 | AY19: =IF(AW19>0,1,0) -> 1 | AZ19: =IF(AW19<>0,1,0) -> 1 | BA19: 0 | BB19: =BA19*AW19 -> 0 | BC19: =IF(BB19<>0,1,0) -> 0 | BD19: =IF(BB19>0,1,0) -> 0 | BE19: =AW19*AD19 -> 196 | BF19: =BF18+BE19 -> 580 | BG19: =IF(BE19<>0,1,0) -> 1 | BH19: =IF(BE19>0,1,0) -> 1 | BI19: =AS19*AD19 -> 156 | BJ19: =BJ18+BI19 -> 434 | BK19: =IF(BI19<>0,1,0) -> 1 | BL19: =IF(BI19>0,1,0) -> 1
A20: 1 | B20: 39520 | C20: 17 | D20: 108.98 | E20: 1 | F20: 110.52 | G20: 108.62 | H20: 109.84 | I20: 99.1 | J20: 110.94 | K20: 108.16 | L20: 0 | M20: 109.56 | N20: =ABS((G20-D20)*100) -> 36 | O20: =ABS((D20-H20)*100) -> 86 | P20: =((D20-J20)*100) -> -196 | Q20: =IF($E$3<N20,$E$3-$M$3,-O20-$M$3) -> -90 | R20: =R19+Q20 -> 357 | S20: =IF(Q20>0,1,0) -> 0 | T20: =IF(C20>$R$3,IF(C20<$R$4,Q20,0),0) -> -90 | U20: =U19+T20 -> 357 | V20: =IF(T20<>0,1,0) -> 1 | W20: =IF(T20>0,1,0) -> 0 | X20: =IF(N20>$Z$4,1,0) -> 1 | Y20: =IF(E20=0,(F20-D20)*100,(D21-K21)*100) -> 132 | Z20: =IF(N20>=($Z$4+$AA$4),$AA$4-$M$3,IF(N20>=$Z$4,-$Z$4-O20,0)) -> -116 | AA20: =X20*Z20 -> -116 | AB20: =AB19+AA20 -> 390 | AC20: =IF(AA20>0,1,0) -> 0 | AD20: =IF(C20>$R$3,IF(C20<$R$4,1,0),0) -> 1 | AE20: =AA20*AD20 -> -116 | AF20: =AF19+AE20 -> 390 | AG20: =X20*AD20 -> 1 | AH20: =IF(AE20>0,1,0) -> 0 | AI20: 1 | AJ20: =AA20*AI20 -> -116 | AK20: =IF(AJ20>0,1,0) -> 0 | AL20: =AI20*X20 -> 1 | AM20: =AM19+AJ20 -> 439 | AN20: =Z20*X20*AD20*AI20 -> -116 | AO20: =AO19+AN20 -> 439 | AP20: =X20*AD20*AI20 -> 1 | AQ20: =IF(AN20>0,1,0) -> 0 | AR20: 0 | AS20: =AA20*AR20 -> 0 | AT20: =AT19+AS20 -> 434 | AU20: =IF(AS20>0,1,0) -> 0 | AV20: =IF(AS20<>0,1,0) -> 0 | AW20: =AR20*Q20 -> 0 | AX20: =AX19+AW20 -> 580 | AY20: =IF(AW20>0,1,0) -> 0 | AZ20: =IF(AW20<>0,1,0) -> 0 | BA20: 1 | BB20: =BA20*AW20 -> 0 | BC20: =IF(BB20<>0,1,0) -> 0 | BD20: =IF(BB20>0,1,0) -> 0 | BE20: =AW20*AD20 -> 0 | BF20: =BF19+BE20 -> 580 | BG20: =IF(BE20<>0,1,0) -> 0 | BH20: =IF(BE20>0,1,0) -> 0 | BI20: =AS20*AD20 -> 0 | BJ20: =BJ19+BI20 -> 434 | BK20: =IF(BI20<>0,1,0) -> 0 | BL20: =IF(BI20>0,1,0) -> 0
A21: =IF(D21<>0,1,0) -> 1 | B21: 39521 | C21: 13 | D21: 109.56 | E21: 0 | F21: 109.64 | G21: 109.64 | H21: 108.3 | I21: 109.64 | J21: 108.16 | K21: 108.24 | L21: 0 | M21: 108.48 | N21: =ABS((G21-D21)*100) -> 8 | O21: =ABS((D21-H21)*100) -> 126 | P21: =((D21-J21)*100) -> 140 | Q21: =IF($E$3<N21,$E$3-$M$3,-O21-$M$3) -> -130 | R21: =R20+Q21 -> 227 | S21: =IF(Q21>0,1,0) -> 0 | T21: =IF(C21>$R$3,IF(C21<$R$4,Q21,0),0) -> -130 | U21: =U20+T21 -> 227 | V21: =IF(T21<>0,1,0) -> 1 | W21: =IF(T21>0,1,0) -> 0 | X21: =IF(N21>$Z$4,1,0) -> 0 | Y21: =IF(E21=0,(F21-D21)*100,(D22-K22)*100) -> 8 | Z21: =IF(N21>=($Z$4+$AA$4),$AA$4-$M$3,IF(N21>=$Z$4,-$Z$4-O21,0)) -> 0 | AA21: =X21*Z21 -> 0 | AB21: =AB20+AA21 -> 390 | AC21: =IF(AA21>0,1,0) -> 0 | AD21: =IF(C21>$R$3,IF(C21<$R$4,1,0),0) -> 1 | AE21: =AA21*AD21 -> 0 | AF21: =AF20+AE21 -> 390 | AG21: =X21*AD21 -> 0 | AH21: =IF(AE21>0,1,0) -> 0 | AI21: 1 | AJ21: =AA21*AI21 -> 0 | AK21: =IF(AJ21>0,1,0) -> 0 | AL21: =AI21*X21 -> 0 | AM21: =AM20+AJ21 -> 439 | AN21: =Z21*X21*AD21*AI21 -> 0 | AO21: =AO20+AN21 -> 439 | AP21: =X21*AD21*AI21 -> 0 | AQ21: =IF(AN21>0,1,0) -> 0 | AR21: 1 | AS21: =AA21*AR21 -> 0 | AT21: =AT20+AS21 -> 434 | AU21: =IF(AS21>0,1,0) -> 0 | AV21: =IF(AS21<>0,1,0) -> 0 | AW21: =AR21*Q21 -> -130 | AX21: =AX20+AW21 -> 450 | AY21: =IF(AW21>0,1,0) -> 0 | AZ21: =IF(AW21<>0,1,0) -> 1 | BA21: 1 | BB21: =BA21*AW21 -> -130 | BC21: =IF(BB21<>0,1,0) -> 1 | BD21: =IF(BB21>0,1,0) -> 0 | BE21: =AW21*AD21 -> -130 | BF21: =BF20+BE21 -> 450 | BG21: =IF(BE21<>0,1,0) -> 1 | BH21: =IF(BE21>0,1,0) -> 0 | BI21: =AS21*AD21 -> 0 | BJ21: =BJ20+BI21 -> 434 | BK21: =IF(BI21<>0,1,0) -> 0 | BL21: =IF(BI21>0,1,0) -> 0
A22: =IF(D22<>0,1,0) -> 1 | B22: 39521 | C22: 14 | D22: 108.48 | E22: 1 | F22: 109.04 | G22: 107.53 | H22: 109.64 | I22: 107.53 | J22: 108.16 | K22: 107.53 | L22: 1 | M22: 108.96 | N22: =ABS((G22-D22)*100) -> 95 | O22: =ABS((D22-H22)*100) -> 116 | P22: =((D22-J22)*100) -> 32 | Q22: =IF($E$3<N22,$E$3-$M$3,-O22-$M$3) -> -120 | R22: =R21+Q22 -> 107 | S22: =IF(Q22>0,1,0) -> 0 | T22: =IF(C22>$R$3,IF(C22<$R$4,Q22,0),0) -> -120 | U22: =U21+T22 -> 107 | V22: =IF(T22<>0,1,0) -> 1 | W22: =IF(T22>0,1,0) -> 0 | X22: =IF(N22>$Z$4,1,0) -> 1 | Y22: =IF(E22=0,(F22-D22)*100,(D23-K23)*100) -> 140 | Z22: =IF(N22>=($Z$4+$AA$4),$AA$4-$M$3,IF(N22>=$Z$4,-$Z$4-O22,0)) -> -146 | AA22: =X22*Z22 -> -146 | AB22: =AB21+AA22 -> 244 | AC22: =IF(AA22>0,1,0) -> 0 | AD22: =IF(C22>$R$3,IF(C22<$R$4,1,0),0) -> 1 | AE22: =AA22*AD22 -> -146 | AF22: =AF21+AE22 -> 244 | AG22: =X22*AD22 -> 1 | AH22: =IF(AE22>0,1,0) -> 0 | AI22: 1 | AJ22: =AA22*AI22 -> -146 | AK22: =IF(AJ22>0,1,0) -> 0 | AL22: =AI22*X22 -> 1 | AM22: =AM21+AJ22 -> 293 | AN22: =Z22*X22*AD22*AI22 -> -146 | AO22: =AO21+AN22 -> 293 | AP22: =X22*AD22*AI22 -> 1 | AQ22: =IF(AN22>0,1,0) -> 0 | AR22: 0 | AS22: =AA22*AR22 -> 0 | AT22: =AT21+AS22 -> 434 | AU22: =IF(AS22>0,1,0) -> 0 | AV22: =IF(AS22<>0,1,0) -> 0 | AW22: =AR22*Q22 -> 0 | AX22: =AX21+AW22 -> 450 | AY22: =IF(AW22>0,1,0) -> 0 | AZ22: =IF(AW22<>0,1,0) -> 0 | BA22: 0 | BB22: =BA22*AW22 -> 0 | BC22: =IF(BB22<>0,1,0) -> 0 | BD22: =IF(BB22>0,1,0) -> 0 | BE22: =AW22*AD22 -> 0 | BF22: =BF21+BE22 -> 450 | BG22: =IF(BE22<>0,1,0) -> 0 | BH22: =IF(BE22>0,1,0) -> 0 | BI22: =AS22*AD22 -> 0 | BJ22: =BJ21+BI22 -> 434 | BK22: =IF(BI22<>0,1,0) -> 0 | BL22: =IF(BI22>0,1,0) -> 0
A23: =IF(D23<>0,1,0) -> 1 | B23: 39521 | C23: 17 | D23: 108.96 | E23: 0 | F23: 108.97 | G23: 110.33 | H23: 108.12 | I23: 110.33 | J23: 109.6 | K23: 107.56 | L23: 0 | M23: 108.63 | N23: =ABS((G23-D23)*100) -> 137 | O23: =ABS((D23-H23)*100) -> 84 | P23: =((D23-J23)*100) -> -64 | Q23: =IF($E$3<N23,$E$3-$M$3,-O23-$M$3) -> -88 | R23: =R22+Q23 -> 19 | S23: =IF(Q23>0,1,0) -> 0 | T23: =IF(C23>$R$3,IF(C23<$R$4,Q23,0),0) -> -88 | U23: =U22+T23 -> 19 | V23: =IF(T23<>0,1,0) -> 1 | W23: =IF(T23>0,1,0) -> 0 | X23: =IF(N23>$Z$4,1,0) -> 1 | Y23: =IF(E23=0,(F23-D23)*100,(D24-K24)*100) -> 1 | Z23: =IF(N23>=($Z$4+$AA$4),$AA$4-$M$3,IF(N23>=$Z$4,-$Z$4-O23,0)) -> -114 | AA23: =X23*Z23 -> -114 | AB23: =AB22+AA23 -> 130 | AC23: =IF(AA23>0,1,0) -> 0 | AD23: =IF(C23>$R$3,IF(C23<$R$4,1,0),0) -> 1 | AE23: =AA23*AD23 -> -114 | AF23: =AF22+AE23 -> 130 | AG23: =X23*AD23 -> 1 | AH23: =IF(AE23>0,1,0) -> 0 | AI23: 1 | AJ23: =AA23*AI23 -> -114 | AK23: =IF(AJ23>0,1,0) -> 0 | AL23: =AI23*X23 -> 1 | AM23: =AM22+AJ23 -> 179 | AN23: =Z23*X23*AD23*AI23 -> -114 | AO23: =AO22+AN23 -> 179 | AP23: =X23*AD23*AI23 -> 1 | AQ23: =IF(AN23>0,1,0) -> 0 | AR23: 1 | AS23: =AA23*AR23 -> -114 | AT23: =AT22+AS23 -> 320 | AU23: =IF(AS23>0,1,0) -> 0 | AV23: =IF(AS23<>0,1,0) -> 1 | AW23: =AR23*Q23 -> -88 | AX23: =AX22+AW23 -> 362 | AY23: =IF(AW23>0,1,0) -> 0 | AZ23: =IF(AW23<>0,1,0) -> 1 | BA23: 0 | BB23: =BA23*AW23 -> 0 | BC23: =IF(BB23<>0,1,0) -> 0 | BD23: =IF(BB23>0,1,0) -> 0 | BE23: =AW23*AD23 -> -88 | BF23: =BF22+BE23 -> 362 | BG23: =IF(BE23<>0,1,0) -> 1 | BH23: =IF(BE23>0,1,0) -> 0 | BI23: =AS23*AD23 -> -114 | BJ23: =BJ22+BI23 -> 320 | BK23: =IF(BI23<>0,1,0) -> 1 | BL23: =IF(BI23>0,1,0) -> 0
A24: =IF(D24<>0,1,0) -> 1 | B24: 39521 | C24: 18 | D24: 108.63 | E24: 1 | F24: 109.14 | G24: 108.4 | H24: 108.97 | I24: 108.4 | J24: 109.56 | K24: 108.4 | L24: 1 | M24: 108.84 | N24: =ABS((G24-D24)*100) -> 23 | O24: =ABS((D24-H24)*100) -> 34 | P24: =((D24-J24)*100) -> -93 | Q24: =IF($E$3<N24,$E$3-$M$3,-O24-$M$3) -> -38 | R24: =R23+Q24 -> -19 | S24: =IF(Q24>0,1,0) -> 0 | T24: =IF(C24>$R$3,IF(C24<$R$4,Q24,0),0) -> 0 | U24: =U23+T24 -> 19 | V24: =IF(T24<>0,1,0) -> 0 | W24: =IF(T24>0,1,0) -> 0 | X24: =IF(N24>$Z$4,1,0) -> 0 | Y24: =IF(E24=0,(F24-D24)*100,(D25-K25)*100) -> 33 | Z24: =IF(N24>=($Z$4+$AA$4),$AA$4-$M$3,IF(N24>=$Z$4,-$Z$4-O24,0)) -> 0 | AA24: =X24*Z24 -> 0 | AB24: =AB23+AA24 -> 130 | AC24: =IF(AA24>0,1,0) -> 0 | AD24: =IF(C24>$R$3,IF(C24<$R$4,1,0),0) -> 0 | AE24: =AA24*AD24 -> 0 | AF24: =AF23+AE24 -> 130 | AG24: =X24*AD24 -> 0 | AH24: =IF(AE24>0,1,0) -> 0 | AI24: 1 | AJ24: =AA24*AI24 -> 0 | AK24: =IF(AJ24>0,1,0) -> 0 | AL24: =AI24*X24 -> 0 | AM24: =AM23+AJ24 -> 179 | AN24: =Z24*X24*AD24*AI24 -> 0 | AO24: =AO23+AN24 -> 179 | AP24: =X24*AD24*AI24 -> 0 | AQ24: =IF(AN24>0,1,0) -> 0 | AR24: 0 | AS24: =AA24*AR24 -> 0 | AT24: =AT23+AS24 -> 320 | AU24: =IF(AS24>0,1,0) -> 0 | AV24: =IF(AS24<>0,1,0) -> 0 | AW24: =AR24*Q24 -> 0 | AX24: =AX23+AW24 -> 362 | AY24: =IF(AW24>0,1,0) -> 0 | AZ24: =IF(AW24<>0,1,0) -> 0 | BA24: 1 | BB24: =BA24*AW24 -> 0 | BC24: =IF(BB24<>0,1,0) -> 0 | BD24: =IF(BB24>0,1,0) -> 0 | BE24: =AW24*AD24 -> 0 | BF24: =BF23+BE24 -> 362 | BG24: =IF(BE24<>0,1,0) -> 0 | BH24: =IF(BE24>0,1,0) -> 0 | BI24: =AS24*AD24 -> 0 | BJ24: =BJ23+BI24 -> 320 | BK24: =IF(BI24<>0,1,0) -> 0 | BL24: =IF(BI24>0,1,0) -> 0
A25: =IF(D25<>0,1,0) -> 1 | B25: 39524 | C25: 0 | D25: 108.84 | E25: 0 | F25: 110.33 | G25: 110.33 | H25: 108.47 | I25: 110.33 | J25: 109.44 | K25: 108.51 | L25: 0 | M25: 108.77 | N25: =ABS((G25-D25)*100) -> 149 | O25: =ABS((D25-H25)*100) -> 37 | P25: =((D25-J25)*100) -> -60 | Q25: =IF($E$3<N25,$E$3-$M$3,-O25-$M$3) -> -41 | R25: =R24+Q25 -> -60 | S25: =IF(Q25>0,1,0) -> 0 | T25: =IF(C25>$R$3,IF(C25<$R$4,Q25,0),0) -> 0 | U25: =U24+T25 -> 19 | V25: =IF(T25<>0,1,0) -> 0 | W25: =IF(T25>0,1,0) -> 0 | X25: =IF(N25>$Z$4,1,0) -> 1 | Y25: =IF(E25=0,(F25-D25)*100,(D26-K26)*100) -> 149 | Z25: =IF(N25>=($Z$4+$AA$4),$AA$4-$M$3,IF(N25>=$Z$4,-$Z$4-O25,0)) -> -67 | AA25: =X25*Z25 -> -67 | AB25: =AB24+AA25 -> 63 | AC25: =IF(AA25>0,1,0) -> 0 | AD25: =IF(C25>$R$3,IF(C25<$R$4,1,0),0) -> 0 | AE25: =AA25*AD25 -> 0 | AF25: =AF24+AE25 -> 130 | AG25: =X25*AD25 -> 0 | AH25: =IF(AE25>0,1,0) -> 0 | AI25: 1 | AJ25: =AA25*AI25 -> -67 | AK25: =IF(AJ25>0,1,0) -> 0 | AL25: =AI25*X25 -> 1 | AM25: =AM24+AJ25 -> 112 | AN25: =Z25*X25*AD25*AI25 -> 0 | AO25: =AO24+AN25 -> 179 | AP25: =X25*AD25*AI25 -> 0 | AQ25: =IF(AN25>0,1,0) -> 0 | AR25: 1 | AS25: =AA25*AR25 -> -67 | AT25: =AT24+AS25 -> 253 | AU25: =IF(AS25>0,1,0) -> 0 | AV25: =IF(AS25<>0,1,0) -> 1 | AW25: =AR25*Q25 -> -41 | AX25: =AX24+AW25 -> 321 | AY25: =IF(AW25>0,1,0) -> 0 | AZ25: =IF(AW25<>0,1,0) -> 1 | BA25: 0 | BB25: =BA25*AW25 -> 0 | BC25: =IF(BB25<>0,1,0) -> 0 | BD25: =IF(BB25>0,1,0) -> 0 | BE25: =AW25*AD25 -> 0 | BF25: =BF24+BE25 -> 362 | BG25: =IF(BE25<>0,1,0) -> 0 | BH25: =IF(BE25>0,1,0) -> 0 | BI25: =AS25*AD25 -> 0 | BJ25: =BJ24+BI25 -> 320 | BK25: =IF(BI25<>0,1,0) -> 0 | BL25: =IF(BI25>0,1,0) -> 0
A26: =IF(D26<>0,1,0) -> 1 | B26: 39524 | C26: 11 | D26: 108.77 | E26: 1 | F26: 109.01 | G26: 98.65 | H26: 109.14 | I26: 98.65 | J26: 108.16 | K26: 101.71 | L26: 0 | M26: 106.79 | N26: =ABS((G26-D26)*100) -> 1012 | O26: =ABS((D26-H26)*100) -> 37 | P26: =((D26-J26)*100) -> 61 | Q26: =IF($E$3<N26,$E$3-$M$3,-O26-$M$3) -> 196 | R26: =R25+Q26 -> 136 | S26: =IF(Q26>0,1,0) -> 1 | T26: =IF(C26>$R$3,IF(C26<$R$4,Q26,0),0) -> 196 | U26: =U25+T26 -> 215 | V26: =IF(T26<>0,1,0) -> 1 | W26: =IF(T26>0,1,0) -> 1 | X26: =IF(N26>$Z$4,1,0) -> 1 | Y26: =IF(E26=0,(F26-D26)*100,(D27-K27)*100) -> 109 | Z26: =IF(N26>=($Z$4+$AA$4),$AA$4-$M$3,IF(N26>=$Z$4,-$Z$4-O26,0)) -> 156 | AA26: =X26*Z26 -> 156 | AB26: =AB25+AA26 -> 219 | AC26: =IF(AA26>0,1,0) -> 1 | AD26: =IF(C26>$R$3,IF(C26<$R$4,1,0),0) -> 1 | AE26: =AA26*AD26 -> 156 | AF26: =AF25+AE26 -> 286 | AG26: =X26*AD26 -> 1 | AH26: =IF(AE26>0,1,0) -> 1 | AI26: 1 | AJ26: =AA26*AI26 -> 156 | AK26: =IF(AJ26>0,1,0) -> 1 | AL26: =AI26*X26 -> 1 | AM26: =AM25+AJ26 -> 268 | AN26: =Z26*X26*AD26*AI26 -> 156 | AO26: =AO25+AN26 -> 335 | AP26: =X26*AD26*AI26 -> 1 | AQ26: =IF(AN26>0,1,0) -> 1 | AR26: 0 | AS26: =AA26*AR26 -> 0 | AT26: =AT25+AS26 -> 253 | AU26: =IF(AS26>0,1,0) -> 0 | AV26: =IF(AS26<>0,1,0) -> 0 | AW26: =AR26*Q26 -> 0 | AX26: =AX25+AW26 -> 321 | AY26: =IF(AW26>0,1,0) -> 0 | AZ26: =IF(AW26<>0,1,0) -> 0 | BA26: 0 | BB26: =BA26*AW26 -> 0 | BC26: =IF(BB26<>0,1,0) -> 0 | BD26: =IF(BB26>0,1,0) -> 0 | BE26: =AW26*AD26 -> 0 | BF26: =BF25+BE26 -> 362 | BG26: =IF(BE26<>0,1,0) -> 0 | BH26: =IF(BE26>0,1,0) -> 0 | BI26: =AS26*AD26 -> 0 | BJ26: =BJ25+BI26 -> 320 | BK26: =IF(BI26<>0,1,0) -> 0 | BL26: =IF(BI26>0,1,0) -> 0
A27: =IF(D27<>0,1,0) -> 1 | B27: 39525 | C27: 16 | D27: 106.79 | E27: 0 | F27: 108.83 | G27: 106.98 | H27: 106.46 | I27: 106.98 | J27: 103.79 | K27: 105.7 | L27: 1 | M27: 106.8 | N27: =ABS((G27-D27)*100) -> 19 | O27: =ABS((D27-H27)*100) -> 33 | P27: =((D27-J27)*100) -> 300 | Q27: =IF($E$3<N27,$E$3-$M$3,-O27-$M$3) -> -37 | R27: =R26+Q27 -> 99 | S27: =IF(Q27>0,1,0) -> 0 | T27: =IF(C27>$R$3,IF(C27<$R$4,Q27,0),0) -> -37 | U27: =U26+T27 -> 178 | V27: =IF(T27<>0,1,0) -> 1 | W27: =IF(T27>0,1,0) -> 0 | X27: =IF(N27>$Z$4,1,0) -> 0 | Y27: =IF(E27=0,(F27-D27)*100,(D28-K28)*100) -> 204 | Z27: =IF(N27>=($Z$4+$AA$4),$AA$4-$M$3,IF(N27>=$Z$4,-$Z$4-O27,0)) -> 0 | AA27: =X27*Z27 -> 0 | AB27: =AB26+AA27 -> 219 | AC27: =IF(AA27>0,1,0) -> 0 | AD27: =IF(C27>$R$3,IF(C27<$R$4,1,0),0) -> 1 | AE27: =AA27*AD27 -> 0 | AF27: =AF26+AE27 -> 286 | AG27: =X27*AD27 -> 0 | AH27: =IF(AE27>0,1,0) -> 0 | AI27: 1 | AJ27: =AA27*AI27 -> 0 | AK27: =IF(AJ27>0,1,0) -> 0 | AL27: =AI27*X27 -> 0 | AM27: =AM26+AJ27 -> 268 | AN27: =Z27*X27*AD27*AI27 -> 0 | AO27: =AO26+AN27 -> 335 | AP27: =X27*AD27*AI27 -> 0 | AQ27: =IF(AN27>0,1,0) -> 0 | AR27: 1 | AS27: =AA27*AR27 -> 0 | AT27: =AT26+AS27 -> 253 | AU27: =IF(AS27>0,1,0) -> 0 | AV27: =IF(AS27<>0,1,0) -> 0 | AW27: =AR27*Q27 -> -37 | AX27: =AX26+AW27 -> 284 | AY27: =IF(AW27>0,1,0) -> 0 | AZ27: =IF(AW27<>0,1,0) -> 1 | BA27: 1 | BB27: =BA27*AW27 -> -37 | BC27: =IF(BB27<>0,1,0) -> 1 | BD27: =IF(BB27>0,1,0) -> 0 | BE27: =AW27*AD27 -> -37 | BF27: =BF26+BE27 -> 325 | BG27: =IF(BE27<>0,1,0) -> 1 | BH27: =IF(BE27>0,1,0) -> 0 | BI27: =AS27*AD27 -> 0 | BJ27: =BJ26+BI27 -> 320 | BK27: =IF(BI27<>0,1,0) -> 0 | BL27: =IF(BI27>0,1,0) -> 0
A28: =IF(D28<>0,1,0) -> 1 | B28: 39526 | C28: 10 | D28: 106.8 | E28: 1 | F28: 107.13 | G28: 98.65 | H28: 107.33 | I28: 98.65 | J28: 108.63 | K28: 98.65 | L28: 0 | M28: 101.31 | N28: =ABS((G28-D28)*100) -> 815 | O28: =ABS((D28-H28)*100) -> 53 | P28: =((D28-J28)*100) -> -183 | Q28: =IF($E$3<N28,$E$3-$M$3,-O28-$M$3) -> 196 | R28: =R27+Q28 -> 295 | S28: =IF(Q28>0,1,0) -> 1 | T28: =IF(C28>$R$3,IF(C28<$R$4,Q28,0),0) -> 196 | U28: =U27+T28 -> 374 | V28: =IF(T28<>0,1,0) -> 1 | W28: =IF(T28>0,1,0) -> 1 | X28: =IF(N28>$Z$4,1,0) -> 1 | Y28: =IF(E28=0,(F28-D28)*100,(D29-K29)*100) -> 48 | Z28: =IF(N28>=($Z$4+$AA$4),$AA$4-$M$3,IF(N28>=$Z$4,-$Z$4-O28,0)) -> 156 | AA28: =X28*Z28 -> 156 | AB28: =AB27+AA28 -> 375 | AC28: =IF(AA28>0,1,0) -> 1 | AD28: =IF(C28>$R$3,IF(C28<$R$4,1,0),0) -> 1 | AE28: =AA28*AD28 -> 156 | AF28: =AF27+AE28 -> 442 | AG28: =X28*AD28 -> 1 | AH28: =IF(AE28>0,1,0) -> 1 | AI28: 1 | AJ28: =AA28*AI28 -> 156 | AK28: =IF(AJ28>0,1,0) -> 1 | AL28: =AI28*X28 -> 1 | AM28: =AM27+AJ28 -> 424 | AN28: =Z28*X28*AD28*AI28 -> 156 | AO28: =AO27+AN28 -> 491 | AP28: =X28*AD28*AI28 -> 1 | AQ28: =IF(AN28>0,1,0) -> 1 | AR28: 0 | AS28: =AA28*AR28 -> 0 | AT28: =AT27+AS28 -> 253 | AU28: =IF(AS28>0,1,0) -> 0 | AV28: =IF(AS28<>0,1,0) -> 0 | AW28: =AR28*Q28 -> 0 | AX28: =AX27+AW28 -> 284 | AY28: =IF(AW28>0,1,0) -> 0 | AZ28: =IF(AW28<>0,1,0) -> 0 | BA28: 1 | BB28: =BA28*AW28 -> 0 | BC28: =IF(BB28<>0,1,0) -> 0 | BD28: =IF(BB28>0,1,0) -> 0 | BE28: =AW28*AD28 -> 0 | BF28: =BF27+BE28 -> 325 | BG28: =IF(BE28<>0,1,0) -> 0 | BH28: =IF(BE28>0,1,0) -> 0 | BI28: =AS28*AD28 -> 0 | BJ28: =BJ27+BI28 -> 320 | BK28: =IF(BI28<>0,1,0) -> 0 | BL28: =IF(BI28>0,1,0) -> 0
A29: =IF(D29<>0,1,0) -> 1 | B29: 39532 | C29: 11 | D29: 101.31 | E29: 0 | F29: 101.54 | G29: 101.54 | H29: 100.37 | I29: 101.54 | J29: 99.66 | K29: 100.83 | L29: 0 | M29: 100.86 | N29: =ABS((G29-D29)*100) -> 23 | O29: =ABS((D29-H29)*100) -> 94 | P29: =((D29-J29)*100) -> 165 | Q29: =IF($E$3<N29,$E$3-$M$3,-O29-$M$3) -> -98 | R29: =R28+Q29 -> 197 | S29: =IF(Q29>0,1,0) -> 0 | T29: =IF(C29>$R$3,IF(C29<$R$4,Q29,0),0) -> -98 | U29: =U28+T29 -> 276 | V29: =IF(T29<>0,1,0) -> 1 | W29: =IF(T29>0,1,0) -> 0 | X29: =IF(N29>$Z$4,1,0) -> 0 | Y29: =IF(E29=0,(F29-D29)*100,(D30-K30)*100) -> 23 | Z29: =IF(N29>=($Z$4+$AA$4),$AA$4-$M$3,IF(N29>=$Z$4,-$Z$4-O29,0)) -> 0 | AA29: =X29*Z29 -> 0 | AB29: =AB28+AA29 -> 375 | AC29: =IF(AA29>0,1,0) -> 0 | AD29: =IF(C29>$R$3,IF(C29<$R$4,1,0),0) -> 1 | AE29: =AA29*AD29 -> 0 | AF29: =AF28+AE29 -> 442 | AG29: =X29*AD29 -> 0 | AH29: =IF(AE29>0,1,0) -> 0 | AI29: 1 | AJ29: =AA29*AI29 -> 0 | AK29: =IF(AJ29>0,1,0) -> 0 | AL29: =AI29*X29 -> 0 | AM29: =AM28+AJ29 -> 424 | AN29: =Z29*X29*AD29*AI29 -> 0 | AO29: =AO28+AN29 -> 491 | AP29: =X29*AD29*AI29 -> 0 | AQ29: =IF(AN29>0,1,0) -> 0 | AR29: 0 | AS29: =AA29*AR29 -> 0 | AT29: =AT28+AS29 -> 253 | AU29: =IF(AS29>0,1,0) -> 0 | AV29: =IF(AS29<>0,1,0) -> 0 | AW29: =AR29*Q29 -> 0 | AX29: =AX28+AW29 -> 284 | AY29: =IF(AW29>0,1,0) -> 0 | AZ29: =IF(AW29<>0,1,0) -> 0 | BA29: 1 | BB29: =BA29*AW29 -> 0 | BC29: =IF(BB29<>0,1,0) -> 0 | BD29: =IF(BB29>0,1,0) -> 0 | BE29: =AW29*AD29 -> 0 | BF29: =BF28+BE29 -> 325 | BG29: =IF(BE29<>0,1,0) -> 0 | BH29: =IF(BE29>0,1,0) -> 0 | BI29: =AS29*AD29 -> 0 | BJ29: =BJ28+BI29 -> 320 | BK29: =IF(BI29<>0,1,0) -> 0 | BL29: =IF(BI29>0,1,0) -> 0
A30: =IF(D30<>0,1,0) -> 1 | B30: 39532 | C30: 12 | D30: 100.86 | E30: 1 | F30: 101.25 | G30: 99.1 | H30: 101.54 | I30: 99.1 | J30: 99.66 | K30: 99.1 | L30: 0 | M30: 101.58 | N30: =ABS((G30-D30)*100) -> 176 | O30: =ABS((D30-H30)*100) -> 68 | P30: =((D30-J30)*100) -> 120 | Q30: =IF($E$3<N30,$E$3-$M$3,-O30-$M$3) -> -72 | R30: =R29+Q30 -> 125 | S30: =IF(Q30>0,1,0) -> 0 | T30: =IF(C30>$R$3,IF(C30<$R$4,Q30,0),0) -> -72 | U30: =U29+T30 -> 204 | V30: =IF(T30<>0,1,0) -> 1 | W30: =IF(T30>0,1,0) -> 0 | X30: =IF(N30>$Z$4,1,0) -> 1 | Y30: =IF(E30=0,(F30-D30)*100,(D31-K31)*100) -> 25 | Z30: =IF(N30>=($Z$4+$AA$4),$AA$4-$M$3,IF(N30>=$Z$4,-$Z$4-O30,0)) -> -98 | AA30: =X30*Z30 -> -98 | AB30: =AB29+AA30 -> 277 | AC30: =IF(AA30>0,1,0) -> 0 | AD30: =IF(C30>$R$3,IF(C30<$R$4,1,0),0) -> 1 | AE30: =AA30*AD30 -> -98 | AF30: =AF29+AE30 -> 344 | AG30: =X30*AD30 -> 1 | AH30: =IF(AE30>0,1,0) -> 0 | AI30: 0 | AJ30: =AA30*AI30 -> 0 | AK30: =IF(AJ30>0,1,0) -> 0 | AL30: =AI30*X30 -> 0 | AM30: =AM29+AJ30 -> 424 | AN30: =Z30*X30*AD30*AI30 -> 0 | AO30: =AO29+AN30 -> 491 | AP30: =X30*AD30*AI30 -> 0 | AQ30: =IF(AN30>0,1,0) -> 0 | AR30: 1 | AS30: =AA30*AR30 -> -98 | AT30: =AT29+AS30 -> 155 | AU30: =IF(AS30>0,1,0) -> 0 | AV30: =IF(AS30<>0,1,0) -> 1 | AW30: =AR30*Q30 -> -72 | AX30: =AX29+AW30 -> 212 | AY30: =IF(AW30>0,1,0) -> 0 | AZ30: =IF(AW30<>0,1,0) -> 1 | BA30: 0 | BB30: =BA30*AW30 -> 0 | BC30: =IF(BB30<>0,1,0) -> 0 | BD30: =IF(BB30>0,1,0) -> 0 | BE30: =AW30*AD30 -> -72 | BF30: =BF29+BE30 -> 253 | BG30: =IF(BE30<>0,1,0) -> 1 | BH30: =IF(BE30>0,1,0) -> 0 | BI30: =AS30*AD30 -> -98 | BJ30: =BJ29+BI30 -> 222 | BK30: =IF(BI30<>0,1,0) -> 1 | BL30: =IF(BI30>0,1,0) -> 0
A31: =IF(D31<>0,1,0) -> 1 | B31: 39532 | C31: 18 | D31: 101.58 | E31: 0 | F31: 108.16 | G31: 108.16 | H31: 100.16 | I31: 108.16 | J31: 99.1 | K31: 101.33 | L31: 1 | M31: 104.91 | N31: =ABS((G31-D31)*100) -> 658 | O31: =ABS((D31-H31)*100) -> 142 | P31: =((D31-J31)*100) -> 248 | Q31: =IF($E$3<N31,$E$3-$M$3,-O31-$M$3) -> 196 | R31: =R30+Q31 -> 321 | S31: =IF(Q31>0,1,0) -> 1 | T31: =IF(C31>$R$3,IF(C31<$R$4,Q31,0),0) -> 0 | U31: =U30+T31 -> 204 | V31: =IF(T31<>0,1,0) -> 0 | W31: =IF(T31>0,1,0) -> 0 | X31: =IF(N31>$Z$4,1,0) -> 1 | Y31: =IF(E31=0,(F31-D31)*100,(D32-K32)*100) -> 658 | Z31: =IF(N31>=($Z$4+$AA$4),$AA$4-$M$3,IF(N31>=$Z$4,-$Z$4-O31,0)) -> 156 | AA31: =X31*Z31 -> 156 | AB31: =AB30+AA31 -> 433 | AC31: =IF(AA31>0,1,0) -> 1 | AD31: =IF(C31>$R$3,IF(C31<$R$4,1,0),0) -> 0 | AE31: =AA31*AD31 -> 0 | AF31: =AF30+AE31 -> 344 | AG31: =X31*AD31 -> 0 | AH31: =IF(AE31>0,1,0) -> 0 | AI31: 1 | AJ31: =AA31*AI31 -> 156 | AK31: =IF(AJ31>0,1,0) -> 1 | AL31: =AI31*X31 -> 1 | AM31: =AM30+AJ31 -> 580 | AN31: =Z31*X31*AD31*AI31 -> 0 | AO31: =AO30+AN31 -> 491 | AP31: =X31*AD31*AI31 -> 0 | AQ31: =IF(AN31>0,1,0) -> 0 | AR31: 0 | AS31: =AA31*AR31 -> 0 | AT31: =AT30+AS31 -> 155 | AU31: =IF(AS31>0,1,0) -> 0 | AV31: =IF(AS31<>0,1,0) -> 0 | AW31: =AR31*Q31 -> 0 | AX31: =AX30+AW31 -> 212 | AY31: =IF(AW31>0,1,0) -> 0 | AZ31: =IF(AW31<>0,1,0) -> 0 | BA31: 1 | BB31: =BA31*AW31 -> 0 | BC31: =IF(BB31<>0,1,0) -> 0 | BD31: =IF(BB31>0,1,0) -> 0 | BE31: =AW31*AD31 -> 0 | BF31: =BF30+BE31 -> 253 | BG31: =IF(BE31<>0,1,0) -> 0 | BH31: =IF(BE31>0,1,0) -> 0 | BI31: =AS31*AD31 -> 0 | BJ31: =BJ30+BI31 -> 222 | BK31: =IF(BI31<>0,1,0) -> 0 | BL31: =IF(BI31>0,1,0) -> 0
A32: =IF(D32<>0,1,0) -> 1 | B32: 39535 | C32: 15 | D32: 104.91 | E32: 1 | F32: 106.01 | G32: 104.32 | H32: 106.04 | I32: 99.1 | J32: 107.63 | K32: 104.32 | L32: 0 | M32: 105.37 | N32: =ABS((G32-D32)*100) -> 59 | O32: =ABS((D32-H32)*100) -> 113 | P32: =((D32-J32)*100) -> -272 | Q32: =IF($E$3<N32,$E$3-$M$3,-O32-$M$3) -> -117 | R32: =R31+Q32 -> 204 | S32: =IF(Q32>0,1,0) -> 0 | T32: =IF(C32>$R$3,IF(C32<$R$4,Q32,0),0) -> -117 | U32: =U31+T32 -> 87 | V32: =IF(T32<>0,1,0) -> 1 | W32: =IF(T32>0,1,0) -> 0 | X32: =IF(N32>$Z$4,1,0) -> 1 | Y32: =IF(E32=0,(F32-D32)*100,(D33-K33)*100) -> 378 | Z32: =IF(N32>=($Z$4+$AA$4),$AA$4-$M$3,IF(N32>=$Z$4,-$Z$4-O32,0)) -> -143 | AA32: =X32*Z32 -> -143 | AB32: =AB31+AA32 -> 290 | AC32: =IF(AA32>0,1,0) -> 0 | AD32: =IF(C32>$R$3,IF(C32<$R$4,1,0),0) -> 1 | AE32: =AA32*AD32 -> -143 | AF32: =AF31+AE32 -> 201 | AG32: =X32*AD32 -> 1 | AH32: =IF(AE32>0,1,0) -> 0 | AI32: 1 | AJ32: =AA32*AI32 -> -143 | AK32: =IF(AJ32>0,1,0) -> 0 | AL32: =AI32*X32 -> 1 | AM32: =AM31+AJ32 -> 437 | AN32: =Z32*X32*AD32*AI32 -> -143 | AO32: =AO31+AN32 -> 348 | AP32: =X32*AD32*AI32 -> 1 | AQ32: =IF(AN32>0,1,0) -> 0 | AR32: 0 | AS32: =AA32*AR32 -> 0 | AT32: =AT31+AS32 -> 155 | AU32: =IF(AS32>0,1,0) -> 0 | AV32: =IF(AS32<>0,1,0) -> 0 | AW32: =AR32*Q32 -> 0 | AX32: =AX31+AW32 -> 212 | AY32: =IF(AW32>0,1,0) -> 0 | AZ32: =IF(AW32<>0,1,0) -> 0 | BA32: 1 | BB32: =BA32*AW32 -> 0 | BC32: =IF(BB32<>0,1,0) -> 0 | BD32: =IF(BB32>0,1,0) -> 0 | BE32: =AW32*AD32 -> 0 | BF32: =BF31+BE32 -> 253 | BG32: =IF(BE32<>0,1,0) -> 0 | BH32: =IF(BE32>0,1,0) -> 0 | BI32: =AS32*AD32 -> 0 | BJ32: =BJ31+BI32 -> 222 | BK32: =IF(BI32<>0,1,0) -> 0 | BL32: =IF(BI32>0,1,0) -> 0
... A78: =IF(D78<>0,1,0) -> 1 | B78: 39602 | C78: 11 | D78: 126.83 | E78: 1 | F78: 127.93 | G78: 126.47 | H78: 127.71 | I78: 121.6 | J78: 128.91 | K78: 121.6 | L78: 0 | M78: 123.85 | N78: =ABS((G78-D78)*100) -> 36 | O78: =ABS((D78-H78)*100) -> 88 | P78: =((D78-J78)*100) -> -208 | Q78: =IF($E$3<N78,$E$3-$M$3,-O78-$M$3) -> -92 | R78: =R77+Q78 -> 927 | S78: =IF(Q78>0,1,0) -> 0 | T78: =IF(C78>$R$3,IF(C78<$R$4,Q78,0),0) -> -92 | U78: =U77+T78 -> 1080 | V78: =IF(T78<>0,1,0) -> 1 | W78: =IF(T78>0,1,0) -> 0 | X78: =IF(N78>$Z$4,1,0) -> 1 | Y78: =IF(E78=0,(F78-D78)*100,(D79-K79)*100) -> 110 | Z78: =IF(N78>=($Z$4+$AA$4),$AA$4-$M$3,IF(N78>=$Z$4,-$Z$4-O78,0)) -> -118 | AA78: =X78*Z78 -> -118 | AB78: =AB77+AA78 -> 477 | AC78: =IF(AA78>0,1,0) -> 0 | AD78: =IF(C78>$R$3,IF(C78<$R$4,1,0),0) -> 1 | AE78: =AA78*AD78 -> -118 | AF78: =AF77+AE78 -> 570 | AG78: =X78*AD78 -> 1 | AH78: =IF(AE78>0,1,0) -> 0 | AI78: 1 | AJ78: =AA78*AI78 -> -118 | AK78: =IF(AJ78>0,1,0) -> 0 | AL78: =AI78*X78 -> 1 | AM78: =AM77+AJ78 -> 468 | AN78: =Z78*X78*AD78*AI78 -> -118 | AO78: =AO77+AN78 -> 561 | AP78: =X78*AD78*AI78 -> 1 | AQ78: =IF(AN78>0,1,0) -> 0 | AR78: 1 | AS78: =AA78*AR78 -> -118 | AT78: =AT77+AS78 -> 1139 | AU78: =IF(AS78>0,1,0) -> 0 | AV78: =IF(AS78<>0,1,0) -> 1 | AW78: =AR78*Q78 -> -92 | AX78: =AX77+AW78 -> 1711 | AY78: =IF(AW78>0,1,0) -> 0 | AZ78: =IF(AW78<>0,1,0) -> 1 | BA78: 1 | BB78: =BA78*AW78 -> -92 | BC78: =IF(BB78<>0,1,0) -> 1 | BD78: =IF(BB78>0,1,0) -> 0 | BE78: =AW78*AD78 -> -92 | BF78: =BF77+BE78 -> 1588 | BG78: =IF(BE78<>0,1,0) -> 1 | BH78: =IF(BE78>0,1,0) -> 0 | BI78: =AS78*AD78 -> -118 | BJ78: =BJ77+BI78 -> 1050 | BK78: =IF(BI78<>0,1,0) -> 1 | BL78: =IF(BI78>0,1,0) -> 0
A79: =IF(D79<>0,1,0) -> 1 | B79: 39604 | C79: 13 | D79: 123.85 | E79: 0 | F79: 123.94 | G79: 139.08 | H79: 122.54 | I79: 139.08 | J79: 121.6 | K79: 122.75 | L79: 0 | M79: 122.75 | N79: =ABS((G79-D79)*100) -> 1523 | O79: =ABS((D79-H79)*100) -> 131 | P79: =((D79-J79)*100) -> 225 | Q79: =IF($E$3<N79,$E$3-$M$3,-O79-$M$3) -> 196 | R79: =R78+Q79 -> 1123 | S79: =IF(Q79>0,1,0) -> 1 | T79: =IF(C79>$R$3,IF(C79<$R$4,Q79,0),0) -> 196 | U79: =U78+T79 -> 1276 | V79: =IF(T79<>0,1,0) -> 1 | W79: =IF(T79>0,1,0) -> 1 | X79: 0 | Y79: =IF(E79=0,(F79-D79)*100,(D80-K80)*100) -> 9 | Z79: 0 | AA79: =X79*Z79 -> 0 | AB79: =AB78+AA79 -> 477 | AC79: =IF(AA79>0,1,0) -> 0 | AD79: =IF(C79>$R$3,IF(C79<$R$4,1,0),0) -> 1 | AE79: =AA79*AD79 -> 0 | AF79: =AF78+AE79 -> 570 | AG79: =X79*AD79 -> 0 | AH79: =IF(AE79>0,1,0) -> 0 | AI79: 1 | AJ79: =AA79*AI79 -> 0 | AK79: =IF(AJ79>0,1,0) -> 0 | AL79: =AI79*X79 -> 0 | AM79: =AM78+AJ79 -> 468 | AN79: =Z79*X79*AD79*AI79 -> 0 | AO79: =AO78+AN79 -> 561 | AP79: =X79*AD79*AI79 -> 0 | AQ79: =IF(AN79>0,1,0) -> 0 | AR79: 0 | AS79: =AA79*AR79 -> 0 | AT79: =AT78+AS79 -> 1139 | AU79: =IF(AS79>0,1,0) -> 0 | AV79: =IF(AS79<>0,1,0) -> 0 | AW79: =AR79*Q79 -> 0 | AX79: =AX78+AW79 -> 1711 | AY79: =IF(AW79>0,1,0) -> 0 | AZ79: =IF(AW79<>0,1,0) -> 0 | BA79: 1 | BB79: =BA79*AW79 -> 0 | BC79: =IF(BB79<>0,1,0) -> 0 | BD79: =IF(BB79>0,1,0) -> 0 | BE79: =AW79*AD79 -> 0 | BF79: =BF78+BE79 -> 1588 | BG79: =IF(BE79<>0,1,0) -> 0 | BH79: =IF(BE79>0,1,0) -> 0 | BI79: =AS79*AD79 -> 0 | BJ79: =BJ78+BI79 -> 1050 | BK79: =IF(BI79<>0,1,0) -> 0 | BL79: =IF(BI79>0,1,0) -> 0
A80: =IF(D80<>0,1,0) -> 1 | B80: 39604 | C80: 14 | D80: 122.75 | E80: 1 | F80: 124.06 | G80: 122.71 | H80: 123.94 | I80: 122.71 | J80: 121.65 | K80: 122.71 | L80: 1 | M80: 123.86 | N80: =ABS((G80-D80)*100) -> 4 | O80: =ABS((D80-H80)*100) -> 119 | P80: =((D80-J80)*100) -> 110 | Q80: =IF($E$3<N80,$E$3-$M$3,-O80-$M$3) -> -123 | R80: =R79+Q80 -> 1000 | S80: =IF(Q80>0,1,0) -> 0 | T80: =IF(C80>$R$3,IF(C80<$R$4,Q80,0),0) -> -123 | U80: =U79+T80 -> 1153 | V80: =IF(T80<>0,1,0) -> 1 | W80: =IF(T80>0,1,0) -> 0 | X80: =IF(N80>$Z$4,1,0) -> 0 | Y80: =IF(E80=0,(F80-D80)*100,(D81-K81)*100) -> 22 | Z80: =IF(N80>=($Z$4+$AA$4),$AA$4-$M$3,IF(N80>=$Z$4,-$Z$4-O80,0)) -> 0 | AA80: =X80*Z80 -> 0 | AB80: =AB79+AA80 -> 477 | AC80: =IF(AA80>0,1,0) -> 0 | AD80: =IF(C80>$R$3,IF(C80<$R$4,1,0),0) -> 1 | AE80: =AA80*AD80 -> 0 | AF80: =AF79+AE80 -> 570 | AG80: =X80*AD80 -> 0 | AH80: =IF(AE80>0,1,0) -> 0 | AI80: 1 | AJ80: =AA80*AI80 -> 0 | AK80: =IF(AJ80>0,1,0) -> 0 | AL80: =AI80*X80 -> 0 | AM80: =AM79+AJ80 -> 468 | AN80: =Z80*X80*AD80*AI80 -> 0 | AO80: =AO79+AN80 -> 561 | AP80: =X80*AD80*AI80 -> 0 | AQ80: =IF(AN80>0,1,0) -> 0 | AR80: 1 | AS80: =AA80*AR80 -> 0 | AT80: =AT79+AS80 -> 1139 | AU80: =IF(AS80>0,1,0) -> 0 | AV80: =IF(AS80<>0,1,0) -> 0 | AW80: =AR80*Q80 -> -123 | AX80: =AX79+AW80 -> 1588 | AY80: =IF(AW80>0,1,0) -> 0 | AZ80: =IF(AW80<>0,1,0) -> 1 | BA80: 0 | BB80: =BA80*AW80 -> 0 | BC80: =IF(BB80<>0,1,0) -> 0 | BD80: =IF(BB80>0,1,0) -> 0 | BE80: =AW80*AD80 -> -123 | BF80: =BF79+BE80 -> 1465 | BG80: =IF(BE80<>0,1,0) -> 1 | BH80: =IF(BE80>0,1,0) -> 0 | BI80: =AS80*AD80 -> 0 | BJ80: =BJ79+BI80 -> 1050 | BK80: =IF(BI80<>0,1,0) -> 0 | BL80: =IF(BI80>0,1,0) -> 0
A81: =IF(D81<>0,1,0) -> 1 | B81: 39604 | C81: 15 | D81: 123.86 | E81: 0 | F81: 139.08 | G81: 139.08 | H81: 122.71 | I81: 139.08 | J81: 121.71 | K81: 123.64 | L81: 1 | M81: 133.56 | N81: =ABS((G81-D81)*100) -> 1522 | O81: =ABS((D81-H81)*100) -> 115 | P81: =((D81-J81)*100) -> 215 | Q81: =IF($E$3<N81,$E$3-$M$3,-O81-$M$3) -> 196 | R81: =R80+Q81 -> 1196 | S81: =IF(Q81>0,1,0) -> 1 | T81: =IF(C81>$R$3,IF(C81<$R$4,Q81,0),0) -> 196 | U81: =U80+T81 -> 1349 | V81: =IF(T81<>0,1,0) -> 1 | W81: =IF(T81>0,1,0) -> 1 | X81: =IF(N81>$Z$4,1,0) -> 1 | Y81: =IF(E81=0,(F81-D81)*100,(D82-K82)*100) -> 1522 | Z81: =IF(N81>=($Z$4+$AA$4),$AA$4-$M$3,IF(N81>=$Z$4,-$Z$4-O81,0)) -> 156 | AA81: =X81*Z81 -> 156 | AB81: =AB80+AA81 -> 633 | AC81: =IF(AA81>0,1,0) -> 1 | AD81: =IF(C81>$R$3,IF(C81<$R$4,1,0),0) -> 1 | AE81: =AA81*AD81 -> 156 | AF81: =AF80+AE81 -> 726 | AG81: =X81*AD81 -> 1 | AH81: =IF(AE81>0,1,0) -> 1 | AI81: 1 | AJ81: =AA81*AI81 -> 156 | AK81: =IF(AJ81>0,1,0) -> 1 | AL81: =AI81*X81 -> 1 | AM81: =AM80+AJ81 -> 624 | AN81: =Z81*X81*AD81*AI81 -> 156 | AO81: =AO80+AN81 -> 717 | AP81: =X81*AD81*AI81 -> 1 | AQ81: =IF(AN81>0,1,0) -> 1 | AR81: 0 | AS81: =AA81*AR81 -> 0 | AT81: =AT80+AS81 -> 1139 | AU81: =IF(AS81>0,1,0) -> 0 | AV81: =IF(AS81<>0,1,0) -> 0 | AW81: =AR81*Q81 -> 0 | AX81: =AX80+AW81 -> 1588 | AY81: =IF(AW81>0,1,0) -> 0 | AZ81: =IF(AW81<>0,1,0) -> 0 | BA81: 1 | BB81: =BA81*AW81 -> 0 | BC81: =IF(BB81<>0,1,0) -> 0 | BD81: =IF(BB81>0,1,0) -> 0 | BE81: =AW81*AD81 -> 0 | BF81: =BF80+BE81 -> 1465 | BG81: =IF(BE81<>0,1,0) -> 0 | BH81: =IF(BE81>0,1,0) -> 0 | BI81: =AS81*AD81 -> 0 | BJ81: =BJ80+BI81 -> 1050 | BK81: =IF(BI81<>0,1,0) -> 0 | BL81: =IF(BI81>0,1,0) -> 0
A82: =IF(D82<>0,1,0) -> 1 | B82: 39609 | C82: 7 | D82: 133.56 | E82: 1 | F82: 134.71 | G82: 133.4 | H82: 134.71 | I82: 133.4 | J82: 133.26 | K82: 133.4 | L82: 1 | M82: 134.15 | N82: =ABS((G82-D82)*100) -> 16 | O82: =ABS((D82-H82)*100) -> 115 | P82: =((D82-J82)*100) -> 30 | Q82: =IF($E$3<N82,$E$3-$M$3,-O82-$M$3) -> -119 | R82: =R81+Q82 -> 1077 | S82: =IF(Q82>0,1,0) -> 0 | T82: =IF(C82>$R$3,IF(C82<$R$4,Q82,0),0) -> -119 | U82: =U81+T82 -> 1230 | V82: =IF(T82<>0,1,0) -> 1 | W82: =IF(T82>0,1,0) -> 0 | X82: =IF(N82>$Z$4,1,0) -> 0 | Y82: =IF(E82=0,(F82-D82)*100,(D83-K83)*100) -> 110 | Z82: =IF(N82>=($Z$4+$AA$4),$AA$4-$M$3,IF(N82>=$Z$4,-$Z$4-O82,0)) -> 0 | AA82: =X82*Z82 -> 0 | AB82: =AB81+AA82 -> 633 | AC82: =IF(AA82>0,1,0) -> 0 | AD82: =IF(C82>$R$3,IF(C82<$R$4,1,0),0) -> 1 | AE82: =AA82*AD82 -> 0 | AF82: =AF81+AE82 -> 726 | AG82: =X82*AD82 -> 0 | AH82: =IF(AE82>0,1,0) -> 0 | AI82: 1 | AJ82: =AA82*AI82 -> 0 | AK82: =IF(AJ82>0,1,0) -> 0 | AL82: =AI82*X82 -> 0 | AM82: =AM81+AJ82 -> 624 | AN82: =Z82*X82*AD82*AI82 -> 0 | AO82: =AO81+AN82 -> 717 | AP82: =X82*AD82*AI82 -> 0 | AQ82: =IF(AN82>0,1,0) -> 0 | AR82: 0 | AS82: =AA82*AR82 -> 0 | AT82: =AT81+AS82 -> 1139 | AU82: =IF(AS82>0,1,0) -> 0 | AV82: =IF(AS82<>0,1,0) -> 0 | AW82: =AR82*Q82 -> 0 | AX82: =AX81+AW82 -> 1588 | AY82: =IF(AW82>0,1,0) -> 0 | AZ82: =IF(AW82<>0,1,0) -> 0 | BA82: 0 | BB82: =BA82*AW82 -> 0 | BC82: =IF(BB82<>0,1,0) -> 0 | BD82: =IF(BB82>0,1,0) -> 0 | BE82: =AW82*AD82 -> 0 | BF82: =BF81+BE82 -> 1465 | BG82: =IF(BE82<>0,1,0) -> 0 | BH82: =IF(BE82>0,1,0) -> 0 | BI82: =AS82*AD82 -> 0 | BJ82: =BJ81+BI82 -> 1050 | BK82: =IF(BI82<>0,1,0) -> 0 | BL82: =IF(BI82>0,1,0) -> 0
A83: =IF(D83<>0,1,0) -> 1 | B83: 39609 | C83: 9 | D83: 134.15 | E83: 0 | F83: 137.93 | G83: 137.93 | H83: 133.45 | I83: 137.93 | J83: 133.38 | K83: 133.05 | L83: 0 | M83: 133.65 | N83: =ABS((G83-D83)*100) -> 378 | O83: =ABS((D83-H83)*100) -> 70 | P83: =((D83-J83)*100) -> 77 | Q83: =IF($E$3<N83,$E$3-$M$3,-O83-$M$3) -> 196 | R83: =R82+Q83 -> 1273 | S83: =IF(Q83>0,1,0) -> 1 | T83: =IF(C83>$R$3,IF(C83<$R$4,Q83,0),0) -> 196 | U83: =U82+T83 -> 1426 | V83: =IF(T83<>0,1,0) -> 1 | W83: =IF(T83>0,1,0) -> 1 | X83: =IF(N83>$Z$4,1,0) -> 1 | Y83: =IF(E83=0,(F83-D83)*100,(D84-K84)*100) -> 378 | Z83: =IF(N83>=($Z$4+$AA$4),$AA$4-$M$3,IF(N83>=$Z$4,-$Z$4-O83,0)) -> 156 | AA83: =X83*Z83 -> 156 | AB83: =AB82+AA83 -> 789 | AC83: =IF(AA83>0,1,0) -> 1 | AD83: =IF(C83>$R$3,IF(C83<$R$4,1,0),0) -> 1 | AE83: =AA83*AD83 -> 156 | AF83: =AF82+AE83 -> 882 | AG83: =X83*AD83 -> 1 | AH83: =IF(AE83>0,1,0) -> 1 | AI83: 0 | AJ83: =AA83*AI83 -> 0 | AK83: =IF(AJ83>0,1,0) -> 0 | AL83: =AI83*X83 -> 0 | AM83: =AM82+AJ83 -> 624 | AN83: =Z83*X83*AD83*AI83 -> 0 | AO83: =AO82+AN83 -> 717 | AP83: =X83*AD83*AI83 -> 0 | AQ83: =IF(AN83>0,1,0) -> 0 | AR83: 1 | AS83: =AA83*AR83 -> 156 | AT83: =AT82+AS83 -> 1295 | AU83: =IF(AS83>0,1,0) -> 1 | AV83: =IF(AS83<>0,1,0) -> 1 | AW83: =AR83*Q83 -> 196 | AX83: =AX82+AW83 -> 1784 | AY83: =IF(AW83>0,1,0) -> 1 | AZ83: =IF(AW83<>0,1,0) -> 1 | BA83: 1 | BB83: =BA83*AW83 -> 196 | BC83: =IF(BB83<>0,1,0) -> 1 | BD83: =IF(BB83>0,1,0) -> 1 | BE83: =AW83*AD83 -> 196 | BF83: =BF82+BE83 -> 1661 | BG83: =IF(BE83<>0,1,0) -> 1 | BH83: =IF(BE83>0,1,0) -> 1 | BI83: =AS83*AD83 -> 156 | BJ83: =BJ82+BI83 -> 1206 | BK83: =IF(BI83<>0,1,0) -> 1 | BL83: =IF(BI83>0,1,0) -> 1
A84: =IF(D84<>0,1,0) -> 1 | B84: 39609 | C84: 15 | D84: 133.65 | E84: 1 | F84: 134.55 | G84: 130.76 | H84: 136.18 | I84: 130.76 | J84: 137.93 | K84: 130.76 | L84: 0 | M84: 133.79 | N84: =ABS((G84-D84)*100) -> 289 | O84: =ABS((D84-H84)*100) -> 253 | P84: =((D84-J84)*100) -> -428 | Q84: =IF($E$3<N84,$E$3-$M$3,-O84-$M$3) -> 196 | R84: =R83+Q84 -> 1469 | S84: =IF(Q84>0,1,0) -> 1 | T84: =IF(C84>$R$3,IF(C84<$R$4,Q84,0),0) -> 196 | U84: =U83+T84 -> 1622 | V84: =IF(T84<>0,1,0) -> 1 | W84: =IF(T84>0,1,0) -> 1 | X84: =IF(N84>$Z$4,1,0) -> 1 | Y84: =IF(E84=0,(F84-D84)*100,(D85-K85)*100) -> 100 | Z84: =IF(N84>=($Z$4+$AA$4),$AA$4-$M$3,IF(N84>=$Z$4,-$Z$4-O84,0)) -> 156 | AA84: =X84*Z84 -> 156 | AB84: =AB83+AA84 -> 945 | AC84: =IF(AA84>0,1,0) -> 1 | AD84: =IF(C84>$R$3,IF(C84<$R$4,1,0),0) -> 1 | AE84: =AA84*AD84 -> 156 | AF84: =AF83+AE84 -> 1038 | AG84: =X84*AD84 -> 1 | AH84: =IF(AE84>0,1,0) -> 1 | AI84: 1 | AJ84: =AA84*AI84 -> 156 | AK84: =IF(AJ84>0,1,0) -> 1 | AL84: =AI84*X84 -> 1 | AM84: =AM83+AJ84 -> 780 | AN84: =Z84*X84*AD84*AI84 -> 156 | AO84: =AO83+AN84 -> 873 | AP84: =X84*AD84*AI84 -> 1 | AQ84: =IF(AN84>0,1,0) -> 1 | AR84: 0 | AS84: =AA84*AR84 -> 0 | AT84: =AT83+AS84 -> 1295 | AU84: =IF(AS84>0,1,0) -> 0 | AV84: =IF(AS84<>0,1,0) -> 0 | AW84: =AR84*Q84 -> 0 | AX84: =AX83+AW84 -> 1784 | AY84: =IF(AW84>0,1,0) -> 0 | AZ84: =IF(AW84<>0,1,0) -> 0 | BA84: 1 | BB84: =BA84*AW84 -> 0 | BC84: =IF(BB84<>0,1,0) -> 0 | BD84: =IF(BB84>0,1,0) -> 0 | BE84: =AW84*AD84 -> 0 | BF84: =BF83+BE84 -> 1661 | BG84: =IF(BE84<>0,1,0) -> 0 | BH84: =IF(BE84>0,1,0) -> 0 | BI84: =AS84*AD84 -> 0 | BJ84: =BJ83+BI84 -> 1206 | BK84: =IF(BI84<>0,1,0) -> 0 | BL84: =IF(BI84>0,1,0) -> 0
A85: =IF(D85<>0,1,0) -> 1 | B85: 39610 | C85: 9 | D85: 133.79 | E85: 0 | F85: 133.85 | G85: 133.85 | H85: 132.89 | I85: 138.27 | J85: 130.76 | K85: 132.79 | L85: 0 | M85: 132.93 | N85: =ABS((G85-D85)*100) -> 6 | O85: =ABS((D85-H85)*100) -> 90 | P85: =((D85-J85)*100) -> 303 | Q85: =IF($E$3<N85,$E$3-$M$3,-O85-$M$3) -> -94 | R85: =R84+Q85 -> 1375 | S85: =IF(Q85>0,1,0) -> 0 | T85: =IF(C85>$R$3,IF(C85<$R$4,Q85,0),0) -> -94 | U85: =U84+T85 -> 1528 | V85: =IF(T85<>0,1,0) -> 1 | W85: =IF(T85>0,1,0) -> 0 | X85: =IF(N85>$Z$4,1,0) -> 0 | Y85: =IF(E85=0,(F85-D85)*100,(D86-K86)*100) -> 6 | Z85: =IF(N85>=($Z$4+$AA$4),$AA$4-$M$3,IF(N85>=$Z$4,-$Z$4-O85,0)) -> 0 | AA85: =X85*Z85 -> 0 | AB85: =AB84+AA85 -> 945 | AC85: =IF(AA85>0,1,0) -> 0 | AD85: =IF(C85>$R$3,IF(C85<$R$4,1,0),0) -> 1 | AE85: =AA85*AD85 -> 0 | AF85: =AF84+AE85 -> 1038 | AG85: =X85*AD85 -> 0 | AH85: =IF(AE85>0,1,0) -> 0 | AI85: 1 | AJ85: =AA85*AI85 -> 0 | AK85: =IF(AJ85>0,1,0) -> 0 | AL85: =AI85*X85 -> 0 | AM85: =AM84+AJ85 -> 780 | AN85: =Z85*X85*AD85*AI85 -> 0 | AO85: =AO84+AN85 -> 873 | AP85: =X85*AD85*AI85 -> 0 | AQ85: =IF(AN85>0,1,0) -> 0 | AR85: 1 | AS85: =AA85*AR85 -> 0 | AT85: =AT84+AS85 -> 1295 | AU85: =IF(AS85>0,1,0) -> 0 | AV85: =IF(AS85<>0,1,0) -> 0 | AW85: =AR85*Q85 -> -94 | AX85: =AX84+AW85 -> 1690 | AY85: =IF(AW85>0,1,0) -> 0 | AZ85: =IF(AW85<>0,1,0) -> 1 | BA85: 1 | BB85: =BA85*AW85 -> -94 | BC85: =IF(BB85<>0,1,0) -> 1 | BD85: =IF(BB85>0,1,0) -> 0 | BE85: =AW85*AD85 -> -94 | BF85: =BF84+BE85 -> 1567 | BG85: =IF(BE85<>0,1,0) -> 1 | BH85: =IF(BE85>0,1,0) -> 0 | BI85: =AS85*AD85 -> 0 | BJ85: =BJ84+BI85 -> 1206 | BK85: =IF(BI85<>0,1,0) -> 0 | BL85: =IF(BI85>0,1,0) -> 0
A86: =IF(D86<>0,1,0) -> 1 | B86: 39610 | C86: 10 | D86: 132.93 | E86: 1 | F86: 133.63 | G86: 132.91 | H86: 133.85 | I86: 132.91 | J86: 130.84 | K86: 132.91 | L86: 1 | M86: 133.49 | N86: =ABS((G86-D86)*100) -> 2 | O86: =ABS((D86-H86)*100) -> 92 | P86: =((D86-J86)*100) -> 209 | Q86: =IF($E$3<N86,$E$3-$M$3,-O86-$M$3) -> -96 | R86: =R85+Q86 -> 1279 | S86: =IF(Q86>0,1,0) -> 0 | T86: =IF(C86>$R$3,IF(C86<$R$4,Q86,0),0) -> -96 | U86: =U85+T86 -> 1432 | V86: =IF(T86<>0,1,0) -> 1 | W86: =IF(T86>0,1,0) -> 0 | X86: =IF(N86>$Z$4,1,0) -> 0 | Y86: =IF(E86=0,(F86-D86)*100,(D87-K87)*100) -> 32 | Z86: =IF(N86>=($Z$4+$AA$4),$AA$4-$M$3,IF(N86>=$Z$4,-$Z$4-O86,0)) -> 0 | AA86: =X86*Z86 -> 0 | AB86: =AB85+AA86 -> 945 | AC86: =IF(AA86>0,1,0) -> 0 | AD86: =IF(C86>$R$3,IF(C86<$R$4,1,0),0) -> 1 | AE86: =AA86*AD86 -> 0 | AF86: =AF85+AE86 -> 1038 | AG86: =X86*AD86 -> 0 | AH86: =IF(AE86>0,1,0) -> 0 | AI86: 0 | AJ86: =AA86*AI86 -> 0 | AK86: =IF(AJ86>0,1,0) -> 0 | AL86: =AI86*X86 -> 0 | AM86: =AM85+AJ86 -> 780 | AN86: =Z86*X86*AD86*AI86 -> 0 | AO86: =AO85+AN86 -> 873 | AP86: =X86*AD86*AI86 -> 0 | AQ86: =IF(AN86>0,1,0) -> 0 | AR86: 0 | AS86: =AA86*AR86 -> 0 | AT86: =AT85+AS86 -> 1295 | AU86: =IF(AS86>0,1,0) -> 0 | AV86: =IF(AS86<>0,1,0) -> 0 | AW86: =AR86*Q86 -> 0 | AX86: =AX85+AW86 -> 1690 | AY86: =IF(AW86>0,1,0) -> 0 | AZ86: =IF(AW86<>0,1,0) -> 0 | BA86: 0 | BB86: =BA86*AW86 -> 0 | BC86: =IF(BB86<>0,1,0) -> 0 | BD86: =IF(BB86>0,1,0) -> 0 | BE86: =AW86*AD86 -> 0 | BF86: =BF85+BE86 -> 1567 | BG86: =IF(BE86<>0,1,0) -> 0 | BH86: =IF(BE86>0,1,0) -> 0 | BI86: =AS86*AD86 -> 0 | BJ86: =BJ85+BI86 -> 1206 | BK86: =IF(BI86<>0,1,0) -> 0 | BL86: =IF(BI86>0,1,0) -> 0
...

Sheet ELS_EMA200
B3: capital inicial | D3: 10000 | F3: max. Palanca | G3: 3
B4: capital total | E4: DD%MAX | F4: Barriles
B5: =SUM(B6:B1000)+D3 -> 46564.3 | E5: =MAX(E6:E527) -> 0.23559218 | F5: =SUM(F6:F1000) -> 523450
A6: =Datos!AS7 -> 156 | B6: =F6*A6/100 -> 1996.8 | C6: =D3+B6 -> 11996.8 | D6: =MAX($C$6:C6) -> 11996.8 | E6: =(D6-C6)/D6 -> 0 | F6: =INT(($D$3*$G$3/Datos!O7+Datos!$Z$4+Datos!$M$3)/10)*10 -> 1280
A7: =Datos!AS8 -> 0 | B7: =F7*A7/100 -> 0 | C7: =C6+B7 -> 11996.8 | D7: =MAX($C$6:C7) -> 11996.8 | E7: =(D7-C7)/D7 -> 0 | F7: =INT((C6*$G$3/(Datos!O7+Datos!$Z$4+Datos!$M$3))/10)*10 -> 620
