Workbook

Sheet Hoja1
B2: CALCULADORA ONDAS DE ELLIOT
B4: VALORES DE ONDA
A5: 0 | B5: 1.4021 | K5: PROMEDIO
A6: 1 | B6: 1.4085 | D6: Posibles Retrocesos a 2 | E6: =+Hoja2!G8 -> 1.4053 | F6: =+Hoja2!H8 -> 1.4045448 | K6: =+(F6+E6)/2 -> 1.4049224
A7: 2 | B7: 1.4026 | D7: Posibles Retrocesos a 3 | E7: =+Hoja2!J13 -> 1.4121462 | F7: =+Hoja2!K13 -> 1.4180462 | G7: =+Hoja2!J12 -> 1.4129552 | K7: =+(E7+G7)/2 -> 1.4125507
A8: 3 | B8: 1.4115 | D8: Posibles Retrocesos a 4 | E8: =+Hoja2!G18 -> 1.4068 | F8: =+Hoja2!F18 -> 1.4079092 | G8: =+Hoja2!J17 -> 1.4019538 | H8: =+Hoja2!I17 -> 1.4056 | I8: =+Hoja2!G16 -> 1.40705 | J8: =+Hoja2!F16 -> 1.4081002 | K8: =+(G8+F8+E8+J8)/4 -> 1.4061908
A9: 4 | B9: 1.4062 | D9: Posibles Retrocesos a 5 | E9: =+Hoja2!F22 -> 1.4097908 | F9: =+Hoja2!I21 -> 1.4126 | G9: =+Hoja2!H22 -> 1.4120092 | H9: =+Hoja2!K23 -> 1.4216462 | I9: =+Hoja2!J24 -> 1.4147754 | J9: =+Hoja2!J21 -> 1.4165552 | K9: =+(H9+G9+F9+E9)/4 -> 1.4140115
D11: OPCION 1 | F11: COMPRAR A: | H11: =+K6 -> 1.4049224
D12: OPCION 2 | F12: VENDER A: | H12: =+K7 -> 1.4125507
D13: OPCION 3 | F13: COMPRAR A: | H13: =+K8 -> 1.4061908
D14: OPCION 4 | F14: VENDER A: | H14: =+K9 -> 1.4140115
G16: Debo Suponer que por lo menos tienen un conocimiento
G17: básico a cerca de la Ondas de Elliot antes de utilizar esta calculadora
G19: Solo debe reempplazar los precios en las casillas celestes
G20: entendiendo que "0" es el inicio de una tendencia alcista
G23: IMPORTANTE
G24: Los datos y precios expresados en esta calculadora son resultados de
G25: formulas matemáticas y no representan una sugerencia de operación
G26: Entender los riesgos de Forex y conocer la base teórica de las "Ondas
G27: de Elliot" son requisitos irrenunciables antes de operar.

Sheet Hoja2
E1: 0.236 | F1: 0.382 | G1: 0.5 | H1: 0.618 | I1: 1 | J1: 1.618 | K1: 2.618
A3: 0 | B3: 1
A4: =+Hoja1!B5 -> 1.4021 | B4: =+A6 -> 1.4085 | D4: W1
A5: 1 | B5: 2 | D5: =+B4-A4 -> 0.0064
A6: =+Hoja1!B6 -> 1.4085 | B6: =+A11 -> 1.4026 | D6: W2
D7: =+A6-B6 -> 0.0059
F8: =+A6-(F1*D5) -> 1.4060552 | G8: =+A6-(G1*D5) -> 1.4053 | H8: =+A6-(H1*D5) -> 1.4045448
A10: 2 | B10: 3 | D10: W3
A11: =+Hoja1!B7 -> 1.4026 | B11: =+A15 -> 1.4115 | D11: =+B11-A11 -> 0.0089
I12: =+B6+(I1*D5) -> 1.409 | J12: =+A11+(J1*D5) -> 1.4129552
J13: =+A11+(J1*D7) -> 1.4121462 | K13: =+A11+(K1*D7) -> 1.4180462
A14: 3 | B14: 4 | D14: W1-3
A15: =+Hoja1!B8 -> 1.4115 | B15: =+A20 -> 1.4062 | D15: =+A15-A4 -> 0.0094
F16: =+A15-(F1*D11) -> 1.4081002 | G16: =+A15-(G1*D11) -> 1.40705 | H16: =+A15-(H1*D11) -> 1.4059998
H17: =+A15-(H1*D7) -> 1.4078538 | I17: =+A15-(I1*D7) -> 1.4056 | J17: =+A15-(J1*D7) -> 1.4019538
E18: =+A15-(E1*D15) -> 1.4092816 | F18: =+A15-(F1*D15) -> 1.4079092 | G18: =+A15-(G1*D15) -> 1.4068 | H18: =+A15-(H1*D15) -> 1.4056908
A19: 4 | D19: W4
A20: =+Hoja1!B9 -> 1.4062 | D20: =+A15-A20 -> 0.0053
I21: =+A20+(I1*D5) -> 1.4126 | J21: =+A20+(J1*D5) -> 1.4165552
F22: =+A20+(F1*D15) -> 1.4097908 | G22: =+A20+(G1*D15) -> 1.4109 | H22: =+A20+(H1*D15) -> 1.4120092
K23: =+A20+(K1*D7) -> 1.4216462
J24: =+A20+(J1*D20) -> 1.4147754

Sheet Hoja3
