Workbook

Sheet Resultado
A1: Indicar porcentaje
A2: -0.1 | E2: Resultado SESION | F2: Suma y sigue
A4: Fecha | B4: Sesion | C4: Profit buscado | D4: % Obtenido
F5: ='Resultado_sesiones - copia'!F2 -> 547.83
A6: ='Resultado_sesiones - copia'!A2 -> 2018.02.21 17:36 | B6: ='Resultado_sesiones - copia'!C2 -> USA | C6: ='Resultado_sesiones - copia'!I2 -> 10.96 | D6: ='Resultado_sesiones - copia'!K2 -> 1.14 | F6: =IF('Resultado_sesiones - copia'!D2>'Resultado_sesiones - copia'!N2,'Resultado_sesiones - copia'!F2+'Resultado_sesiones - copia'!H2,'Resultado_sesiones - copia'!F2+'Resultado_sesiones - copia'!N2) -> 554.08
A7: ='Resultado_sesiones - copia'!A3 -> 2018.02.22 02:51 | B7: ='Resultado_sesiones - copia'!C3 -> Asia | C7: ='Resultado_sesiones - copia'!I3 -> 11.1 | D7: ='Resultado_sesiones - copia'!K3 -> 2.11 | E7: =IF('Resultado_sesiones - copia'!D3>'Resultado_sesiones - copia'!N3,'Resultado_sesiones - copia'!H3,'Resultado_sesiones - copia'!N3) -> 11.68 | F7: =IF('Resultado_sesiones - copia'!D3>'Resultado_sesiones - copia'!N3,F6+'Resultado_sesiones - copia'!H3,Resultado!F6+'Resultado_sesiones - copia'!N3) -> 565.76
A8: ='Resultado_sesiones - copia'!A4 -> 2018.02.22 07:48 | B8: ='Resultado_sesiones - copia'!C4 -> Europa | C8: ='Resultado_sesiones - copia'!I4 -> 11.32 | D8: ='Resultado_sesiones - copia'!K4 -> 2.11 | E8: =IF('Resultado_sesiones - copia'!D4>'Resultado_sesiones - copia'!N4,'Resultado_sesiones - copia'!H4,'Resultado_sesiones - copia'!N4) -> 11.96 | F8: =IF('Resultado_sesiones - copia'!D4>'Resultado_sesiones - copia'!N4,F7+'Resultado_sesiones - copia'!H4,Resultado!F7+'Resultado_sesiones - copia'!N4) -> 577.72
A9: ='Resultado_sesiones - copia'!A5 -> 2018.02.22 14:59 | B9: ='Resultado_sesiones - copia'!C5 -> USA | C9: ='Resultado_sesiones - copia'!I5 -> 11.55 | D9: ='Resultado_sesiones - copia'!K5 -> 1.18 | E9: =IF('Resultado_sesiones - copia'!D5>'Resultado_sesiones - copia'!N5,'Resultado_sesiones - copia'!H5,'Resultado_sesiones - copia'!N5) -> 6.8 | F9: =IF('Resultado_sesiones - copia'!D5>'Resultado_sesiones - copia'!N5,F8+'Resultado_sesiones - copia'!H5,Resultado!F8+'Resultado_sesiones - copia'!N5) -> 584.52
A10: ='Resultado_sesiones - copia'!A6 -> 2018.02.23 04:33 | B10: ='Resultado_sesiones - copia'!C6 -> Asia | C10: ='Resultado_sesiones - copia'!I6 -> 11.7 | D10: ='Resultado_sesiones - copia'!K6 -> 0.08 | E10: =IF('Resultado_sesiones - copia'!D6>'Resultado_sesiones - copia'!N6,'Resultado_sesiones - copia'!H6,'Resultado_sesiones - copia'!N6) -> 0.48 | F10: =IF('Resultado_sesiones - copia'!D6>'Resultado_sesiones - copia'!N6,F9+'Resultado_sesiones - copia'!H6,Resultado!F9+'Resultado_sesiones - copia'!N6) -> 585
A11: ='Resultado_sesiones - copia'!A7 -> 2018.02.23 08:38 | B11: ='Resultado_sesiones - copia'!C7 -> Europa | C11: ='Resultado_sesiones - copia'!I7 -> 11.7 | D11: ='Resultado_sesiones - copia'!K7 -> 2.07 | E11: =IF('Resultado_sesiones - copia'!D7>'Resultado_sesiones - copia'!N7,'Resultado_sesiones - copia'!H7,'Resultado_sesiones - copia'!N7) -> 12.13 | F11: =IF('Resultado_sesiones - copia'!D7>'Resultado_sesiones - copia'!N7,F10+'Resultado_sesiones - copia'!H7,Resultado!F10+'Resultado_sesiones - copia'!N7) -> 597.13
A12: ='Resultado_sesiones - copia'!A8 -> 2018.02.23 15:12 | B12: ='Resultado_sesiones - copia'!C8 -> USA | C12: ='Resultado_sesiones - copia'!I8 -> 11.94 | D12: ='Resultado_sesiones - copia'!K8 -> 1.48 | E12: =IF('Resultado_sesiones - copia'!D8>'Resultado_sesiones - copia'!N8,'Resultado_sesiones - copia'!H8,'Resultado_sesiones - copia'!N8) -> 8.85 | F12: =IF('Resultado_sesiones - copia'!D8>'Resultado_sesiones - copia'!N8,F11+'Resultado_sesiones - copia'!H8,Resultado!F11+'Resultado_sesiones - copia'!N8) -> 605.98
A13: ='Resultado_sesiones - copia'!A9 -> 2018.02.26 05:03 | B13: ='Resultado_sesiones - copia'!C9 -> Asia | C13: ='Resultado_sesiones - copia'!I9 -> 12.1 | D13: ='Resultado_sesiones - copia'!K9 -> 2.22 | E13: =IF('Resultado_sesiones - copia'!D9>'Resultado_sesiones - copia'!N9,'Resultado_sesiones - copia'!H9,'Resultado_sesiones - copia'!N9) -> -60.598 | F13: =IF('Resultado_sesiones - copia'!D9>'Resultado_sesiones - copia'!N9,F12+'Resultado_sesiones - copia'!H9,Resultado!F12+'Resultado_sesiones - copia'!N9) -> 545.382
A14: ='Resultado_sesiones - copia'!A10 -> 2018.02.26 08:47 | B14: ='Resultado_sesiones - copia'!C10 -> Europa | C14: ='Resultado_sesiones - copia'!I10 -> 12.39 | D14: ='Resultado_sesiones - copia'!K10 -> 0.01 | E14: =IF('Resultado_sesiones - copia'!D10>'Resultado_sesiones - copia'!N10,'Resultado_sesiones - copia'!H10,'Resultado_sesiones - copia'!N10) -> 0.08 | F14: =IF('Resultado_sesiones - copia'!D10>'Resultado_sesiones - copia'!N10,F13+'Resultado_sesiones - copia'!H10,Resultado!F13+'Resultado_sesiones - copia'!N10) -> 545.462
A15: ='Resultado_sesiones - copia'!A11 -> 2018.02.26 16:12 | B15: ='Resultado_sesiones - copia'!C11 -> USA | C15: ='Resultado_sesiones - copia'!I11 -> 12.39 | D15: ='Resultado_sesiones - copia'!K11 -> 1.25 | E15: =IF('Resultado_sesiones - copia'!D11>'Resultado_sesiones - copia'!N11,'Resultado_sesiones - copia'!H11,'Resultado_sesiones - copia'!N11) -> 7.72 | F15: =IF('Resultado_sesiones - copia'!D11>'Resultado_sesiones - copia'!N11,F14+'Resultado_sesiones - copia'!H11,Resultado!F14+'Resultado_sesiones - copia'!N11) -> 553.182
A16: ='Resultado_sesiones - copia'!A12 -> 2018.02.27 01:41 | B16: ='Resultado_sesiones - copia'!C12 -> Asia | C16: ='Resultado_sesiones - copia'!I12 -> 12.5 | D16: ='Resultado_sesiones - copia'!K12 -> 1.12 | E16: =IF('Resultado_sesiones - copia'!D12>'Resultado_sesiones - copia'!N12,'Resultado_sesiones - copia'!H12,'Resultado_sesiones - copia'!N12) -> 7.03 | F16: =IF('Resultado_sesiones - copia'!D12>'Resultado_sesiones - copia'!N12,F15+'Resultado_sesiones - copia'!H12,Resultado!F15+'Resultado_sesiones - copia'!N12) -> 560.212
A17: ='Resultado_sesiones - copia'!A13 -> 2018.02.27 08:44 | B17: ='Resultado_sesiones - copia'!C13 -> Europa | C17: ='Resultado_sesiones - copia'!I13 -> 12.68 | D17: ='Resultado_sesiones - copia'!K13 -> 1.04 | E17: =IF('Resultado_sesiones - copia'!D13>'Resultado_sesiones - copia'!N13,'Resultado_sesiones - copia'!H13,'Resultado_sesiones - copia'!N13) -> 6.62 | F17: =IF('Resultado_sesiones - copia'!D13>'Resultado_sesiones - copia'!N13,F16+'Resultado_sesiones - copia'!H13,Resultado!F16+'Resultado_sesiones - copia'!N13) -> 566.832
A18: ='Resultado_sesiones - copia'!A14 -> 2018.02.27 15:18 | B18: ='Resultado_sesiones - copia'!C14 -> USA | C18: ='Resultado_sesiones - copia'!I14 -> 12.82 | D18: ='Resultado_sesiones - copia'!K14 -> 1.16 | E18: =IF('Resultado_sesiones - copia'!D14>'Resultado_sesiones - copia'!N14,'Resultado_sesiones - copia'!H14,'Resultado_sesiones - copia'!N14) -> 7.45 | F18: =IF('Resultado_sesiones - copia'!D14>'Resultado_sesiones - copia'!N14,F17+'Resultado_sesiones - copia'!H14,Resultado!F17+'Resultado_sesiones - copia'!N14) -> 574.282
... A103: ='Resultado_sesiones - copia'!A99 -> 0 | B103: ='Resultado_sesiones - copia'!C99 -> 0 | C103: ='Resultado_sesiones - copia'!I99 -> 0 | D103: ='Resultado_sesiones - copia'!K99 -> 0 | E103: =IF('Resultado_sesiones - copia'!D99>'Resultado_sesiones - copia'!N99,'Resultado_sesiones - copia'!H99,'Resultado_sesiones - copia'!N99) -> 0 | F103: =IF('Resultado_sesiones - copia'!D99>'Resultado_sesiones - copia'!N99,F102+'Resultado_sesiones - copia'!H99,Resultado!F102+'Resultado_sesiones - copia'!N99) -> 799.76

Sheet Resultado_sesiones - copia
A1: Time (local) | B1: Time (server) | C1: Sesion | D1: Maximo DD | E1: Max Profit | F1: Balance anterior | G1: Balance actual | H1: Beneficio sesion real | I1: Beneficio buscado | J1: Deslizamiento | K1: % Efectivo Sesion | L1: Hora inicio | P1: Porcentaje | Q1: =Resultado!A2 -> -0.1
A2: 2018.02.21 17:36 | B2: 2018.02.21 18:36 | C2: USA | D2: -10.05 | E2: 6.64 | F2: 547.83 | G2: 554.08 | H2: 6.25 | I2: 10.96 | J2: -4.7 | K2: 1.14 | L2: 0.63888889 | N2: =F2*Q2 -> -54.783 | Q2: =Q1 -> -0.1
A3: 2018.02.22 02:51 | B3: 2018.02.22 03:51 | C3: Asia | D3: -14.94 | E3: 12.29 | F3: 554.08 | G3: 565.76 | H3: 11.68 | I3: 11.1 | J3: 1 | K3: 2.11 | L3: 0.0069444444 | N3: =F3*Q3 -> -55.408 | Q3: =Q2 -> -0.1
A4: 2018.02.22 07:48 | B4: 2018.02.22 08:48 | C4: Europa | D4: -0.14 | E4: 12.24 | F4: 565.76 | G4: 577.72 | H4: 11.96 | I4: 11.32 | J4: 0.6 | K4: 2.11 | L4: 0.26180556 | N4: =F4*Q4 -> -56.576 | Q4: =Q3 -> -0.1
A5: 2018.02.22 14:59 | B5: 2018.02.22 15:59 | C5: USA | D5: -40.7 | E5: 6.76 | F5: 577.72 | G5: 584.52 | H5: 6.8 | I5: 11.55 | J5: -4.8 | K5: 1.18 | L5: 0.58402778 | N5: =F5*Q5 -> -57.772 | Q5: =Q4 -> -0.1
A6: 2018.02.23 04:33 | B6: 2018.02.23 05:33 | C6: Asia | D6: -1.79 | E6: 7.29 | F6: 584.52 | G6: 585 | H6: 0.48 | I6: 11.7 | J6: -11 | K6: 0.08 | L6: 0.030555556 | N6: =F6*Q6 -> -58.452 | Q6: =Q5 -> -0.1
A7: 2018.02.23 08:38 | B7: 2018.02.23 09:38 | C7: Europa | D7: -2.27 | E7: 12.9 | F7: 585 | G7: 597.13 | H7: 12.13 | I7: 11.7 | J7: 0.4 | K7: 2.07 | L7: 0.28055556 | N7: =F7*Q7 -> -58.5 | Q7: =Q6 -> -0.1
A8: 2018.02.23 15:12 | B8: 2018.02.23 16:12 | C8: USA | D8: -2.79 | E8: 8.94 | F8: 597.13 | G8: 605.98 | H8: 8.85 | I8: 11.94 | J8: -3.1 | K8: 1.48 | L8: 0.59027778 | N8: =F8*Q8 -> -59.713 | Q8: =Q7 -> -0.1
A9: 2018.02.26 05:03 | B9: 2018.02.26 06:03 | C9: Asia | D9: -86.75 | E9: 14.05 | F9: 605.98 | G9: 619.41 | H9: 13.43 | I9: 12.1 | J9: 1 | K9: 2.22 | L9: 0.0097222222 | N9: =F9*Q9 -> -60.598 | Q9: =Q8 -> -0.1
A10: 2018.02.26 08:47 | B10: 2018.02.26 09:47 | C10: Europa | D10: -1.91 | E10: 5.79 | F10: 619.41 | G10: 619.49 | H10: 0.08 | I10: 12.39 | J10: -12.3 | K10: 0.01 | L10: 0.30902778 | N10: =F10*Q10 -> -61.941 | Q10: =Q9 -> -0.1
A11: 2018.02.26 16:12 | B11: 2018.02.26 17:12 | C11: USA | D11: -46.52 | E11: 8.38 | F11: 619.49 | G11: 627.21 | H11: 7.72 | I11: 12.39 | J11: -4.7 | K11: 1.25 | L11: 0.58888889 | N11: =F11*Q11 -> -61.949 | Q11: =Q10 -> -0.1
A12: 2018.02.27 01:41 | B12: 2018.02.27 02:41 | C12: Asia | D12: -9.38 | E12: 7.73 | F12: 627.21 | G12: 634.24 | H12: 7.03 | I12: 12.5 | J12: -6 | K12: 1.12 | L12: 0.0055555556 | N12: =F12*Q12 -> -62.721 | Q12: =Q11 -> -0.1
A13: 2018.02.27 08:44 | B13: 2018.02.27 09:44 | C13: Europa | D13: -12.22 | E13: 7.44 | F13: 634.24 | G13: 640.86 | H13: 6.62 | I13: 12.68 | J13: -6.1 | K13: 1.04 | L13: 0.31041667 | N13: =F13*Q13 -> -63.424 | Q13: =Q12 -> -0.1
... A47: 2018.03.15 02:41 | B47: 2018.03.15 03:41 | C47: Asia | D47: -7.66 | E47: 15.81 | F47: 747.21 | G47: 762.12 | H47: 14.91 | I47: 14.9 | J47: 0 | K47: 2 | L47: 0.032638889 | N47: =F47*Q47 -> -74.721 | Q47: =Q46 -> -0.1
N48: =F48*Q48 -> 0 | Q48: =Q47 -> -0.1
N49: =F49*Q49 -> 0 | Q49: =Q48 -> -0.1
N50: =F50*Q50 -> 0 | Q50: =Q49 -> -0.1
N51: =F51*Q51 -> 0 | Q51: =Q50 -> -0.1
N52: =F52*Q52 -> 0 | Q52: =Q51 -> -0.1
N53: =F53*Q53 -> 0 | Q53: =Q52 -> -0.1
N54: =F54*Q54 -> 0 | Q54: =Q53 -> -0.1
N55: =F55*Q55 -> 0 | Q55: =Q54 -> -0.1
N56: =F56*Q56 -> 0 | Q56: =Q55 -> -0.1
N57: =F57*Q57 -> 0 | Q57: =Q56 -> -0.1
N58: =F58*Q58 -> 0 | Q58: =Q57 -> -0.1
N59: =F59*Q59 -> 0 | Q59: =Q58 -> -0.1
... N906: =F906*Q906 -> 0 | Q906: =Q905 -> -0.1
